{
 "currentVersion": 10.91,
 "serviceDescription": "DigitalDisruptions/Acadie1768_tif",
 "name": "DigitalDisruptions/Acadie1768_tif",
 "description": "",
 "extent": {
  "xmin": -7454851.079970942,
  "ymin": 5363934.012706321,
  "xmax": -6600333.336703929,
  "ymax": 5991338.835794487,
  "spatialReference": {
   "wkid": 102100,
   "latestWkid": 3857
  }
 },
 "initialExtent": {
  "xmin": -7454851.079970942,
  "ymin": 5363934.012706321,
  "xmax": -6600333.336703929,
  "ymax": 5991338.835794487,
  "spatialReference": {
   "wkid": 102100,
   "latestWkid": 3857
  }
 },
 "fullExtent": {
  "xmin": -7454851.079970942,
  "ymin": 5363934.012706321,
  "xmax": -6600333.336703929,
  "ymax": 5991338.835794487,
  "spatialReference": {
   "wkid": 102100,
   "latestWkid": 3857
  }
 },
 "hasMultidimensions": false,
 "pixelSizeX": 61.49821829917328,
 "pixelSizeY": 61.49821829917333,
 "datasetFormat": "TIFF",
 "uncompressedSize": 425270370,
 "blockWidth": 13895,
 "blockHeight": 1,
 "compressionType": "None",
 "bandNames": [
  "Band_1",
  "Band_2",
  "Band_3"
 ],
 "allowCopy": true,
 "allowAnalysis": true,
 "bandCount": 3,
 "pixelType": "U8",
 "minPixelSize": 0,
 "maxPixelSize": 0,
 "copyrightText": "",
 "serviceDataType": "esriImageServiceDataTypeRGB",
 "serviceSourceType": "esriImageServiceSourceTypeDataset",
 "minValues": [
  0,
  0,
  0
 ],
 "maxValues": [
  255,
  255,
  255
 ],
 "meanValues": [
  205.98586702616,
  179.38897332544,
  139.02859424227
 ],
 "stdvValues": [
  52.767654620825,
  45.967587349753,
  33.798427929971
 ],
 "objectIdField": "",
 "fields": [],
 "capabilities": "Image,Metadata,Mensuration",
 "defaultMosaicMethod": "Center",
 "allowedMosaicMethods": "",
 "sortField": "",
 "sortValue": null,
 "sortAscending": true,
 "mosaicOperator": "First",
 "defaultCompressionQuality": 75,
 "defaultResamplingMethod": "Bilinear",
 "maxImageHeight": 4100,
 "maxImageWidth": 15000,
 "allowRasterFunction": true,
 "rasterFunctionInfos": [
  {
   "name": "None",
   "description": "",
   "help": ""
  }
 ],
 "rasterTypeInfos": [
  {
   "name": "Raster Dataset",
   "description": "Supports all ArcGIS Raster Datasets",
   "help": ""
  }
 ],
 "mensurationCapabilities": "Basic",
 "hasHistograms": true,
 "hasColormap": false,
 "hasRasterAttributeTable": false,
 "minScale": 0,
 "maxScale": 0,
 "exportTilesAllowed": false,
 "supportsStatistics": false,
 "supportsAdvancedQueries": false,
 "editFieldsInfo": null,
 "ownershipBasedAccessControlForRasters": null,
 "allowComputeTiePoints": false,
 "useStandardizedQueries": true,
 "advancedQueryCapabilities": {
  "useStandardizedQueries": true,
  "supportsStatistics": false,
  "supportsOrderBy": false,
  "supportsDistinct": false,
  "supportsPagination": false
 },
 "spatialReference": {
  "wkid": 102100,
  "latestWkid": 3857
 }
}