{ "currentVersion": 10.91, "serviceDescription": "
Digital reproduction of map ( _ x _ in.) published in The Battle of Lundy\u2019s Lane, 25<\/SPAN>th<\/SPAN>July 1814. A Historical Study / by Ernest Cruikshank, published 1893.<\/SPAN><\/P> Includes detailed legend: \"Explanation of sketch of action of the 25th July, 1814\" bound to the left for the map.<\/SPAN><\/P> Map date of information: 1814. Bound in book published 1893.<\/SPAN><\/P> Relief shown by hachures.<\/SPAN><\/P> Georeferenced and modified from Brock University Archives & Special Collections call# <\/SPAN>FC 446 L8 C75 1893,<\/SPAN><\/P> by Map, Data and GIS Library, Brock University. <\/SPAN><\/P> <\/P> <\/P><\/DIV><\/DIV><\/DIV>",
"name": "EarlyNiagara/Battle_Lundys_Lane_1814_geo_tif",
"description": " Digital reproduction of map ( _ x _ in.) published in The Battle of Lundy\u2019s Lane, 25<\/SPAN>th<\/SPAN>July 1814. A Historical Study / by Ernest Cruikshank, published 1893.<\/SPAN><\/P> Includes detailed legend: \"Explanation of sketch of action of the 25th July, 1814\" bound to the left for the map.<\/SPAN><\/P> Map date of information: 1814. Bound in book published 1893.<\/SPAN><\/P> Relief shown by hachures.<\/SPAN><\/P> Georeferenced and modified from Brock University Archives & Special Collections call# <\/SPAN>FC 446 L8 C75 1893,<\/SPAN><\/P> by Map, Data and GIS Library, Brock University. <\/SPAN><\/P> <\/P> <\/P><\/DIV><\/DIV><\/DIV>",
"extent": {
"xmin": -8813142.380877966,
"ymin": 5319212.354417652,
"xmax": -8800104.374721967,
"ymax": 5331531.101039652,
"spatialReference": {
"wkid": 102100,
"latestWkid": 3857
}
},
"initialExtent": {
"xmin": -8813142.380877966,
"ymin": 5319212.354417652,
"xmax": -8800104.374721967,
"ymax": 5331531.101039652,
"spatialReference": {
"wkid": 102100,
"latestWkid": 3857
}
},
"fullExtent": {
"xmin": -8813142.380877966,
"ymin": 5319212.354417652,
"xmax": -8800104.374721967,
"ymax": 5331531.101039652,
"spatialReference": {
"wkid": 102100,
"latestWkid": 3857
}
},
"hasMultidimensions": false,
"pixelSizeX": 1.9028029999999092,
"pixelSizeY": 1.902802999999983,
"datasetFormat": "TIFF",
"uncompressedSize": 88719696,
"blockWidth": 128,
"blockHeight": 128,
"compressionType": "LZW",
"bandNames": [
"Band_1"
],
"allowCopy": true,
"allowAnalysis": true,
"bandCount": 1,
"noDataValue": 256,
"noDataValues": [
256
],
"pixelType": "U16",
"minPixelSize": 0,
"maxPixelSize": 0,
"copyrightText": "Map, Data & GIS Library, Brock University.",
"serviceDataType": "esriImageServiceDataTypeGeneric",
"serviceSourceType": "esriImageServiceSourceTypeDataset",
"minValues": [
0
],
"maxValues": [
255
],
"meanValues": [
195.31611893216
],
"stdvValues": [
46.21205550767
],
"objectIdField": "",
"fields": [],
"capabilities": "Image,Metadata,Mensuration",
"defaultMosaicMethod": "Center",
"allowedMosaicMethods": "",
"sortField": "",
"sortValue": null,
"sortAscending": true,
"mosaicOperator": "First",
"defaultCompressionQuality": 75,
"defaultResamplingMethod": "Bilinear",
"maxImageHeight": 4100,
"maxImageWidth": 15000,
"allowRasterFunction": true,
"rasterFunctionInfos": [
{
"name": "None",
"description": "",
"help": ""
}
],
"rasterTypeInfos": [
{
"name": "Raster Dataset",
"description": "Supports all ArcGIS Raster Datasets",
"help": ""
}
],
"mensurationCapabilities": "Basic",
"hasHistograms": true,
"hasColormap": false,
"hasRasterAttributeTable": false,
"minScale": 0,
"maxScale": 0,
"exportTilesAllowed": false,
"supportsStatistics": false,
"supportsAdvancedQueries": false,
"editFieldsInfo": null,
"ownershipBasedAccessControlForRasters": null,
"allowComputeTiePoints": false,
"useStandardizedQueries": true,
"advancedQueryCapabilities": {
"useStandardizedQueries": true,
"supportsStatistics": false,
"supportsOrderBy": false,
"supportsDistinct": false,
"supportsPagination": false
},
"spatialReference": {
"wkid": 102100,
"latestWkid": 3857
}
}