{
 "currentVersion": 10.91,
 "serviceDescription": "Historical map of Bridgewater Mills showing..... [500]Digital reproduction of map ( _ x _ in.) in the Public Archives of Canada. National Map Collection. Library and Archives Canada.Relief shown by _Georeferenced and modified from NMC Map number 21727 by Map, Data and GIS Library, Brock University. ",
 "name": "EarlyNiagara/BridgewaterMills1807NMC21727",
 "description": "Historical map of Bridgewater Mills showing..... [500]Digital reproduction of map ( _ x _ in.) in the Public Archives of Canada. National Map Collection. Library and Archives Canada.Relief shown by _Georeferenced and modified from NMC Map number 21727 by Map, Data and GIS Library, Brock University. ",
 "extent": {
  "xmin": 657107.5009673929,
  "ymin": 4769368.873552396,
  "xmax": 659155.7529033929,
  "ymax": 4770784.102744396,
  "spatialReference": {
   "wkid": 26917,
   "latestWkid": 26917
  }
 },
 "initialExtent": {
  "xmin": 657107.5009673929,
  "ymin": 4769368.873552396,
  "xmax": 659155.7529033929,
  "ymax": 4770784.102744396,
  "spatialReference": {
   "wkid": 26917,
   "latestWkid": 26917
  }
 },
 "fullExtent": {
  "xmin": 657107.5009673929,
  "ymin": 4769368.873552396,
  "xmax": 659155.7529033929,
  "ymax": 4770784.102744396,
  "spatialReference": {
   "wkid": 26917,
   "latestWkid": 26917
  }
 },
 "hasMultidimensions": false,
 "pixelSizeX": 0.5039989999999894,
 "pixelSizeY": 0.5039989999999581,
 "datasetFormat": "TIFF",
 "uncompressedSize": 22817808,
 "blockWidth": 128,
 "blockHeight": 128,
 "compressionType": "None",
 "bandNames": [
  "Band_1"
 ],
 "allowCopy": true,
 "allowAnalysis": true,
 "bandCount": 1,
 "noDataValue": 256,
 "noDataValues": [
  256
 ],
 "pixelType": "U16",
 "minPixelSize": 0,
 "maxPixelSize": 0,
 "copyrightText": "Map, Data & GIS Library, Brock University.",
 "serviceDataType": "esriImageServiceDataTypeGeneric",
 "serviceSourceType": "esriImageServiceSourceTypeDataset",
 "minValues": [
  0
 ],
 "maxValues": [
  255
 ],
 "meanValues": [
  152.85873435709
 ],
 "stdvValues": [
  22.236824855468
 ],
 "objectIdField": "",
 "fields": [],
 "capabilities": "Mensuration,Image,Metadata",
 "defaultMosaicMethod": "Center",
 "allowedMosaicMethods": "",
 "sortField": "",
 "sortValue": null,
 "sortAscending": true,
 "mosaicOperator": "First",
 "defaultCompressionQuality": 75,
 "defaultResamplingMethod": "Bilinear",
 "maxImageHeight": 4100,
 "maxImageWidth": 15000,
 "allowRasterFunction": true,
 "rasterFunctionInfos": [
  {
   "name": "None",
   "description": "",
   "help": ""
  }
 ],
 "rasterTypeInfos": [
  {
   "name": "Raster Dataset",
   "description": "Supports all ArcGIS Raster Datasets",
   "help": ""
  }
 ],
 "mensurationCapabilities": "Basic",
 "hasHistograms": true,
 "hasColormap": false,
 "hasRasterAttributeTable": false,
 "minScale": 0,
 "maxScale": 0,
 "exportTilesAllowed": false,
 "supportsStatistics": false,
 "supportsAdvancedQueries": false,
 "editFieldsInfo": null,
 "ownershipBasedAccessControlForRasters": null,
 "allowComputeTiePoints": false,
 "useStandardizedQueries": true,
 "advancedQueryCapabilities": {
  "useStandardizedQueries": true,
  "supportsStatistics": false,
  "supportsOrderBy": false,
  "supportsDistinct": false,
  "supportsPagination": false
 },
 "spatialReference": {
  "wkid": 26917,
  "latestWkid": 26917
 }
}
