{ "currentVersion": 10.91, "serviceDescription": "
Historical map of \"Canada West\" (current day Ontario), showing boundary, road and transportation features.<\/span><\/p> Digital reproduction of map (39 x 55 in.) in the Public Archives of Canada. National Map Collection. Library and Archives Canada.<\/span><\/p> \"published by A.J. Johnson, New York ; entered according to Act of Congress in the year 1867 by A.J. Johnson, in the Clerks Office of the District Court of the United States for the Southern District of New York.\"<\/span><\/p> Includes inset: Niagara River and vicinity, scale 1:633,600.<\/span><\/p> Georeferenced and modified from NMC Map number 2928 by Map, Data and GIS Library, Brock University. <\/span><\/p> <\/p><\/div><\/div><\/div>",
"name": "EarlyNiagara/CanadaWest1867NMC2928",
"description": " Historical map of \"Canada West\" (current day Ontario), showing boundary, road and transportation features.<\/span><\/p> Digital reproduction of map (39 x 55 in.) in the Public Archives of Canada. National Map Collection. Library and Archives Canada.<\/span><\/p> \"published by A.J. Johnson, New York ; entered according to Act of Congress in the year 1867 by A.J. Johnson, in the Clerks Office of the District Court of the United States for the Southern District of New York.\"<\/span><\/p> Includes inset: Niagara River and vicinity, scale 1:633,600.<\/span><\/p> Georeferenced and modified from NMC Map number 2928 by Map, Data and GIS Library, Brock University. <\/span><\/p> <\/p><\/div><\/div><\/div>",
"extent": {
"xmin": -9376277.254955411,
"ymin": 5066072.043197423,
"xmax": -8197140.362327411,
"ymax": 5892670.519457423,
"spatialReference": {
"wkid": 102100,
"latestWkid": 3857
}
},
"initialExtent": {
"xmin": -9376277.254955411,
"ymin": 5066072.043197423,
"xmax": -8197140.362327411,
"ymax": 5892670.519457423,
"spatialReference": {
"wkid": 102100,
"latestWkid": 3857
}
},
"fullExtent": {
"xmin": -9376277.254955411,
"ymin": 5066072.043197423,
"xmax": -8197140.362327411,
"ymax": 5892670.519457423,
"spatialReference": {
"wkid": 102100,
"latestWkid": 3857
}
},
"hasMultidimensions": false,
"pixelSizeX": 179.500212,
"pixelSizeY": 179.50021199999998,
"datasetFormat": "TIFF",
"uncompressedSize": 181501470,
"blockWidth": 128,
"blockHeight": 128,
"compressionType": "None",
"bandNames": [
"Band_1",
"Band_2",
"Band_3"
],
"allowCopy": true,
"allowAnalysis": true,
"bandCount": 3,
"noDataValue": 256,
"noDataValues": [
256,
256,
256
],
"pixelType": "U16",
"minPixelSize": 0,
"maxPixelSize": 0,
"copyrightText": "Map, Data & GIS Library, Brock University.",
"serviceDataType": "esriImageServiceDataTypeGeneric",
"serviceSourceType": "esriImageServiceSourceTypeDataset",
"minValues": [
44,
40,
38
],
"maxValues": [
237,
214,
198
],
"meanValues": [
193.90671143362,
173.82492212472,
153.74378218748
],
"stdvValues": [
36.476730451728,
35.204096339793,
30.294151031755
],
"objectIdField": "",
"fields": [],
"capabilities": "Mensuration,Image,Metadata",
"defaultMosaicMethod": "Center",
"allowedMosaicMethods": "",
"sortField": "",
"sortValue": null,
"sortAscending": true,
"mosaicOperator": "First",
"defaultCompressionQuality": 75,
"defaultResamplingMethod": "Bilinear",
"maxImageHeight": 4100,
"maxImageWidth": 15000,
"allowRasterFunction": true,
"rasterFunctionInfos": [
{
"name": "None",
"description": "",
"help": ""
}
],
"rasterTypeInfos": [
{
"name": "Raster Dataset",
"description": "Supports all ArcGIS Raster Datasets",
"help": ""
}
],
"mensurationCapabilities": "Basic",
"hasHistograms": true,
"hasColormap": false,
"hasRasterAttributeTable": false,
"minScale": 0,
"maxScale": 0,
"exportTilesAllowed": false,
"supportsStatistics": false,
"supportsAdvancedQueries": false,
"editFieldsInfo": null,
"ownershipBasedAccessControlForRasters": null,
"allowComputeTiePoints": false,
"useStandardizedQueries": true,
"advancedQueryCapabilities": {
"useStandardizedQueries": true,
"supportsStatistics": false,
"supportsOrderBy": false,
"supportsDistinct": false,
"supportsPagination": false
},
"spatialReference": {
"wkid": 102100,
"latestWkid": 3857
}
}