{ "currentVersion": 10.91, "serviceDescription": "
Historical map showing streets, railroads, lot and concession numbers, ward boundaries and county boundaries.<\/SPAN><\/P> Scale 10 chains to an inch<\/SPAN><\/P> Map date: 1879<\/SPAN><\/P> Map is page 21 of the Atlas of the province of Ontario by counties / published by Miles and Company, Toronto<\/SPAN><\/P> Digital reproduction of map (23 x 29 cm.) in the Brock University Map, Data & GIS Library collection. <\/SPAN><\/P> Georeferenced and modified from Brock call # G 3464 S35 1879 M55 by Map, Data and GIS Library, Brock University. (verso map)<\/SPAN><\/P><\/DIV><\/DIV><\/DIV>",
"name": "EarlyNiagara/Cayuga1879",
"description": " Historical map showing streets, railroads, lot and concession numbers, ward boundaries and county boundaries.<\/SPAN><\/P> Scale 10 chains to an inch<\/SPAN><\/P> Map date: 1879<\/SPAN><\/P> Map is page 21 of the Atlas of the province of Ontario by counties / published by Miles and Company, Toronto<\/SPAN><\/P> Digital reproduction of map (23 x 29 cm.) in the Brock University Map, Data & GIS Library collection. <\/SPAN><\/P> Georeferenced and modified from Brock call # G 3464 S35 1879 M55 by Map, Data and GIS Library, Brock University. (verso map)<\/SPAN><\/P><\/DIV><\/DIV><\/DIV>",
"extent": {
"xmin": 591347.8236375074,
"ymin": 4754366.178942066,
"xmax": 594600.4473225074,
"ymax": 4757262.479652066,
"spatialReference": {
"wkid": 26917,
"latestWkid": 26917
}
},
"initialExtent": {
"xmin": 591347.8236375074,
"ymin": 4754366.178942066,
"xmax": 594600.4473225074,
"ymax": 4757262.479652066,
"spatialReference": {
"wkid": 26917,
"latestWkid": 26917
}
},
"fullExtent": {
"xmin": 591347.8236375074,
"ymin": 4754366.178942066,
"xmax": 594600.4473225074,
"ymax": 4757262.479652066,
"spatialReference": {
"wkid": 26917,
"latestWkid": 26917
}
},
"hasMultidimensions": false,
"pixelSizeX": 1.3446149999999994,
"pixelSizeY": 1.3446150000000454,
"datasetFormat": "TIFF",
"uncompressedSize": 31263156,
"blockWidth": 128,
"blockHeight": 128,
"compressionType": "None",
"bandNames": [
"Band_1",
"Band_2",
"Band_3"
],
"allowCopy": true,
"allowAnalysis": true,
"bandCount": 3,
"noDataValue": 256,
"noDataValues": [
256,
256,
256
],
"pixelType": "U16",
"minPixelSize": 0,
"maxPixelSize": 0,
"copyrightText": "Publisher: Miles and Company, Toronto\nMap, Data & GIS Library, Brock University.",
"serviceDataType": "esriImageServiceDataTypeGeneric",
"serviceSourceType": "esriImageServiceSourceTypeDataset",
"minValues": [
1,
0,
0
],
"maxValues": [
255,
255,
255
],
"meanValues": [
202.10832381158,
180.14122345469,
148.6200146392
],
"stdvValues": [
33.499003334715,
30.646459372932,
26.881462660276
],
"objectIdField": "",
"fields": [],
"capabilities": "Image,Metadata,Mensuration",
"defaultMosaicMethod": "Center",
"allowedMosaicMethods": "",
"sortField": "",
"sortValue": null,
"sortAscending": true,
"mosaicOperator": "First",
"defaultCompressionQuality": 75,
"defaultResamplingMethod": "Bilinear",
"maxImageHeight": 4100,
"maxImageWidth": 15000,
"allowRasterFunction": true,
"rasterFunctionInfos": [
{
"name": "None",
"description": "",
"help": ""
}
],
"rasterTypeInfos": [
{
"name": "Raster Dataset",
"description": "Supports all ArcGIS Raster Datasets",
"help": ""
}
],
"mensurationCapabilities": "Basic",
"hasHistograms": true,
"hasColormap": false,
"hasRasterAttributeTable": false,
"minScale": 0,
"maxScale": 0,
"exportTilesAllowed": false,
"supportsStatistics": false,
"supportsAdvancedQueries": false,
"editFieldsInfo": null,
"ownershipBasedAccessControlForRasters": null,
"allowComputeTiePoints": false,
"useStandardizedQueries": true,
"advancedQueryCapabilities": {
"useStandardizedQueries": true,
"supportsStatistics": false,
"supportsOrderBy": false,
"supportsDistinct": false,
"supportsPagination": false
},
"spatialReference": {
"wkid": 26917,
"latestWkid": 26917
}
}