{ "currentVersion": 10.91, "serviceDescription": "
Historical map showing Chippawa Creek and the Military Reserve alongside several buildings. The shoreline and conditions of the Niagara River (i.e. course of raft and mill race) heading towards Bridgewater Mills (Fort Erie) are drawn. \"McGill and Canby's Upper Boundary\" and three other mill sites are noted.<\/SPAN><\/P> Relief shown by shading.<\/SPAN><\/P> Map date: 1807<\/SPAN><\/P> Digital reproduction of map ( 33 x 85 cm.) in the Public Archives of Canada. National Map Collection. Library and Archives Canada.<\/SPAN><\/P> Georeferenced and modified from NMC Map number 21726 by Map, Data and GIS Library, Brock University. <\/SPAN><\/P> <\/P><\/DIV><\/DIV><\/DIV>",
"name": "EarlyNiagara/Chippawa1807NMC21726",
"description": " Historical map showing Chippawa Creek and the Military Reserve alongside several buildings. The shoreline and conditions of the Niagara River (i.e. course of raft and mill race) heading towards Bridgewater Mills (Fort Erie) are drawn. \"McGill and Canby's Upper Boundary\" and three other mill sites are noted.<\/SPAN><\/P> Relief shown by shading.<\/SPAN><\/P> Map date: 1807<\/SPAN><\/P> Digital reproduction of map ( 33 x 85 cm.) in the Public Archives of Canada. National Map Collection. Library and Archives Canada.<\/SPAN><\/P> Georeferenced and modified from NMC Map number 21726 by Map, Data and GIS Library, Brock University. <\/SPAN><\/P> <\/P><\/DIV><\/DIV><\/DIV>",
"extent": {
"xmin": 657077.6084922223,
"ymin": 4769368.23336192,
"xmax": 659243.2397002223,
"ymax": 4770809.7489179205,
"spatialReference": {
"wkid": 26917,
"latestWkid": 26917
}
},
"initialExtent": {
"xmin": 657077.6084922223,
"ymin": 4769368.23336192,
"xmax": 659243.2397002223,
"ymax": 4770809.7489179205,
"spatialReference": {
"wkid": 26917,
"latestWkid": 26917
}
},
"fullExtent": {
"xmin": 657077.6084922223,
"ymin": 4769368.23336192,
"xmax": 659243.2397002223,
"ymax": 4770809.7489179205,
"spatialReference": {
"wkid": 26917,
"latestWkid": 26917
}
},
"hasMultidimensions": false,
"pixelSizeX": 0.3950440000000011,
"pixelSizeY": 0.3950440000000474,
"datasetFormat": "TIFF",
"uncompressedSize": 40007636,
"blockWidth": 128,
"blockHeight": 128,
"compressionType": "None",
"bandNames": [
"Band_1"
],
"allowCopy": true,
"allowAnalysis": true,
"bandCount": 1,
"noDataValue": 256,
"noDataValues": [
256
],
"pixelType": "U16",
"minPixelSize": 0,
"maxPixelSize": 0,
"copyrightText": "[\"Signed\"]",
"serviceDataType": "esriImageServiceDataTypeGeneric",
"serviceSourceType": "esriImageServiceSourceTypeDataset",
"minValues": [
15
],
"maxValues": [
255
],
"meanValues": [
177.88593869405
],
"stdvValues": [
20.546241845744
],
"objectIdField": "",
"fields": [],
"capabilities": "Image,Metadata,Mensuration",
"defaultMosaicMethod": "Center",
"allowedMosaicMethods": "",
"sortField": "",
"sortValue": null,
"sortAscending": true,
"mosaicOperator": "First",
"defaultCompressionQuality": 75,
"defaultResamplingMethod": "Bilinear",
"maxImageHeight": 4100,
"maxImageWidth": 15000,
"allowRasterFunction": true,
"rasterFunctionInfos": [
{
"name": "None",
"description": "",
"help": ""
}
],
"rasterTypeInfos": [
{
"name": "Raster Dataset",
"description": "Supports all ArcGIS Raster Datasets",
"help": ""
}
],
"mensurationCapabilities": "Basic",
"hasHistograms": true,
"hasColormap": false,
"hasRasterAttributeTable": false,
"minScale": 0,
"maxScale": 0,
"exportTilesAllowed": false,
"supportsStatistics": false,
"supportsAdvancedQueries": false,
"editFieldsInfo": null,
"ownershipBasedAccessControlForRasters": null,
"allowComputeTiePoints": false,
"useStandardizedQueries": true,
"advancedQueryCapabilities": {
"useStandardizedQueries": true,
"supportsStatistics": false,
"supportsOrderBy": false,
"supportsDistinct": false,
"supportsPagination": false
},
"spatialReference": {
"wkid": 26917,
"latestWkid": 26917
}
}