{ "currentVersion": 10.91, "serviceDescription": "
Historical map showing the land reserved for the fort, barracks and stores at the entrance of the Chippewa Creek and the Niagara River. <\/span><\/p> Signed Gother Mann, \"Licence of occupation\" granted to Wm. Smith, 14 April 1819 signed by T. Ridout, Copy J.G.G. 16 April 1835 signed S.P. Hurd\"<\/span><\/p> Relief shown by shading.<\/span><\/p> Digital reproduction of map (18 3/4 x 23 1/2 in.), in Library and Archives Canada<\/span><\/p> Georeferenced and modified from NMC Map number 3767, Library and Archives Canada.<\/span><\/p> <\/p><\/div><\/div><\/div>",
"name": "EarlyNiagara/Chippawa1819NMC3767",
"description": " Historical map showing the land reserved for the fort, barracks and stores at the entrance of the Chippewa Creek and the Niagara River. <\/span><\/p> Signed Gother Mann, \"Licence of occupation\" granted to Wm. Smith, 14 April 1819 signed by T. Ridout, Copy J.G.G. 16 April 1835 signed S.P. Hurd\"<\/span><\/p> Relief shown by shading.<\/span><\/p> Digital reproduction of map (18 3/4 x 23 1/2 in.), in Library and Archives Canada<\/span><\/p> Georeferenced and modified from NMC Map number 3767, Library and Archives Canada.<\/span><\/p> <\/p><\/div><\/div><\/div>",
"extent": {
"xmin": -8800428.801782599,
"ymin": 5320906.307175925,
"xmax": -8799095.575810598,
"ymax": 5322161.972069925,
"spatialReference": {
"wkid": 102100,
"latestWkid": 3857
}
},
"initialExtent": {
"xmin": -8800428.801782599,
"ymin": 5320906.307175925,
"xmax": -8799095.575810598,
"ymax": 5322161.972069925,
"spatialReference": {
"wkid": 102100,
"latestWkid": 3857
}
},
"fullExtent": {
"xmin": -8800428.801782599,
"ymin": 5320906.307175925,
"xmax": -8799095.575810598,
"ymax": 5322161.972069925,
"spatialReference": {
"wkid": 102100,
"latestWkid": 3857
}
},
"hasMultidimensions": false,
"pixelSizeX": 0.2576780000000985,
"pixelSizeY": 0.25767799999993757,
"datasetFormat": "TIFF",
"uncompressedSize": 50425804,
"blockWidth": 128,
"blockHeight": 128,
"compressionType": "None",
"bandNames": [
"Band_1"
],
"allowCopy": true,
"allowAnalysis": true,
"bandCount": 1,
"noDataValue": 256,
"noDataValues": [
256
],
"pixelType": "U16",
"minPixelSize": 0,
"maxPixelSize": 0,
"copyrightText": "Map, Data & GIS Library, Brock University.",
"serviceDataType": "esriImageServiceDataTypeGeneric",
"serviceSourceType": "esriImageServiceSourceTypeDataset",
"minValues": [
0
],
"maxValues": [
255
],
"meanValues": [
187.33867603069
],
"stdvValues": [
45.199991119329
],
"objectIdField": "",
"fields": [],
"capabilities": "Mensuration,Image,Metadata",
"defaultMosaicMethod": "Center",
"allowedMosaicMethods": "",
"sortField": "",
"sortValue": null,
"sortAscending": true,
"mosaicOperator": "First",
"defaultCompressionQuality": 75,
"defaultResamplingMethod": "Bilinear",
"maxImageHeight": 4100,
"maxImageWidth": 15000,
"allowRasterFunction": true,
"rasterFunctionInfos": [
{
"name": "None",
"description": "",
"help": ""
}
],
"rasterTypeInfos": [
{
"name": "Raster Dataset",
"description": "Supports all ArcGIS Raster Datasets",
"help": ""
}
],
"mensurationCapabilities": "Basic",
"hasHistograms": true,
"hasColormap": false,
"hasRasterAttributeTable": false,
"minScale": 0,
"maxScale": 0,
"exportTilesAllowed": false,
"supportsStatistics": false,
"supportsAdvancedQueries": false,
"editFieldsInfo": null,
"ownershipBasedAccessControlForRasters": null,
"allowComputeTiePoints": false,
"useStandardizedQueries": true,
"advancedQueryCapabilities": {
"useStandardizedQueries": true,
"supportsStatistics": false,
"supportsOrderBy": false,
"supportsDistinct": false,
"supportsPagination": false
},
"spatialReference": {
"wkid": 102100,
"latestWkid": 3857
}
}