{ "currentVersion": 10.91, "serviceDescription": "
Historical map showing the mouth of the Welland River at Chippawa and the surrounding lands. The Old Battery, Old Fort, Stone House, Jas. Cummings Esq. house, and military ground are indicated. The bridge (current and previous), roads, and cut are drawn. It includes a cross section of the canal (Welland River).<\/span><\/p> Digital reproduction of map 30 x 30 cm.) in the Public Archives of Canada. National Map Collection. Library and Archives Canada.<\/span><\/p> Relief shown by shading.<\/span><\/p> Georeferenced and modified from NMC Map number 5236 by Map, Data and GIS Library, Brock University. <\/span><\/p> <\/p><\/div><\/div><\/div>",
"name": "EarlyNiagara/Chippawa1829NMC5236",
"description": " Historical map showing the mouth of the Welland River at Chippawa and the surrounding lands. The Old Battery, Old Fort, Stone House, Jas. Cummings Esq. house, and military ground are indicated. The bridge (current and previous), roads, and cut are drawn. It includes a cross section of the canal (Welland River).<\/span><\/p> Digital reproduction of map 30 x 30 cm.) in the Public Archives of Canada. National Map Collection. Library and Archives Canada.<\/span><\/p> Relief shown by shading.<\/span><\/p> Georeferenced and modified from NMC Map number 5236 by Map, Data and GIS Library, Brock University. <\/span><\/p> <\/p><\/div><\/div><\/div>",
"extent": {
"xmin": 658362.9470879287,
"ymin": 4769130.046597732,
"xmax": 659563.2302034746,
"ymax": 4770169.985751705,
"spatialReference": {
"wkid": 26917,
"latestWkid": 26917
}
},
"initialExtent": {
"xmin": 658362.9470879287,
"ymin": 4769130.046597732,
"xmax": 659563.2302034746,
"ymax": 4770169.985751705,
"spatialReference": {
"wkid": 26917,
"latestWkid": 26917
}
},
"fullExtent": {
"xmin": 658362.9470879287,
"ymin": 4769130.046597732,
"xmax": 659563.2302034746,
"ymax": 4770169.985751705,
"spatialReference": {
"wkid": 26917,
"latestWkid": 26917
}
},
"hasMultidimensions": false,
"pixelSizeX": 0.3000707788864966,
"pixelSizeY": 0.2634091068827288,
"datasetFormat": "TIFF",
"uncompressedSize": 47352159,
"blockWidth": 4000,
"blockHeight": 21,
"compressionType": "LZW",
"bandNames": [
"Band_1",
"Band_2",
"Band_3"
],
"allowCopy": true,
"allowAnalysis": true,
"bandCount": 3,
"pixelType": "U8",
"minPixelSize": 0,
"maxPixelSize": 0,
"copyrightText": "Map, Data & GIS Library, Brock University.",
"serviceDataType": "esriImageServiceDataTypeRGB",
"serviceSourceType": "esriImageServiceSourceTypeDataset",
"minValues": [],
"maxValues": [],
"meanValues": [],
"stdvValues": [],
"objectIdField": "",
"fields": [],
"capabilities": "Mensuration,Image,Metadata",
"defaultMosaicMethod": "Center",
"allowedMosaicMethods": "",
"sortField": "",
"sortValue": null,
"sortAscending": true,
"mosaicOperator": "First",
"defaultCompressionQuality": 75,
"defaultResamplingMethod": "Bilinear",
"maxImageHeight": 4100,
"maxImageWidth": 15000,
"allowRasterFunction": true,
"rasterFunctionInfos": [
{
"name": "None",
"description": "",
"help": ""
}
],
"rasterTypeInfos": [
{
"name": "Raster Dataset",
"description": "Supports all ArcGIS Raster Datasets",
"help": ""
}
],
"mensurationCapabilities": "Basic",
"hasHistograms": false,
"hasColormap": false,
"hasRasterAttributeTable": false,
"minScale": 0,
"maxScale": 0,
"exportTilesAllowed": false,
"supportsStatistics": false,
"supportsAdvancedQueries": false,
"editFieldsInfo": null,
"ownershipBasedAccessControlForRasters": null,
"allowComputeTiePoints": false,
"useStandardizedQueries": true,
"advancedQueryCapabilities": {
"useStandardizedQueries": true,
"supportsStatistics": false,
"supportsOrderBy": false,
"supportsDistinct": false,
"supportsPagination": false
},
"spatialReference": {
"wkid": 26917,
"latestWkid": 26917
}
}