{ "currentVersion": 10.91, "serviceDescription": "
Historical map showing the southern section of the Niagara Peninsula, towns, creeks, the First Welland Canal and roads with commentary on their conditions.<\/span><\/p> (Signed) R.J. Barou...(A true copy) F.A. Mackenzie Fraser<\/span><\/p> Digital reproduction of map in the Public Archives of Canada. National Map Collection. Library and Archives Canada.<\/span><\/p> Georeferenced and modified from NMC Map number 3007 by Map, Data and GIS Library, Brock University. <\/span><\/p> <\/p><\/div><\/div><\/div>",
"name": "EarlyNiagara/Chippewa1838NMC3007",
"description": " Historical map showing the southern section of the Niagara Peninsula, towns, creeks, the First Welland Canal and roads with commentary on their conditions.<\/span><\/p> (Signed) R.J. Barou...(A true copy) F.A. Mackenzie Fraser<\/span><\/p> Digital reproduction of map in the Public Archives of Canada. National Map Collection. Library and Archives Canada.<\/span><\/p> Georeferenced and modified from NMC Map number 3007 by Map, Data and GIS Library, Brock University. <\/span><\/p> <\/p><\/div><\/div><\/div>",
"extent": {
"xmin": 562400.2123629536,
"ymin": 4690511.931540285,
"xmax": 669117.5772429536,
"ymax": 4785200.274580285,
"spatialReference": {
"wkid": 26917,
"latestWkid": 26917
}
},
"initialExtent": {
"xmin": 562400.2123629536,
"ymin": 4690511.931540285,
"xmax": 669117.5772429536,
"ymax": 4785200.274580285,
"spatialReference": {
"wkid": 26917,
"latestWkid": 26917
}
},
"fullExtent": {
"xmin": 562400.2123629536,
"ymin": 4690511.931540285,
"xmax": 669117.5772429536,
"ymax": 4785200.274580285,
"spatialReference": {
"wkid": 26917,
"latestWkid": 26917
}
},
"hasMultidimensions": false,
"pixelSizeX": 16.081580000000002,
"pixelSizeY": 16.081579999999953,
"datasetFormat": "TIFF",
"uncompressedSize": 78133760,
"blockWidth": 128,
"blockHeight": 128,
"compressionType": "None",
"bandNames": [
"Band_1"
],
"allowCopy": true,
"allowAnalysis": true,
"bandCount": 1,
"noDataValue": 256,
"noDataValues": [
256
],
"pixelType": "U16",
"minPixelSize": 0,
"maxPixelSize": 0,
"copyrightText": "Map, Data & GIS Library, Brock University.",
"serviceDataType": "esriImageServiceDataTypeGeneric",
"serviceSourceType": "esriImageServiceSourceTypeDataset",
"minValues": [
25
],
"maxValues": [
232
],
"meanValues": [
190.68376655697
],
"stdvValues": [
20.76504422926
],
"objectIdField": "",
"fields": [],
"capabilities": "Mensuration,Image,Metadata",
"defaultMosaicMethod": "Center",
"allowedMosaicMethods": "",
"sortField": "",
"sortValue": null,
"sortAscending": true,
"mosaicOperator": "First",
"defaultCompressionQuality": 75,
"defaultResamplingMethod": "Bilinear",
"maxImageHeight": 4100,
"maxImageWidth": 15000,
"allowRasterFunction": true,
"rasterFunctionInfos": [
{
"name": "None",
"description": "",
"help": ""
}
],
"rasterTypeInfos": [
{
"name": "Raster Dataset",
"description": "Supports all ArcGIS Raster Datasets",
"help": ""
}
],
"mensurationCapabilities": "Basic",
"hasHistograms": true,
"hasColormap": false,
"hasRasterAttributeTable": false,
"minScale": 0,
"maxScale": 0,
"exportTilesAllowed": false,
"supportsStatistics": false,
"supportsAdvancedQueries": false,
"editFieldsInfo": null,
"ownershipBasedAccessControlForRasters": null,
"allowComputeTiePoints": false,
"useStandardizedQueries": true,
"advancedQueryCapabilities": {
"useStandardizedQueries": true,
"supportsStatistics": false,
"supportsOrderBy": false,
"supportsDistinct": false,
"supportsPagination": false
},
"spatialReference": {
"wkid": 26917,
"latestWkid": 26917
}
}