{ "currentVersion": 10.91, "serviceDescription": "
Historical map showing the mouth of the Chippawa Creek at the Niagara River, the 'Chippewa Cut', Hog Island, the 'old fort' and 'barracades'<\/SPAN><\/P> Scale [1:1,200] or 100 ft. to 1 in.<\/SPAN><\/P> Map date: 1841<\/SPAN><\/P> Digital reproduction of map (37 x 36 cm.) in the Public Archives of Canada. National Map Collection. Library and Archives Canada.<\/SPAN><\/P> Georeferenced and modified from NMC Map number 3769 by Map, Data and GIS Library, Brock University. <\/SPAN><\/P> <\/P><\/DIV><\/DIV><\/DIV>",
"name": "EarlyNiagara/Chippewa1841NMC3769",
"description": " Historical map showing the mouth of the Chippawa Creek at the Niagara River, the 'Chippewa Cut', Hog Island, the 'old fort' and 'barracades'<\/SPAN><\/P> Scale [1:1,200] or 100 ft. to 1 in.<\/SPAN><\/P> Map date: 1841<\/SPAN><\/P> Digital reproduction of map (37 x 36 cm.) in the Public Archives of Canada. National Map Collection. Library and Archives Canada.<\/SPAN><\/P> Georeferenced and modified from NMC Map number 3769 by Map, Data and GIS Library, Brock University. <\/SPAN><\/P> <\/P><\/DIV><\/DIV><\/DIV>",
"extent": {
"xmin": 658570.8697855773,
"ymin": 4769254.923905326,
"xmax": 659255.5845235772,
"ymax": 4769916.936782326,
"spatialReference": {
"wkid": 26917,
"latestWkid": 26917
}
},
"initialExtent": {
"xmin": 658570.8697855773,
"ymin": 4769254.923905326,
"xmax": 659255.5845235772,
"ymax": 4769916.936782326,
"spatialReference": {
"wkid": 26917,
"latestWkid": 26917
}
},
"fullExtent": {
"xmin": 658570.8697855773,
"ymin": 4769254.923905326,
"xmax": 659255.5845235772,
"ymax": 4769916.936782326,
"spatialReference": {
"wkid": 26917,
"latestWkid": 26917
}
},
"hasMultidimensions": false,
"pixelSizeX": 0.08315699999999411,
"pixelSizeY": 0.08315699999994529,
"datasetFormat": "TIFF",
"uncompressedSize": 131101748,
"blockWidth": 128,
"blockHeight": 128,
"compressionType": "None",
"bandNames": [
"Band_1"
],
"allowCopy": true,
"allowAnalysis": true,
"bandCount": 1,
"noDataValue": 256,
"noDataValues": [
256
],
"pixelType": "U16",
"minPixelSize": 0,
"maxPixelSize": 0,
"copyrightText": "[\"signed\"]",
"serviceDataType": "esriImageServiceDataTypeGeneric",
"serviceSourceType": "esriImageServiceSourceTypeDataset",
"minValues": [
16
],
"maxValues": [
243
],
"meanValues": [
168.51376087915
],
"stdvValues": [
17.320504693674
],
"objectIdField": "",
"fields": [],
"capabilities": "Image,Metadata,Mensuration",
"defaultMosaicMethod": "Center",
"allowedMosaicMethods": "",
"sortField": "",
"sortValue": null,
"sortAscending": true,
"mosaicOperator": "First",
"defaultCompressionQuality": 75,
"defaultResamplingMethod": "Bilinear",
"maxImageHeight": 4100,
"maxImageWidth": 15000,
"allowRasterFunction": true,
"rasterFunctionInfos": [
{
"name": "None",
"description": "",
"help": ""
}
],
"rasterTypeInfos": [
{
"name": "Raster Dataset",
"description": "Supports all ArcGIS Raster Datasets",
"help": ""
}
],
"mensurationCapabilities": "Basic",
"hasHistograms": true,
"hasColormap": false,
"hasRasterAttributeTable": false,
"minScale": 0,
"maxScale": 0,
"exportTilesAllowed": false,
"supportsStatistics": false,
"supportsAdvancedQueries": false,
"editFieldsInfo": null,
"ownershipBasedAccessControlForRasters": null,
"allowComputeTiePoints": false,
"useStandardizedQueries": true,
"advancedQueryCapabilities": {
"useStandardizedQueries": true,
"supportsStatistics": false,
"supportsOrderBy": false,
"supportsDistinct": false,
"supportsPagination": false
},
"spatialReference": {
"wkid": 26917,
"latestWkid": 26917
}
}