{
 "currentVersion": 10.91,
 "serviceDescription": "<DIV STYLE=\"text-align:Left;\"><DIV><DIV><P><SPAN>Historical map showing the First and Second Welland Canal where the Welland River (Chippewa Creek) joins the Niagara River, with the Chippewa cut and Hog Island. Includes buildings (barracks), and line of piles.<\/SPAN><\/P><P><SPAN>Map date: [1845]<\/SPAN><\/P><P><SPAN>Digital reproduction of map (16 x 20 1/2 in.) in the Public Archives of Canada. National Map Collection. Library and Archives Canada.<\/SPAN><\/P><P><SPAN>Georeferenced and modified from NMC Map number 3771 by Map, Data and GIS Library, Brock University. <\/SPAN><\/P><P><SPAN /><\/P><\/DIV><\/DIV><\/DIV>",
 "name": "EarlyNiagara/Chippewa1845NMC3771",
 "description": "<DIV STYLE=\"text-align:Left;\"><DIV><DIV><P><SPAN>Historical map showing the First and Second Welland Canal where the Welland River (Chippewa Creek) joins the Niagara River, with the Chippewa cut and Hog Island. Includes buildings (barracks), and line of piles.<\/SPAN><\/P><P><SPAN>Map date: [1845]<\/SPAN><\/P><P><SPAN>Digital reproduction of map (16 x 20 1/2 in.) in the Public Archives of Canada. National Map Collection. Library and Archives Canada.<\/SPAN><\/P><P><SPAN>Georeferenced and modified from NMC Map number 3771 by Map, Data and GIS Library, Brock University. <\/SPAN><\/P><P><SPAN /><\/P><\/DIV><\/DIV><\/DIV>",
 "extent": {
  "xmin": 658533.6103099766,
  "ymin": 4769075.770937068,
  "xmax": 659431.7987599766,
  "ymax": 4770032.376998069,
  "spatialReference": {
   "wkid": 26917,
   "latestWkid": 26917
  }
 },
 "initialExtent": {
  "xmin": 658533.6103099766,
  "ymin": 4769075.770937068,
  "xmax": 659431.7987599766,
  "ymax": 4770032.376998069,
  "spatialReference": {
   "wkid": 26917,
   "latestWkid": 26917
  }
 },
 "fullExtent": {
  "xmin": 658533.6103099766,
  "ymin": 4769075.770937068,
  "xmax": 659431.7987599766,
  "ymax": 4770032.376998069,
  "spatialReference": {
   "wkid": 26917,
   "latestWkid": 26917
  }
 },
 "hasMultidimensions": false,
 "pixelSizeX": 0.14144700000000252,
 "pixelSizeY": 0.14144700000005572,
 "datasetFormat": "TIFF",
 "uncompressedSize": 85890100,
 "blockWidth": 128,
 "blockHeight": 128,
 "compressionType": "None",
 "bandNames": [
  "Band_1"
 ],
 "allowCopy": true,
 "allowAnalysis": true,
 "bandCount": 1,
 "noDataValue": 256,
 "noDataValues": [
  256
 ],
 "pixelType": "U16",
 "minPixelSize": 0,
 "maxPixelSize": 0,
 "copyrightText": "[\"signed\"]",
 "serviceDataType": "esriImageServiceDataTypeGeneric",
 "serviceSourceType": "esriImageServiceSourceTypeDataset",
 "minValues": [
  13
 ],
 "maxValues": [
  247
 ],
 "meanValues": [
  181.56188107929
 ],
 "stdvValues": [
  31.910385229723
 ],
 "objectIdField": "",
 "fields": [],
 "capabilities": "Image,Metadata,Mensuration",
 "defaultMosaicMethod": "Center",
 "allowedMosaicMethods": "",
 "sortField": "",
 "sortValue": null,
 "sortAscending": true,
 "mosaicOperator": "First",
 "defaultCompressionQuality": 75,
 "defaultResamplingMethod": "Bilinear",
 "maxImageHeight": 4100,
 "maxImageWidth": 15000,
 "allowRasterFunction": true,
 "rasterFunctionInfos": [
  {
   "name": "None",
   "description": "",
   "help": ""
  }
 ],
 "rasterTypeInfos": [
  {
   "name": "Raster Dataset",
   "description": "Supports all ArcGIS Raster Datasets",
   "help": ""
  }
 ],
 "mensurationCapabilities": "Basic",
 "hasHistograms": true,
 "hasColormap": false,
 "hasRasterAttributeTable": false,
 "minScale": 0,
 "maxScale": 0,
 "exportTilesAllowed": false,
 "supportsStatistics": false,
 "supportsAdvancedQueries": false,
 "editFieldsInfo": null,
 "ownershipBasedAccessControlForRasters": null,
 "allowComputeTiePoints": false,
 "useStandardizedQueries": true,
 "advancedQueryCapabilities": {
  "useStandardizedQueries": true,
  "supportsStatistics": false,
  "supportsOrderBy": false,
  "supportsDistinct": false,
  "supportsPagination": false
 },
 "spatialReference": {
  "wkid": 26917,
  "latestWkid": 26917
 }
}
