{ "currentVersion": 10.91, "serviceDescription": "
Map date: 1968?<\/SPAN><\/P> Digital reproduction of map (28 x 43 cm.) in the Brock University Map, Data & GIS Library collection.<\/SPAN><\/P> Georeferenced and modified from Brock call # G 3463 W4 S1 1968 W45, by Map, Data and GIS Library, Brock University. <\/SPAN><\/P> <\/P><\/DIV><\/DIV><\/DIV>",
"name": "EarlyNiagara/CountyofWelland1968",
"description": " Map date: 1968?<\/SPAN><\/P> Digital reproduction of map (28 x 43 cm.) in the Brock University Map, Data & GIS Library collection.<\/SPAN><\/P> Georeferenced and modified from Brock call # G 3463 W4 S1 1968 W45, by Map, Data and GIS Library, Brock University. <\/SPAN><\/P> <\/P><\/DIV><\/DIV><\/DIV>",
"extent": {
"xmin": 607365.1852710375,
"ymin": 4739868.725218495,
"xmax": 673786.2585910375,
"ymax": 4787989.849542496,
"spatialReference": {
"wkid": 26917,
"latestWkid": 26917
}
},
"initialExtent": {
"xmin": 607365.1852710375,
"ymin": 4739868.725218495,
"xmax": 673786.2585910375,
"ymax": 4787989.849542496,
"spatialReference": {
"wkid": 26917,
"latestWkid": 26917
}
},
"fullExtent": {
"xmin": 607365.1852710375,
"ymin": 4739868.725218495,
"xmax": 673786.2585910375,
"ymax": 4787989.849542496,
"spatialReference": {
"wkid": 26917,
"latestWkid": 26917
}
},
"hasMultidimensions": false,
"pixelSizeX": 6.505491999999997,
"pixelSizeY": 6.50549200000006,
"datasetFormat": "TIFF",
"uncompressedSize": 453140220,
"blockWidth": 128,
"blockHeight": 128,
"compressionType": "None",
"bandNames": [
"Band_1",
"Band_2",
"Band_3"
],
"allowCopy": true,
"allowAnalysis": true,
"bandCount": 3,
"noDataValue": 256,
"noDataValues": [
256,
256,
256
],
"pixelType": "U16",
"minPixelSize": 0,
"maxPixelSize": 0,
"copyrightText": "Map, Data & GIS Library, Brock University.",
"serviceDataType": "esriImageServiceDataTypeGeneric",
"serviceSourceType": "esriImageServiceSourceTypeDataset",
"minValues": [
38,
36,
27
],
"maxValues": [
255,
255,
255
],
"meanValues": [
196.39677140624,
186.50721196964,
150.13638843703
],
"stdvValues": [
33.189667519036,
32.5632191144,
31.569595566864
],
"objectIdField": "",
"fields": [],
"capabilities": "Image,Metadata,Mensuration",
"defaultMosaicMethod": "Center",
"allowedMosaicMethods": "",
"sortField": "",
"sortValue": null,
"sortAscending": true,
"mosaicOperator": "First",
"defaultCompressionQuality": 75,
"defaultResamplingMethod": "Bilinear",
"maxImageHeight": 4100,
"maxImageWidth": 15000,
"allowRasterFunction": true,
"rasterFunctionInfos": [
{
"name": "None",
"description": "",
"help": ""
}
],
"rasterTypeInfos": [
{
"name": "Raster Dataset",
"description": "Supports all ArcGIS Raster Datasets",
"help": ""
}
],
"mensurationCapabilities": "Basic",
"hasHistograms": true,
"hasColormap": false,
"hasRasterAttributeTable": false,
"minScale": 0,
"maxScale": 0,
"exportTilesAllowed": false,
"supportsStatistics": false,
"supportsAdvancedQueries": false,
"editFieldsInfo": null,
"ownershipBasedAccessControlForRasters": null,
"allowComputeTiePoints": false,
"useStandardizedQueries": true,
"advancedQueryCapabilities": {
"useStandardizedQueries": true,
"supportsStatistics": false,
"supportsOrderBy": false,
"supportsDistinct": false,
"supportsPagination": false
},
"spatialReference": {
"wkid": 26917,
"latestWkid": 26917
}
}