{ "currentVersion": 10.91, "serviceDescription": "
Historical map showing the village of Drummondville (now Niagara Falls) with its roads and buildings depicted. The references indicate building owners & uses and how it can be used by the military (i.e. hospital, accommodation of men and horses, etc).<\/SPAN><\/P> Scale: 1 in to 100 yards<\/SPAN><\/P> Map date: 1838<\/SPAN><\/P> Digital reproduction of map (36 x 47 cm.) in the Public Archives of Canada. National Map Collection. Library and Archives Canada.<\/SPAN><\/P> Georeferenced and modified from NMC Map number 3790 by Map, Data and GIS Library, Brock University. <\/SPAN><\/P> <\/P><\/DIV><\/DIV><\/DIV>",
"name": "EarlyNiagara/Drummondville1838NMC3790",
"description": " Historical map showing the village of Drummondville (now Niagara Falls) with its roads and buildings depicted. The references indicate building owners & uses and how it can be used by the military (i.e. hospital, accommodation of men and horses, etc).<\/SPAN><\/P> Scale: 1 in to 100 yards<\/SPAN><\/P> Map date: 1838<\/SPAN><\/P> Digital reproduction of map (36 x 47 cm.) in the Public Archives of Canada. National Map Collection. Library and Archives Canada.<\/SPAN><\/P> Georeferenced and modified from NMC Map number 3790 by Map, Data and GIS Library, Brock University. <\/SPAN><\/P> <\/P><\/DIV><\/DIV><\/DIV>",
"extent": {
"xmin": 654995.5731595418,
"ymin": 4770811.987999709,
"xmax": 656512.0208065418,
"ymax": 4772697.41887371,
"spatialReference": {
"wkid": 26917,
"latestWkid": 26917
}
},
"initialExtent": {
"xmin": 654995.5731595418,
"ymin": 4770811.987999709,
"xmax": 656512.0208065418,
"ymax": 4772697.41887371,
"spatialReference": {
"wkid": 26917,
"latestWkid": 26917
}
},
"fullExtent": {
"xmin": 654995.5731595418,
"ymin": 4770811.987999709,
"xmax": 656512.0208065418,
"ymax": 4772697.41887371,
"spatialReference": {
"wkid": 26917,
"latestWkid": 26917
}
},
"hasMultidimensions": false,
"pixelSizeX": 0.27191099999999363,
"pixelSizeY": 0.27191100000004376,
"datasetFormat": "TIFF",
"uncompressedSize": 77341836,
"blockWidth": 128,
"blockHeight": 128,
"compressionType": "None",
"bandNames": [
"Band_1"
],
"allowCopy": true,
"allowAnalysis": true,
"bandCount": 1,
"noDataValue": 256,
"noDataValues": [
256
],
"pixelType": "U16",
"minPixelSize": 0,
"maxPixelSize": 0,
"copyrightText": "Signed: W.H. Roberts\nCopied Richard Birley\nMap, Data & GIS Library, Brock University.",
"serviceDataType": "esriImageServiceDataTypeGeneric",
"serviceSourceType": "esriImageServiceSourceTypeDataset",
"minValues": [],
"maxValues": [],
"meanValues": [],
"stdvValues": [],
"objectIdField": "",
"fields": [],
"capabilities": "Image,Metadata,Mensuration",
"defaultMosaicMethod": "Center",
"allowedMosaicMethods": "",
"sortField": "",
"sortValue": null,
"sortAscending": true,
"mosaicOperator": "First",
"defaultCompressionQuality": 75,
"defaultResamplingMethod": "Bilinear",
"maxImageHeight": 4100,
"maxImageWidth": 15000,
"allowRasterFunction": true,
"rasterFunctionInfos": [
{
"name": "None",
"description": "",
"help": ""
}
],
"rasterTypeInfos": [
{
"name": "Raster Dataset",
"description": "Supports all ArcGIS Raster Datasets",
"help": ""
}
],
"mensurationCapabilities": "Basic",
"hasHistograms": false,
"hasColormap": false,
"hasRasterAttributeTable": false,
"minScale": 0,
"maxScale": 0,
"exportTilesAllowed": false,
"supportsStatistics": false,
"supportsAdvancedQueries": false,
"editFieldsInfo": null,
"ownershipBasedAccessControlForRasters": null,
"allowComputeTiePoints": false,
"useStandardizedQueries": true,
"advancedQueryCapabilities": {
"useStandardizedQueries": true,
"supportsStatistics": false,
"supportsOrderBy": false,
"supportsDistinct": false,
"supportsPagination": false
},
"spatialReference": {
"wkid": 26917,
"latestWkid": 26917
}
}