{
 "currentVersion": 10.91,
 "serviceDescription": "Map date: \"June 2nd 1866\" Scale [ca. 1:511,538] Digital reproduction of map (24 x 19 cm.) in the Brock University Map, Data & GIS Library collection. Georeferenced and modified from Brock call# G 3462 S68 S38 1866 W22 by Map, Data and GIS Library, Brock University. ",
 "name": "EarlyNiagara/FeniansCanada1866",
 "description": "Map date: \"June 2nd 1866\" Scale [ca. 1:511,538] Digital reproduction of map (24 x 19 cm.) in the Brock University Map, Data & GIS Library collection. Georeferenced and modified from Brock call# G 3462 S68 S38 1866 W22 by Map, Data and GIS Library, Brock University. ",
 "extent": {
  "xmin": -9008384.802333852,
  "ymin": 5242230.739925565,
  "xmax": -8715168.312743852,
  "ymax": 5457144.442090565,
  "spatialReference": {
   "wkid": 102100,
   "latestWkid": 3857
  }
 },
 "initialExtent": {
  "xmin": -9008384.802333852,
  "ymin": 5242230.739925565,
  "xmax": -8715168.312743852,
  "ymax": 5457144.442090565,
  "spatialReference": {
   "wkid": 102100,
   "latestWkid": 3857
  }
 },
 "fullExtent": {
  "xmin": -9008384.802333852,
  "ymin": 5242230.739925565,
  "xmax": -8715168.312743852,
  "ymax": 5457144.442090565,
  "spatialReference": {
   "wkid": 102100,
   "latestWkid": 3857
  }
 },
 "hasMultidimensions": false,
 "pixelSizeX": 57.78803500000007,
 "pixelSizeY": 57.788035000000036,
 "datasetFormat": "TIFF",
 "uncompressedSize": 37740412,
 "blockWidth": 128,
 "blockHeight": 128,
 "compressionType": "LZW",
 "bandNames": [
  "Band_1"
 ],
 "allowCopy": true,
 "allowAnalysis": true,
 "bandCount": 1,
 "noDataValue": 256,
 "noDataValues": [
  256
 ],
 "pixelType": "U16",
 "minPixelSize": 0,
 "maxPixelSize": 0,
 "copyrightText": "Map, Data & GIS Library, Brock University.",
 "serviceDataType": "esriImageServiceDataTypeGeneric",
 "serviceSourceType": "esriImageServiceSourceTypeDataset",
 "minValues": [
  0
 ],
 "maxValues": [
  255
 ],
 "meanValues": [
  204.47738169809
 ],
 "stdvValues": [
  62.10820255956
 ],
 "objectIdField": "",
 "fields": [],
 "capabilities": "Image,Metadata,Mensuration",
 "defaultMosaicMethod": "Center",
 "allowedMosaicMethods": "",
 "sortField": "",
 "sortValue": null,
 "sortAscending": true,
 "mosaicOperator": "First",
 "defaultCompressionQuality": 75,
 "defaultResamplingMethod": "Bilinear",
 "maxImageHeight": 4100,
 "maxImageWidth": 15000,
 "allowRasterFunction": true,
 "rasterFunctionInfos": [
  {
   "name": "None",
   "description": "",
   "help": ""
  }
 ],
 "rasterTypeInfos": [
  {
   "name": "Raster Dataset",
   "description": "Supports all ArcGIS Raster Datasets",
   "help": ""
  }
 ],
 "mensurationCapabilities": "Basic",
 "hasHistograms": true,
 "hasColormap": false,
 "hasRasterAttributeTable": false,
 "minScale": 0,
 "maxScale": 0,
 "exportTilesAllowed": false,
 "supportsStatistics": false,
 "supportsAdvancedQueries": false,
 "editFieldsInfo": null,
 "ownershipBasedAccessControlForRasters": null,
 "allowComputeTiePoints": false,
 "useStandardizedQueries": true,
 "advancedQueryCapabilities": {
  "useStandardizedQueries": true,
  "supportsStatistics": false,
  "supportsOrderBy": false,
  "supportsDistinct": false,
  "supportsPagination": false
 },
 "spatialReference": {
  "wkid": 102100,
  "latestWkid": 3857
 }
}