{ "currentVersion": 10.91, "serviceDescription": "
Historical map showing buildings in the fort and a few other buildings. Names of some occupants of the lots are identified. <\/span><\/p> \"(signed) Gother Mann, Quebec, 30 June 1798. By order of the Commander in Chief (signed) James Green. Approved (signed) Rob. Prescott.\"<\/span><\/p> Relief shown by shading.<\/span><\/p> Digital reproduction of map (16 3/4 x 20 1/2 in.) in Library and Archives Canada<\/span><\/p> Georeferenced and modified from NMC Map number 3800 by Map, Data & GIS Library, Brock University.<\/span><\/p> <\/p> <\/p><\/div><\/div><\/div>",
"name": "EarlyNiagara/FortErie1798NMC3800",
"description": " Historical map showing buildings in the fort and a few other buildings. Names of some occupants of the lots are identified. <\/span><\/p> \"(signed) Gother Mann, Quebec, 30 June 1798. By order of the Commander in Chief (signed) James Green. Approved (signed) Rob. Prescott.\"<\/span><\/p> Relief shown by shading.<\/span><\/p> Digital reproduction of map (16 3/4 x 20 1/2 in.) in Library and Archives Canada<\/span><\/p> Georeferenced and modified from NMC Map number 3800 by Map, Data & GIS Library, Brock University.<\/span><\/p> <\/p> <\/p><\/div><\/div><\/div>",
"extent": {
"xmin": -8786225.798778435,
"ymin": 5294968.301264982,
"xmax": -8785412.261772435,
"ymax": 5295909.758204982,
"spatialReference": {
"wkid": 102100,
"latestWkid": 3857
}
},
"initialExtent": {
"xmin": -8786225.798778435,
"ymin": 5294968.301264982,
"xmax": -8785412.261772435,
"ymax": 5295909.758204982,
"spatialReference": {
"wkid": 102100,
"latestWkid": 3857
}
},
"fullExtent": {
"xmin": -8786225.798778435,
"ymin": 5294968.301264982,
"xmax": -8785412.261772435,
"ymax": 5295909.758204982,
"spatialReference": {
"wkid": 102100,
"latestWkid": 3857
}
},
"hasMultidimensions": false,
"pixelSizeX": 0.21108900000001476,
"pixelSizeY": 0.21108899999998776,
"datasetFormat": "TIFF",
"uncompressedSize": 34377680,
"blockWidth": 128,
"blockHeight": 128,
"compressionType": "None",
"bandNames": [
"Band_1"
],
"allowCopy": true,
"allowAnalysis": true,
"bandCount": 1,
"noDataValue": 256,
"noDataValues": [
256
],
"pixelType": "U16",
"minPixelSize": 0,
"maxPixelSize": 0,
"copyrightText": "Map, Data & GIS Library, Brock University.",
"serviceDataType": "esriImageServiceDataTypeGeneric",
"serviceSourceType": "esriImageServiceSourceTypeDataset",
"minValues": [
6
],
"maxValues": [
255
],
"meanValues": [
171.427704557
],
"stdvValues": [
34.146626501659
],
"objectIdField": "",
"fields": [],
"capabilities": "Mensuration,Image,Metadata",
"defaultMosaicMethod": "Center",
"allowedMosaicMethods": "",
"sortField": "",
"sortValue": null,
"sortAscending": true,
"mosaicOperator": "First",
"defaultCompressionQuality": 75,
"defaultResamplingMethod": "Bilinear",
"maxImageHeight": 4100,
"maxImageWidth": 15000,
"allowRasterFunction": true,
"rasterFunctionInfos": [
{
"name": "None",
"description": "",
"help": ""
}
],
"rasterTypeInfos": [
{
"name": "Raster Dataset",
"description": "Supports all ArcGIS Raster Datasets",
"help": ""
}
],
"mensurationCapabilities": "Basic",
"hasHistograms": true,
"hasColormap": false,
"hasRasterAttributeTable": false,
"minScale": 0,
"maxScale": 0,
"exportTilesAllowed": false,
"supportsStatistics": false,
"supportsAdvancedQueries": false,
"editFieldsInfo": null,
"ownershipBasedAccessControlForRasters": null,
"allowComputeTiePoints": false,
"useStandardizedQueries": true,
"advancedQueryCapabilities": {
"useStandardizedQueries": true,
"supportsStatistics": false,
"supportsOrderBy": false,
"supportsDistinct": false,
"supportsPagination": false
},
"spatialReference": {
"wkid": 102100,
"latestWkid": 3857
}
}