{ "currentVersion": 10.91, "serviceDescription": "
Historical map showing the proposed and ruined fort, the wharf and the road to Chippewa and Niagara Falls.<\/span><\/p> Includes a cross-section of the new fortification.<\/span><\/p> Relief shown by shading.<\/span><\/p> Digital reproduction of map (19 1/2 x 14 1/2 in.) in the Public Archives of Canada. National Map Collection. Library and Archives Canada.<\/span><\/p> Georeferenced and modified from NMC Map number 3801 by Map, Data and GIS Library, Brock University. <\/span><\/p> <\/p><\/div><\/div><\/div>",
"name": "EarlyNiagara/FortErie1803NMC3801",
"description": " Historical map showing the proposed and ruined fort, the wharf and the road to Chippewa and Niagara Falls.<\/span><\/p> Includes a cross-section of the new fortification.<\/span><\/p> Relief shown by shading.<\/span><\/p> Digital reproduction of map (19 1/2 x 14 1/2 in.) in the Public Archives of Canada. National Map Collection. Library and Archives Canada.<\/span><\/p> Georeferenced and modified from NMC Map number 3801 by Map, Data and GIS Library, Brock University. <\/span><\/p> <\/p><\/div><\/div><\/div>",
"extent": {
"xmin": -8786118.489956668,
"ymin": 5294990.611905607,
"xmax": -8785215.201388668,
"ymax": 5296016.312867607,
"spatialReference": {
"wkid": 102100,
"latestWkid": 3857
}
},
"initialExtent": {
"xmin": -8786118.489956668,
"ymin": 5294990.611905607,
"xmax": -8785215.201388668,
"ymax": 5296016.312867607,
"spatialReference": {
"wkid": 102100,
"latestWkid": 3857
}
},
"fullExtent": {
"xmin": -8786118.489956668,
"ymin": 5294990.611905607,
"xmax": -8785215.201388668,
"ymax": 5296016.312867607,
"spatialReference": {
"wkid": 102100,
"latestWkid": 3857
}
},
"hasMultidimensions": false,
"pixelSizeX": 0.2209609999998478,
"pixelSizeY": 0.22096099999991278,
"datasetFormat": "TIFF",
"uncompressedSize": 37952992,
"blockWidth": 128,
"blockHeight": 128,
"compressionType": "None",
"bandNames": [
"Band_1"
],
"allowCopy": true,
"allowAnalysis": true,
"bandCount": 1,
"noDataValue": 256,
"noDataValues": [
256
],
"pixelType": "U16",
"minPixelSize": 0,
"maxPixelSize": 0,
"copyrightText": "Map, Data & GIS Library, Brock University.",
"serviceDataType": "esriImageServiceDataTypeGeneric",
"serviceSourceType": "esriImageServiceSourceTypeDataset",
"minValues": [
5
],
"maxValues": [
254
],
"meanValues": [
181.34835837171
],
"stdvValues": [
48.788723710765
],
"objectIdField": "",
"fields": [],
"capabilities": "Mensuration,Image,Metadata",
"defaultMosaicMethod": "Center",
"allowedMosaicMethods": "",
"sortField": "",
"sortValue": null,
"sortAscending": true,
"mosaicOperator": "First",
"defaultCompressionQuality": 75,
"defaultResamplingMethod": "Bilinear",
"maxImageHeight": 4100,
"maxImageWidth": 15000,
"allowRasterFunction": true,
"rasterFunctionInfos": [
{
"name": "None",
"description": "",
"help": ""
}
],
"rasterTypeInfos": [
{
"name": "Raster Dataset",
"description": "Supports all ArcGIS Raster Datasets",
"help": ""
}
],
"mensurationCapabilities": "Basic",
"hasHistograms": true,
"hasColormap": false,
"hasRasterAttributeTable": false,
"minScale": 0,
"maxScale": 0,
"exportTilesAllowed": false,
"supportsStatistics": false,
"supportsAdvancedQueries": false,
"editFieldsInfo": null,
"ownershipBasedAccessControlForRasters": null,
"allowComputeTiePoints": false,
"useStandardizedQueries": true,
"advancedQueryCapabilities": {
"useStandardizedQueries": true,
"supportsStatistics": false,
"supportsOrderBy": false,
"supportsDistinct": false,
"supportsPagination": false
},
"spatialReference": {
"wkid": 102100,
"latestWkid": 3857
}
}