{ "currentVersion": 10.91, "serviceDescription": "
Historical map showing the area of the British camp, entrenchments, and fort in Fort Erie. Roads, cleared land and forested sections are depicted. Several distances from Black Rock (American side) to the British batteries are marked.<\/SPAN><\/P> Relief shown by shading and hachures<\/SPAN><\/P> Scale [1:5,400]. 150 yds to an inch<\/SPAN><\/P> Map date: 1815<\/SPAN><\/P> Digital reproduction of map (87 x 56 cm.) in the Public Archives of Canada. National Map Collection. Library and Archives Canada.<\/SPAN><\/P> Georeferenced and modified from NMC Map number 22340 by Map, Data and GIS Library, Brock University. <\/SPAN><\/P> <\/P><\/DIV><\/DIV><\/DIV>",
"name": "EarlyNiagara/FortErie1814NMC22340",
"description": " Historical map showing the area of the British camp, entrenchments, and fort in Fort Erie. Roads, cleared land and forested sections are depicted. Several distances from Black Rock (American side) to the British batteries are marked.<\/SPAN><\/P> Relief shown by shading and hachures<\/SPAN><\/P> Scale [1:5,400]. 150 yds to an inch<\/SPAN><\/P> Map date: 1815<\/SPAN><\/P> Digital reproduction of map (87 x 56 cm.) in the Public Archives of Canada. National Map Collection. Library and Archives Canada.<\/SPAN><\/P> Georeferenced and modified from NMC Map number 22340 by Map, Data and GIS Library, Brock University. <\/SPAN><\/P> <\/P><\/DIV><\/DIV><\/DIV>",
"extent": {
"xmin": 667241.217555559,
"ymin": 4749756.961332822,
"xmax": 670790.851021559,
"ymax": 4754481.122290823,
"spatialReference": {
"wkid": 26917,
"latestWkid": 26917
}
},
"initialExtent": {
"xmin": 667241.217555559,
"ymin": 4749756.961332822,
"xmax": 670790.851021559,
"ymax": 4754481.122290823,
"spatialReference": {
"wkid": 26917,
"latestWkid": 26917
}
},
"fullExtent": {
"xmin": 667241.217555559,
"ymin": 4749756.961332822,
"xmax": 670790.851021559,
"ymax": 4754481.122290823,
"spatialReference": {
"wkid": 26917,
"latestWkid": 26917
}
},
"hasMultidimensions": false,
"pixelSizeX": 0.7443139999999937,
"pixelSizeY": 0.7443140000000723,
"datasetFormat": "TIFF",
"uncompressedSize": 60537686,
"blockWidth": 128,
"blockHeight": 128,
"compressionType": "None",
"bandNames": [
"Band_1"
],
"allowCopy": true,
"allowAnalysis": true,
"bandCount": 1,
"noDataValue": 256,
"noDataValues": [
256
],
"pixelType": "U16",
"minPixelSize": 0,
"maxPixelSize": 0,
"copyrightText": "[\"Signed\"]",
"serviceDataType": "esriImageServiceDataTypeGeneric",
"serviceSourceType": "esriImageServiceSourceTypeDataset",
"minValues": [
19
],
"maxValues": [
255
],
"meanValues": [
182.43936733609
],
"stdvValues": [
29.474158426126
],
"objectIdField": "",
"fields": [],
"capabilities": "Image,Metadata,Mensuration",
"defaultMosaicMethod": "Center",
"allowedMosaicMethods": "",
"sortField": "",
"sortValue": null,
"sortAscending": true,
"mosaicOperator": "First",
"defaultCompressionQuality": 75,
"defaultResamplingMethod": "Bilinear",
"maxImageHeight": 4100,
"maxImageWidth": 15000,
"allowRasterFunction": true,
"rasterFunctionInfos": [
{
"name": "None",
"description": "",
"help": ""
}
],
"rasterTypeInfos": [
{
"name": "Raster Dataset",
"description": "Supports all ArcGIS Raster Datasets",
"help": ""
}
],
"mensurationCapabilities": "Basic",
"hasHistograms": true,
"hasColormap": false,
"hasRasterAttributeTable": false,
"minScale": 0,
"maxScale": 0,
"exportTilesAllowed": false,
"supportsStatistics": false,
"supportsAdvancedQueries": false,
"editFieldsInfo": null,
"ownershipBasedAccessControlForRasters": null,
"allowComputeTiePoints": false,
"useStandardizedQueries": true,
"advancedQueryCapabilities": {
"useStandardizedQueries": true,
"supportsStatistics": false,
"supportsOrderBy": false,
"supportsDistinct": false,
"supportsPagination": false
},
"spatialReference": {
"wkid": 26917,
"latestWkid": 26917
}
}