{ "currentVersion": 10.91, "serviceDescription": "
Historical map showing Fort Erie as it was when taken by the Americans. It depicts additional works raised by the American Army, Major Buck's Rd, and roads cut by the British Army. It also shows entrenchments, fortifications, batteries and picquets on either side of the river; as well as, the position of troops.<\/span><\/p> Digital reproduction of map (59 x 50 cm.) in the Public Archives of Canada. National Map Collection. Library and Archives Canada.<\/span><\/p> Relief shown by shading and hachures<\/span><\/p> Georeferenced and modified from NMC Map number 22341 by Map, Data and GIS Library, Brock University. <\/span><\/p> <\/p><\/div><\/div><\/div>",
"name": "EarlyNiagara/FortErie1814NMC22341",
"description": " Historical map showing Fort Erie as it was when taken by the Americans. It depicts additional works raised by the American Army, Major Buck's Rd, and roads cut by the British Army. It also shows entrenchments, fortifications, batteries and picquets on either side of the river; as well as, the position of troops.<\/span><\/p> Digital reproduction of map (59 x 50 cm.) in the Public Archives of Canada. National Map Collection. Library and Archives Canada.<\/span><\/p> Relief shown by shading and hachures<\/span><\/p> Georeferenced and modified from NMC Map number 22341 by Map, Data and GIS Library, Brock University. <\/span><\/p> <\/p><\/div><\/div><\/div>",
"extent": {
"xmin": 667605.5934071763,
"ymin": 4749925.524766626,
"xmax": 671631.8025571763,
"ymax": 4753925.776576626,
"spatialReference": {
"wkid": 26917,
"latestWkid": 26917
}
},
"initialExtent": {
"xmin": 667605.5934071763,
"ymin": 4749925.524766626,
"xmax": 671631.8025571763,
"ymax": 4753925.776576626,
"spatialReference": {
"wkid": 26917,
"latestWkid": 26917
}
},
"fullExtent": {
"xmin": 667605.5934071763,
"ymin": 4749925.524766626,
"xmax": 671631.8025571763,
"ymax": 4753925.776576626,
"spatialReference": {
"wkid": 26917,
"latestWkid": 26917
}
},
"hasMultidimensions": false,
"pixelSizeX": 0.5642900000000014,
"pixelSizeY": 0.5642900000000393,
"datasetFormat": "TIFF",
"uncompressedSize": 101131584,
"blockWidth": 128,
"blockHeight": 128,
"compressionType": "None",
"bandNames": [
"Band_1"
],
"allowCopy": true,
"allowAnalysis": true,
"bandCount": 1,
"noDataValue": 256,
"noDataValues": [
256
],
"pixelType": "U16",
"minPixelSize": 0,
"maxPixelSize": 0,
"copyrightText": "Copied from the original of Lieut [W.A.] Nesfield by Geo. D. Cranfield Map, Data & GIS Library, Brock University.",
"serviceDataType": "esriImageServiceDataTypeGeneric",
"serviceSourceType": "esriImageServiceSourceTypeDataset",
"minValues": [
15
],
"maxValues": [
252
],
"meanValues": [
177.82016011125
],
"stdvValues": [
31.246258166439
],
"objectIdField": "",
"fields": [],
"capabilities": "Mensuration,Image,Metadata",
"defaultMosaicMethod": "Center",
"allowedMosaicMethods": "",
"sortField": "",
"sortValue": null,
"sortAscending": true,
"mosaicOperator": "First",
"defaultCompressionQuality": 75,
"defaultResamplingMethod": "Bilinear",
"maxImageHeight": 4100,
"maxImageWidth": 15000,
"allowRasterFunction": true,
"rasterFunctionInfos": [
{
"name": "None",
"description": "",
"help": ""
}
],
"rasterTypeInfos": [
{
"name": "Raster Dataset",
"description": "Supports all ArcGIS Raster Datasets",
"help": ""
}
],
"mensurationCapabilities": "Basic",
"hasHistograms": true,
"hasColormap": false,
"hasRasterAttributeTable": false,
"minScale": 0,
"maxScale": 0,
"exportTilesAllowed": false,
"supportsStatistics": false,
"supportsAdvancedQueries": false,
"editFieldsInfo": null,
"ownershipBasedAccessControlForRasters": null,
"allowComputeTiePoints": false,
"useStandardizedQueries": true,
"advancedQueryCapabilities": {
"useStandardizedQueries": true,
"supportsStatistics": false,
"supportsOrderBy": false,
"supportsDistinct": false,
"supportsPagination": false
},
"spatialReference": {
"wkid": 26917,
"latestWkid": 26917
}
}