{ "currentVersion": 10.91, "serviceDescription": "
Historical map showing the fort and surrounding forrested area. Includes reference key index to: \"Entrenchments thrown up by enemy around fort, abbatis by enemy and British, batteries, position of part of British Army, enemy's schooners\"<\/SPAN><\/P> Relief shown by hachures.<\/SPAN><\/P> Scale [ca. 1:5,280]. 1 in. to 440 ft.<\/SPAN><\/P> Map date: 1814<\/SPAN><\/P> Digital reproduction of map (14 1/2 x 20 1/2 in.) in the Public Archives of Canada. National Map Collection. Library and Archives Canada.<\/SPAN><\/P> Georeferenced and modified from NMC Map number 1814 by Map, Data and GIS Library, Brock University. <\/SPAN><\/P> <\/P><\/DIV><\/DIV><\/DIV>",
"name": "EarlyNiagara/FortErie1814NMC3803",
"description": " Historical map showing the fort and surrounding forrested area. Includes reference key index to: \"Entrenchments thrown up by enemy around fort, abbatis by enemy and British, batteries, position of part of British Army, enemy's schooners\"<\/SPAN><\/P> Relief shown by hachures.<\/SPAN><\/P> Scale [ca. 1:5,280]. 1 in. to 440 ft.<\/SPAN><\/P> Map date: 1814<\/SPAN><\/P> Digital reproduction of map (14 1/2 x 20 1/2 in.) in the Public Archives of Canada. National Map Collection. Library and Archives Canada.<\/SPAN><\/P> Georeferenced and modified from NMC Map number 1814 by Map, Data and GIS Library, Brock University. <\/SPAN><\/P> <\/P><\/DIV><\/DIV><\/DIV>",
"extent": {
"xmin": 667952.4192609274,
"ymin": 4749752.676749276,
"xmax": 671200.6371429274,
"ymax": 4753499.021234276,
"spatialReference": {
"wkid": 26917,
"latestWkid": 26917
}
},
"initialExtent": {
"xmin": 667952.4192609274,
"ymin": 4749752.676749276,
"xmax": 671200.6371429274,
"ymax": 4753499.021234276,
"spatialReference": {
"wkid": 26917,
"latestWkid": 26917
}
},
"fullExtent": {
"xmin": 667952.4192609274,
"ymin": 4749752.676749276,
"xmax": 671200.6371429274,
"ymax": 4753499.021234276,
"spatialReference": {
"wkid": 26917,
"latestWkid": 26917
}
},
"hasMultidimensions": false,
"pixelSizeX": 0.8315970000000067,
"pixelSizeY": 0.8315969999999503,
"datasetFormat": "TIFF",
"uncompressedSize": 105579180,
"blockWidth": 128,
"blockHeight": 128,
"compressionType": "None",
"bandNames": [
"Band_1",
"Band_2",
"Band_3"
],
"allowCopy": true,
"allowAnalysis": true,
"bandCount": 3,
"noDataValue": 256,
"noDataValues": [
256,
256,
256
],
"pixelType": "U16",
"minPixelSize": 0,
"maxPixelSize": 0,
"copyrightText": "Phillip Hughes\n\nMap, Data & GIS Library, Brock University.",
"serviceDataType": "esriImageServiceDataTypeGeneric",
"serviceSourceType": "esriImageServiceSourceTypeDataset",
"minValues": [
50,
32,
32
],
"maxValues": [
236,
235,
230
],
"meanValues": [
211.08223019316,
201.29430619597,
179.85555431848
],
"stdvValues": [
12.857551191561,
19.607138323656,
30.666172202938
],
"objectIdField": "",
"fields": [],
"capabilities": "Image,Metadata,Mensuration",
"defaultMosaicMethod": "Center",
"allowedMosaicMethods": "",
"sortField": "",
"sortValue": null,
"sortAscending": true,
"mosaicOperator": "First",
"defaultCompressionQuality": 75,
"defaultResamplingMethod": "Bilinear",
"maxImageHeight": 4100,
"maxImageWidth": 15000,
"allowRasterFunction": true,
"rasterFunctionInfos": [
{
"name": "None",
"description": "",
"help": ""
}
],
"rasterTypeInfos": [
{
"name": "Raster Dataset",
"description": "Supports all ArcGIS Raster Datasets",
"help": ""
}
],
"mensurationCapabilities": "Basic",
"hasHistograms": true,
"hasColormap": false,
"hasRasterAttributeTable": false,
"minScale": 0,
"maxScale": 0,
"exportTilesAllowed": false,
"supportsStatistics": false,
"supportsAdvancedQueries": false,
"editFieldsInfo": null,
"ownershipBasedAccessControlForRasters": null,
"allowComputeTiePoints": false,
"useStandardizedQueries": true,
"advancedQueryCapabilities": {
"useStandardizedQueries": true,
"supportsStatistics": false,
"supportsOrderBy": false,
"supportsDistinct": false,
"supportsPagination": false
},
"spatialReference": {
"wkid": 26917,
"latestWkid": 26917
}
}