{ "currentVersion": 10.91, "serviceDescription": "
Historical map showing the area from Snake Hill past Fort Erie and the British lines to the headquarters of Lt Gen Drummond further north. The Indian camp, camp and artillery park, picquets, trails, and fortifications by the British are depicted. There is some detail of the American border and its military defenses.<\/span><\/p> Scale [1:7,200]. 1' to 200 yds.<\/span><\/p> Map date: 1814<\/span><\/p> Digital reproduction of map 61 x 49 cm.) in the Public Archives of Canada. National Map Collection. Library and Archives Canada.<\/span><\/p> Georeferenced and modified from NMC Map number 4857 by Map, Data and GIS Library, Brock University. <\/span><\/p><\/div><\/div><\/div>",
"name": "EarlyNiagara/FortErie1814NMC4857",
"description": " Historical map showing the area from Snake Hill past Fort Erie and the British lines to the headquarters of Lt Gen Drummond further north. The Indian camp, camp and artillery park, picquets, trails, and fortifications by the British are depicted. There is some detail of the American border and its military defenses.<\/span><\/p> Scale [1:7,200]. 1' to 200 yds.<\/span><\/p> Map date: 1814<\/span><\/p> Digital reproduction of map 61 x 49 cm.) in the Public Archives of Canada. National Map Collection. Library and Archives Canada.<\/span><\/p> Georeferenced and modified from NMC Map number 4857 by Map, Data and GIS Library, Brock University. <\/span><\/p><\/div><\/div><\/div>",
"extent": {
"xmin": 667602.3852488638,
"ymin": 4749659.721193096,
"xmax": 671964.9556408639,
"ymax": 4754227.839733096,
"spatialReference": {
"wkid": 26917,
"latestWkid": 26917
}
},
"initialExtent": {
"xmin": 667602.3852488638,
"ymin": 4749659.721193096,
"xmax": 671964.9556408639,
"ymax": 4754227.839733096,
"spatialReference": {
"wkid": 26917,
"latestWkid": 26917
}
},
"fullExtent": {
"xmin": 667602.3852488638,
"ymin": 4749659.721193096,
"xmax": 671964.9556408639,
"ymax": 4754227.839733096,
"spatialReference": {
"wkid": 26917,
"latestWkid": 26917
}
},
"hasMultidimensions": false,
"pixelSizeX": 0.6874520000000036,
"pixelSizeY": 0.6874520000000257,
"datasetFormat": "TIFF",
"uncompressedSize": 84325648,
"blockWidth": 128,
"blockHeight": 128,
"compressionType": "None",
"bandNames": [
"Band_1"
],
"allowCopy": true,
"allowAnalysis": true,
"bandCount": 1,
"noDataValue": 256,
"noDataValues": [
256
],
"pixelType": "U16",
"minPixelSize": 0,
"maxPixelSize": 0,
"copyrightText": "[\"Signed\"]",
"serviceDataType": "esriImageServiceDataTypeGeneric",
"serviceSourceType": "esriImageServiceSourceTypeDataset",
"minValues": [
10
],
"maxValues": [
255
],
"meanValues": [
216.46753119884
],
"stdvValues": [
26.002925528042
],
"objectIdField": "",
"fields": [],
"capabilities": "Mensuration,Image,Metadata",
"defaultMosaicMethod": "Center",
"allowedMosaicMethods": "",
"sortField": "",
"sortValue": null,
"sortAscending": true,
"mosaicOperator": "First",
"defaultCompressionQuality": 75,
"defaultResamplingMethod": "Bilinear",
"maxImageHeight": 4100,
"maxImageWidth": 15000,
"allowRasterFunction": true,
"rasterFunctionInfos": [
{
"name": "None",
"description": "",
"help": ""
}
],
"rasterTypeInfos": [
{
"name": "Raster Dataset",
"description": "Supports all ArcGIS Raster Datasets",
"help": ""
}
],
"mensurationCapabilities": "Basic",
"hasHistograms": true,
"hasColormap": false,
"hasRasterAttributeTable": false,
"minScale": 0,
"maxScale": 0,
"exportTilesAllowed": false,
"supportsStatistics": false,
"supportsAdvancedQueries": false,
"editFieldsInfo": null,
"ownershipBasedAccessControlForRasters": null,
"allowComputeTiePoints": false,
"useStandardizedQueries": true,
"advancedQueryCapabilities": {
"useStandardizedQueries": true,
"supportsStatistics": false,
"supportsOrderBy": false,
"supportsDistinct": false,
"supportsPagination": false
},
"spatialReference": {
"wkid": 26917,
"latestWkid": 26917
}
}