{ "currentVersion": 10.91, "serviceDescription": "
Historical map showing fort and defences, roads, wooded areas, \"line destroyed\", Snake Hill.<\/SPAN><\/P> The map of Fort Erie was enclosed in Romilly's letter to Lt Gen Drummond dated Chippawa 10 Nov 1814 in which he describes the conditions of the fortifications after the battle. It shows the state of fortifications, the lines destroyed and those left intact, the fort (old and new), location of Snake Hill, relief, forested areas, and roads.<\/SPAN><\/P> Relief shown by hachures.<\/SPAN><\/P> Scale [ca. 1:4,300]<\/SPAN><\/P> Map date: 1814<\/SPAN><\/P> Digital reproduction of map (20 x 32 cm.) in the Public Archives of Canada. National Map Collection. Library and Archives Canada.<\/SPAN><\/P> Georeferenced and modified from NMC Map number 70956 by Map, Data and GIS Library, Brock University. <\/SPAN><\/P> <\/P><\/DIV><\/DIV><\/DIV>",
"name": "EarlyNiagara/FortErie1814NMC70956",
"description": " Historical map showing fort and defences, roads, wooded areas, \"line destroyed\", Snake Hill.<\/SPAN><\/P> The map of Fort Erie was enclosed in Romilly's letter to Lt Gen Drummond dated Chippawa 10 Nov 1814 in which he describes the conditions of the fortifications after the battle. It shows the state of fortifications, the lines destroyed and those left intact, the fort (old and new), location of Snake Hill, relief, forested areas, and roads.<\/SPAN><\/P> Relief shown by hachures.<\/SPAN><\/P> Scale [ca. 1:4,300]<\/SPAN><\/P> Map date: 1814<\/SPAN><\/P> Digital reproduction of map (20 x 32 cm.) in the Public Archives of Canada. National Map Collection. Library and Archives Canada.<\/SPAN><\/P> Georeferenced and modified from NMC Map number 70956 by Map, Data and GIS Library, Brock University. <\/SPAN><\/P> <\/P><\/DIV><\/DIV><\/DIV>",
"extent": {
"xmin": 668394.67294833,
"ymin": 4749798.919485293,
"xmax": 670293.96802133,
"ymax": 4751743.737399293,
"spatialReference": {
"wkid": 26917,
"latestWkid": 26917
}
},
"initialExtent": {
"xmin": 668394.67294833,
"ymin": 4749798.919485293,
"xmax": 670293.96802133,
"ymax": 4751743.737399293,
"spatialReference": {
"wkid": 26917,
"latestWkid": 26917
}
},
"fullExtent": {
"xmin": 668394.67294833,
"ymin": 4749798.919485293,
"xmax": 670293.96802133,
"ymax": 4751743.737399293,
"spatialReference": {
"wkid": 26917,
"latestWkid": 26917
}
},
"hasMultidimensions": false,
"pixelSizeX": 0.34227700000000283,
"pixelSizeY": 0.3422769999999615,
"datasetFormat": "TIFF",
"uncompressedSize": 63058836,
"blockWidth": 128,
"blockHeight": 128,
"compressionType": "None",
"bandNames": [
"Band_1"
],
"allowCopy": true,
"allowAnalysis": true,
"bandCount": 1,
"noDataValue": 256,
"noDataValues": [
256
],
"pixelType": "U16",
"minPixelSize": 0,
"maxPixelSize": 0,
"copyrightText": "Samuel Romilly\n\nMap, Data & GIS Library, Brock University.",
"serviceDataType": "esriImageServiceDataTypeGeneric",
"serviceSourceType": "esriImageServiceSourceTypeDataset",
"minValues": [
2
],
"maxValues": [
255
],
"meanValues": [
183.94233890614
],
"stdvValues": [
24.200046415523
],
"objectIdField": "",
"fields": [],
"capabilities": "Image,Metadata,Mensuration",
"defaultMosaicMethod": "Center",
"allowedMosaicMethods": "",
"sortField": "",
"sortValue": null,
"sortAscending": true,
"mosaicOperator": "First",
"defaultCompressionQuality": 75,
"defaultResamplingMethod": "Bilinear",
"maxImageHeight": 4100,
"maxImageWidth": 15000,
"allowRasterFunction": true,
"rasterFunctionInfos": [
{
"name": "None",
"description": "",
"help": ""
}
],
"rasterTypeInfos": [
{
"name": "Raster Dataset",
"description": "Supports all ArcGIS Raster Datasets",
"help": ""
}
],
"mensurationCapabilities": "Basic",
"hasHistograms": true,
"hasColormap": false,
"hasRasterAttributeTable": false,
"minScale": 0,
"maxScale": 0,
"exportTilesAllowed": false,
"supportsStatistics": false,
"supportsAdvancedQueries": false,
"editFieldsInfo": null,
"ownershipBasedAccessControlForRasters": null,
"allowComputeTiePoints": false,
"useStandardizedQueries": true,
"advancedQueryCapabilities": {
"useStandardizedQueries": true,
"supportsStatistics": false,
"supportsOrderBy": false,
"supportsDistinct": false,
"supportsPagination": false
},
"spatialReference": {
"wkid": 26917,
"latestWkid": 26917
}
}