{ "currentVersion": 10.91, "serviceDescription": "
Historical map showing Fort Erie and surrounding area including vegetation, relief, wharf and builidings.<\/span><\/p> \"Royal Engineers' Drawing Room, Quebec. 31st Jan. 1818, A. Walpole, Rl. Engrs.\"--in bottom right corner.<\/span><\/p> Relief shown by hachures.<\/span><\/p> Scale [ca. 1:4,800]. 400 ft. = 1 in.<\/span><\/p> Map date: 1818<\/span><\/p> Digital reproduction of map (10 3/4 x 17 in.) in the Public Archives of Canada. National Map Collection. Library and Archives Canada.<\/span><\/p> Georeferenced and modified from NMC Map number 3804 by Map, Data and GIS Library, Brock University. <\/span><\/p><\/div><\/div><\/div>",
"name": "EarlyNiagara/FortErie1818NMC3804",
"description": " Historical map showing Fort Erie and surrounding area including vegetation, relief, wharf and builidings.<\/span><\/p> \"Royal Engineers' Drawing Room, Quebec. 31st Jan. 1818, A. Walpole, Rl. Engrs.\"--in bottom right corner.<\/span><\/p> Relief shown by hachures.<\/span><\/p> Scale [ca. 1:4,800]. 400 ft. = 1 in.<\/span><\/p> Map date: 1818<\/span><\/p> Digital reproduction of map (10 3/4 x 17 in.) in the Public Archives of Canada. National Map Collection. Library and Archives Canada.<\/span><\/p> Georeferenced and modified from NMC Map number 3804 by Map, Data and GIS Library, Brock University. <\/span><\/p><\/div><\/div><\/div>",
"extent": {
"xmin": 667919.7497580689,
"ymin": 4750060.58418071,
"xmax": 670836.5826040689,
"ymax": 4752428.35108071,
"spatialReference": {
"wkid": 26917,
"latestWkid": 26917
}
},
"initialExtent": {
"xmin": 667919.7497580689,
"ymin": 4750060.58418071,
"xmax": 670836.5826040689,
"ymax": 4752428.35108071,
"spatialReference": {
"wkid": 26917,
"latestWkid": 26917
}
},
"fullExtent": {
"xmin": 667919.7497580689,
"ymin": 4750060.58418071,
"xmax": 670836.5826040689,
"ymax": 4752428.35108071,
"spatialReference": {
"wkid": 26917,
"latestWkid": 26917
}
},
"hasMultidimensions": false,
"pixelSizeX": 0.6399369999999946,
"pixelSizeY": 0.6399370000000439,
"datasetFormat": "TIFF",
"uncompressedSize": 33720084,
"blockWidth": 128,
"blockHeight": 128,
"compressionType": "None",
"bandNames": [
"Band_1"
],
"allowCopy": true,
"allowAnalysis": true,
"bandCount": 1,
"noDataValue": 256,
"noDataValues": [
256
],
"pixelType": "U16",
"minPixelSize": 0,
"maxPixelSize": 0,
"copyrightText": "[\"cartography by\"]",
"serviceDataType": "esriImageServiceDataTypeGeneric",
"serviceSourceType": "esriImageServiceSourceTypeDataset",
"minValues": [
0
],
"maxValues": [
255
],
"meanValues": [
154.09193006971
],
"stdvValues": [
38.67943817085
],
"objectIdField": "",
"fields": [],
"capabilities": "Mensuration,Image,Metadata",
"defaultMosaicMethod": "Center",
"allowedMosaicMethods": "",
"sortField": "",
"sortValue": null,
"sortAscending": true,
"mosaicOperator": "First",
"defaultCompressionQuality": 75,
"defaultResamplingMethod": "Bilinear",
"maxImageHeight": 4100,
"maxImageWidth": 15000,
"allowRasterFunction": true,
"rasterFunctionInfos": [
{
"name": "None",
"description": "",
"help": ""
}
],
"rasterTypeInfos": [
{
"name": "Raster Dataset",
"description": "Supports all ArcGIS Raster Datasets",
"help": ""
}
],
"mensurationCapabilities": "Basic",
"hasHistograms": true,
"hasColormap": false,
"hasRasterAttributeTable": false,
"minScale": 0,
"maxScale": 0,
"exportTilesAllowed": false,
"supportsStatistics": false,
"supportsAdvancedQueries": false,
"editFieldsInfo": null,
"ownershipBasedAccessControlForRasters": null,
"allowComputeTiePoints": false,
"useStandardizedQueries": true,
"advancedQueryCapabilities": {
"useStandardizedQueries": true,
"supportsStatistics": false,
"supportsOrderBy": false,
"supportsDistinct": false,
"supportsPagination": false
},
"spatialReference": {
"wkid": 26917,
"latestWkid": 26917
}
}