{ "currentVersion": 10.91, "serviceDescription": "
Historical map showing the fort, buildings, lots, \"American lines\", \"Boundary of military reserve\", vegetation.<\/span><\/p> (Signed by) A. Walpole and Henry Vavasour.<\/span><\/p> Relief shown by landform drawings.<\/span><\/p> Digital reproduction of map (52 x 80 in) in the National Map Collection, Library and Archives Canada<\/span><\/p> Georeferenced and modified from NMC Map number 22342 by Map, Data & GIS Library, Brock University.<\/span><\/p> <\/p><\/div><\/div><\/div>",
"name": "EarlyNiagara/FortErie1819NMC22342",
"description": " Historical map showing the fort, buildings, lots, \"American lines\", \"Boundary of military reserve\", vegetation.<\/span><\/p> (Signed by) A. Walpole and Henry Vavasour.<\/span><\/p> Relief shown by landform drawings.<\/span><\/p> Digital reproduction of map (52 x 80 in) in the National Map Collection, Library and Archives Canada<\/span><\/p> Georeferenced and modified from NMC Map number 22342 by Map, Data & GIS Library, Brock University.<\/span><\/p> <\/p><\/div><\/div><\/div>",
"extent": {
"xmin": -8789288.236163536,
"ymin": 5293469.810598166,
"xmax": -8783370.986975536,
"ymax": 5299200.383064166,
"spatialReference": {
"wkid": 102100,
"latestWkid": 3857
}
},
"initialExtent": {
"xmin": -8789288.236163536,
"ymin": 5293469.810598166,
"xmax": -8783370.986975536,
"ymax": 5299200.383064166,
"spatialReference": {
"wkid": 102100,
"latestWkid": 3857
}
},
"fullExtent": {
"xmin": -8789288.236163536,
"ymin": 5293469.810598166,
"xmax": -8783370.986975536,
"ymax": 5299200.383064166,
"spatialReference": {
"wkid": 102100,
"latestWkid": 3857
}
},
"hasMultidimensions": false,
"pixelSizeX": 1.3429980000000763,
"pixelSizeY": 1.3429979999999961,
"datasetFormat": "TIFF",
"uncompressedSize": 37600804,
"blockWidth": 128,
"blockHeight": 128,
"compressionType": "None",
"bandNames": [
"Band_1"
],
"allowCopy": true,
"allowAnalysis": true,
"bandCount": 1,
"noDataValue": 256,
"noDataValues": [
256
],
"pixelType": "U16",
"minPixelSize": 0,
"maxPixelSize": 0,
"copyrightText": "Map, Data & GIS Library, Brock University.",
"serviceDataType": "esriImageServiceDataTypeGeneric",
"serviceSourceType": "esriImageServiceSourceTypeDataset",
"minValues": [
20
],
"maxValues": [
245
],
"meanValues": [
165.27370932467
],
"stdvValues": [
23.751001945214
],
"objectIdField": "",
"fields": [],
"capabilities": "Mensuration,Image,Metadata",
"defaultMosaicMethod": "Center",
"allowedMosaicMethods": "",
"sortField": "",
"sortValue": null,
"sortAscending": true,
"mosaicOperator": "First",
"defaultCompressionQuality": 75,
"defaultResamplingMethod": "Bilinear",
"maxImageHeight": 4100,
"maxImageWidth": 15000,
"allowRasterFunction": true,
"rasterFunctionInfos": [
{
"name": "None",
"description": "",
"help": ""
}
],
"rasterTypeInfos": [
{
"name": "Raster Dataset",
"description": "Supports all ArcGIS Raster Datasets",
"help": ""
}
],
"mensurationCapabilities": "Basic",
"hasHistograms": true,
"hasColormap": false,
"hasRasterAttributeTable": false,
"minScale": 0,
"maxScale": 0,
"exportTilesAllowed": false,
"supportsStatistics": false,
"supportsAdvancedQueries": false,
"editFieldsInfo": null,
"ownershipBasedAccessControlForRasters": null,
"allowComputeTiePoints": false,
"useStandardizedQueries": true,
"advancedQueryCapabilities": {
"useStandardizedQueries": true,
"supportsStatistics": false,
"supportsOrderBy": false,
"supportsDistinct": false,
"supportsPagination": false
},
"spatialReference": {
"wkid": 102100,
"latestWkid": 3857
}
}