{ "currentVersion": 10.91, "serviceDescription": "
Historical map showing ferry crossings, pier, canals, Fort Erie, US side indicates upper and lower village of Black Rock. Geographic coverage from Lake Erie to Squaw Island.<\/span><\/p> Digital reproduction of map (7 1/4 x 12 in.) in National Map Collection. Library and Archives Canada<\/span><\/p> Georeferenced and modified from NMC Map number 3173 by Map, Data & GIS Library, Brock University.<\/span><\/p> <\/p><\/div><\/div><\/div>",
"name": "EarlyNiagara/FortErie1829NMC3173",
"description": " Historical map showing ferry crossings, pier, canals, Fort Erie, US side indicates upper and lower village of Black Rock. Geographic coverage from Lake Erie to Squaw Island.<\/span><\/p> Digital reproduction of map (7 1/4 x 12 in.) in National Map Collection. Library and Archives Canada<\/span><\/p> Georeferenced and modified from NMC Map number 3173 by Map, Data & GIS Library, Brock University.<\/span><\/p> <\/p><\/div><\/div><\/div>",
"extent": {
"xmin": -8786455.640537813,
"ymin": 5292454.231356613,
"xmax": -8780547.149438813,
"ymax": 5302874.233329614,
"spatialReference": {
"wkid": 102100,
"latestWkid": 3857
}
},
"initialExtent": {
"xmin": -8786455.640537813,
"ymin": 5292454.231356613,
"xmax": -8780547.149438813,
"ymax": 5302874.233329614,
"spatialReference": {
"wkid": 102100,
"latestWkid": 3857
}
},
"fullExtent": {
"xmin": -8786455.640537813,
"ymin": 5292454.231356613,
"xmax": -8780547.149438813,
"ymax": 5302874.233329614,
"spatialReference": {
"wkid": 102100,
"latestWkid": 3857
}
},
"hasMultidimensions": false,
"pixelSizeX": 2.9410109999999885,
"pixelSizeY": 2.9410110000001004,
"datasetFormat": "TIFF",
"uncompressedSize": 14231756,
"blockWidth": 128,
"blockHeight": 128,
"compressionType": "None",
"bandNames": [
"Band_1"
],
"allowCopy": true,
"allowAnalysis": true,
"bandCount": 1,
"noDataValue": 256,
"noDataValues": [
256
],
"pixelType": "U16",
"minPixelSize": 0,
"maxPixelSize": 0,
"copyrightText": "Map, Data & GIS Library, Brock University.",
"serviceDataType": "esriImageServiceDataTypeGeneric",
"serviceSourceType": "esriImageServiceSourceTypeDataset",
"minValues": [
5
],
"maxValues": [
254
],
"meanValues": [
183.94695073421
],
"stdvValues": [
45.054850573149
],
"objectIdField": "",
"fields": [],
"capabilities": "Mensuration,Image,Metadata",
"defaultMosaicMethod": "Center",
"allowedMosaicMethods": "",
"sortField": "",
"sortValue": null,
"sortAscending": true,
"mosaicOperator": "First",
"defaultCompressionQuality": 75,
"defaultResamplingMethod": "Bilinear",
"maxImageHeight": 4100,
"maxImageWidth": 15000,
"allowRasterFunction": true,
"rasterFunctionInfos": [
{
"name": "None",
"description": "",
"help": ""
}
],
"rasterTypeInfos": [
{
"name": "Raster Dataset",
"description": "Supports all ArcGIS Raster Datasets",
"help": ""
}
],
"mensurationCapabilities": "Basic",
"hasHistograms": true,
"hasColormap": false,
"hasRasterAttributeTable": false,
"minScale": 0,
"maxScale": 0,
"exportTilesAllowed": false,
"supportsStatistics": false,
"supportsAdvancedQueries": false,
"editFieldsInfo": null,
"ownershipBasedAccessControlForRasters": null,
"allowComputeTiePoints": false,
"useStandardizedQueries": true,
"advancedQueryCapabilities": {
"useStandardizedQueries": true,
"supportsStatistics": false,
"supportsOrderBy": false,
"supportsDistinct": false,
"supportsPagination": false
},
"spatialReference": {
"wkid": 102100,
"latestWkid": 3857
}
}