{ "currentVersion": 10.91, "serviceDescription": "
Historical map showing the Niagara River between Squaw Island [Grand Island] and Lake Erie, Fort Erie and Towsons Battery on Canadian side. On US side; Upper and Lower Village of Black Rock, canal from Buffalo Creek.<\/span><\/p> Relief shown by hachures.<\/span><\/p> Digital reproduction of map (7 1/4 x 12 in.) in the National Map Collection, Library and Archives Canada<\/span><\/p> Georeferenced and modified from NMC Map number 59331 by Map, Data & GIS Library, Brock University<\/span><\/p> <\/p><\/div><\/div><\/div>",
"name": "EarlyNiagara/FortErie1829NMC59331geo",
"description": " Historical map showing the Niagara River between Squaw Island [Grand Island] and Lake Erie, Fort Erie and Towsons Battery on Canadian side. On US side; Upper and Lower Village of Black Rock, canal from Buffalo Creek.<\/span><\/p> Relief shown by hachures.<\/span><\/p> Digital reproduction of map (7 1/4 x 12 in.) in the National Map Collection, Library and Archives Canada<\/span><\/p> Georeferenced and modified from NMC Map number 59331 by Map, Data & GIS Library, Brock University<\/span><\/p> <\/p><\/div><\/div><\/div>",
"extent": {
"xmin": -8787275.169989135,
"ymin": 5292001.315572092,
"xmax": -8779096.156189134,
"ymax": 5303617.383132093,
"spatialReference": {
"wkid": 102100,
"latestWkid": 3857
}
},
"initialExtent": {
"xmin": -8787275.169989135,
"ymin": 5292001.315572092,
"xmax": -8779096.156189134,
"ymax": 5303617.383132093,
"spatialReference": {
"wkid": 102100,
"latestWkid": 3857
}
},
"fullExtent": {
"xmin": -8787275.169989135,
"ymin": 5292001.315572092,
"xmax": -8779096.156189134,
"ymax": 5303617.383132093,
"spatialReference": {
"wkid": 102100,
"latestWkid": 3857
}
},
"hasMultidimensions": false,
"pixelSizeX": 2.668520000000252,
"pixelSizeY": 2.6685200000000795,
"datasetFormat": "TIFF",
"uncompressedSize": 26683890,
"blockWidth": 128,
"blockHeight": 128,
"compressionType": "None",
"bandNames": [
"Band_1"
],
"allowCopy": true,
"allowAnalysis": true,
"bandCount": 1,
"noDataValue": 256,
"noDataValues": [
256
],
"pixelType": "U16",
"minPixelSize": 0,
"maxPixelSize": 0,
"copyrightText": "Map, Data & GIS Library, Brock University.",
"serviceDataType": "esriImageServiceDataTypeGeneric",
"serviceSourceType": "esriImageServiceSourceTypeDataset",
"minValues": [
0
],
"maxValues": [
247
],
"meanValues": [
172.96483123231
],
"stdvValues": [
47.937005749038
],
"objectIdField": "",
"fields": [],
"capabilities": "Mensuration,Image,Metadata",
"defaultMosaicMethod": "Center",
"allowedMosaicMethods": "",
"sortField": "",
"sortValue": null,
"sortAscending": true,
"mosaicOperator": "First",
"defaultCompressionQuality": 75,
"defaultResamplingMethod": "Bilinear",
"maxImageHeight": 4100,
"maxImageWidth": 15000,
"allowRasterFunction": true,
"rasterFunctionInfos": [
{
"name": "None",
"description": "",
"help": ""
}
],
"rasterTypeInfos": [
{
"name": "Raster Dataset",
"description": "Supports all ArcGIS Raster Datasets",
"help": ""
}
],
"mensurationCapabilities": "Basic",
"hasHistograms": true,
"hasColormap": false,
"hasRasterAttributeTable": false,
"minScale": 0,
"maxScale": 0,
"exportTilesAllowed": false,
"supportsStatistics": false,
"supportsAdvancedQueries": false,
"editFieldsInfo": null,
"ownershipBasedAccessControlForRasters": null,
"allowComputeTiePoints": false,
"useStandardizedQueries": true,
"advancedQueryCapabilities": {
"useStandardizedQueries": true,
"supportsStatistics": false,
"supportsOrderBy": false,
"supportsDistinct": false,
"supportsPagination": false
},
"spatialReference": {
"wkid": 102100,
"latestWkid": 3857
}
}