{ "currentVersion": 10.91, "serviceDescription": "
Historical map showing boundaries, buildings, roads, canals.<\/SPAN><\/P> The canal with locks is shown close to the shore between Fort Erie and the village of Waterloo on Niagara R.; shows terrain, soundings, nature of river bottom, rapids, wharves. Fort Erie military reserve boundary and previous location for canal further north.<\/SPAN><\/P> Includes cross section inset: Section of the line of canal as first laid out.<\/SPAN><\/P> Relief shown by hachures.<\/SPAN><\/P> Scale: 1 in to 400 ft<\/SPAN><\/P> Map date: 1837?<\/SPAN><\/P> Digital reproduction of map (67 x 99 cm.) in the Public Archives of Canada. National Map Collection. Library and Archives Canada.<\/SPAN><\/P> Georeferenced and modified from NMC Map number 21731 by Map, Data and GIS Library, Brock University. <\/SPAN><\/P> <\/P><\/DIV><\/DIV><\/DIV>",
"name": "EarlyNiagara/FortErie1837NMC21731",
"description": " Historical map showing boundaries, buildings, roads, canals.<\/SPAN><\/P> The canal with locks is shown close to the shore between Fort Erie and the village of Waterloo on Niagara R.; shows terrain, soundings, nature of river bottom, rapids, wharves. Fort Erie military reserve boundary and previous location for canal further north.<\/SPAN><\/P> Includes cross section inset: Section of the line of canal as first laid out.<\/SPAN><\/P> Relief shown by hachures.<\/SPAN><\/P> Scale: 1 in to 400 ft<\/SPAN><\/P> Map date: 1837?<\/SPAN><\/P> Digital reproduction of map (67 x 99 cm.) in the Public Archives of Canada. National Map Collection. Library and Archives Canada.<\/SPAN><\/P> Georeferenced and modified from NMC Map number 21731 by Map, Data and GIS Library, Brock University. <\/SPAN><\/P> <\/P><\/DIV><\/DIV><\/DIV>",
"extent": {
"xmin": 666067.2447298157,
"ymin": 4749441.56448136,
"xmax": 672724.9892338157,
"ymax": 4754459.87305536,
"spatialReference": {
"wkid": 26917,
"latestWkid": 26917
}
},
"initialExtent": {
"xmin": 666067.2447298157,
"ymin": 4749441.56448136,
"xmax": 672724.9892338157,
"ymax": 4754459.87305536,
"spatialReference": {
"wkid": 26917,
"latestWkid": 26917
}
},
"fullExtent": {
"xmin": 666067.2447298157,
"ymin": 4749441.56448136,
"xmax": 672724.9892338157,
"ymax": 4754459.87305536,
"spatialReference": {
"wkid": 26917,
"latestWkid": 26917
}
},
"hasMultidimensions": false,
"pixelSizeX": 0.9615459999999919,
"pixelSizeY": 0.9615460000000715,
"datasetFormat": "TIFF",
"uncompressedSize": 72272712,
"blockWidth": 128,
"blockHeight": 128,
"compressionType": "None",
"bandNames": [
"Band_1"
],
"allowCopy": true,
"allowAnalysis": true,
"bandCount": 1,
"noDataValue": 256,
"noDataValues": [
256
],
"pixelType": "U16",
"minPixelSize": 0,
"maxPixelSize": 0,
"copyrightText": "Cartography by Thomas Roy.\nMap, Data & GIS Library, Brock University.",
"serviceDataType": "esriImageServiceDataTypeGeneric",
"serviceSourceType": "esriImageServiceSourceTypeDataset",
"minValues": [
7
],
"maxValues": [
250
],
"meanValues": [
179.73245483604
],
"stdvValues": [
33.927416489233
],
"objectIdField": "",
"fields": [],
"capabilities": "Image,Metadata,Mensuration",
"defaultMosaicMethod": "Center",
"allowedMosaicMethods": "",
"sortField": "",
"sortValue": null,
"sortAscending": true,
"mosaicOperator": "First",
"defaultCompressionQuality": 75,
"defaultResamplingMethod": "Bilinear",
"maxImageHeight": 4100,
"maxImageWidth": 15000,
"allowRasterFunction": true,
"rasterFunctionInfos": [
{
"name": "None",
"description": "",
"help": ""
}
],
"rasterTypeInfos": [
{
"name": "Raster Dataset",
"description": "Supports all ArcGIS Raster Datasets",
"help": ""
}
],
"mensurationCapabilities": "Basic",
"hasHistograms": true,
"hasColormap": false,
"hasRasterAttributeTable": false,
"minScale": 0,
"maxScale": 0,
"exportTilesAllowed": false,
"supportsStatistics": false,
"supportsAdvancedQueries": false,
"editFieldsInfo": null,
"ownershipBasedAccessControlForRasters": null,
"allowComputeTiePoints": false,
"useStandardizedQueries": true,
"advancedQueryCapabilities": {
"useStandardizedQueries": true,
"supportsStatistics": false,
"supportsOrderBy": false,
"supportsDistinct": false,
"supportsPagination": false
},
"spatialReference": {
"wkid": 26917,
"latestWkid": 26917
}
}