{ "currentVersion": 10.91, "serviceDescription": "
Historical map showing a canal with locks close to the shore between Fort Erie and the Village of Waterloo on the Niagara River, soundings, terrain, rapids, wharves, Fort Erie military reserve boundary, and previous location for canal further north.<\/SPAN><\/P> Includes cross section with title: \"Section of the line of canal as originally laid out.\"<\/SPAN><\/P> Relief shown by hachures.<\/SPAN><\/P> Scale [ca. 1:8,888]<\/SPAN><\/P> Map date: 1837<\/SPAN><\/P> Digital reproduction of map (67 x 99 cm.) in the Public Archives of Canada. National Map Collection. Library and Archives Canada.<\/SPAN><\/P> Georeferenced and modified from NMC Map number 21732 by Map, Data and GIS Library, Brock University. <\/SPAN><\/P> <\/P><\/DIV><\/DIV><\/DIV>",
"name": "EarlyNiagara/FortErie1837NMC21732",
"description": " Historical map showing a canal with locks close to the shore between Fort Erie and the Village of Waterloo on the Niagara River, soundings, terrain, rapids, wharves, Fort Erie military reserve boundary, and previous location for canal further north.<\/SPAN><\/P> Includes cross section with title: \"Section of the line of canal as originally laid out.\"<\/SPAN><\/P> Relief shown by hachures.<\/SPAN><\/P> Scale [ca. 1:8,888]<\/SPAN><\/P> Map date: 1837<\/SPAN><\/P> Digital reproduction of map (67 x 99 cm.) in the Public Archives of Canada. National Map Collection. Library and Archives Canada.<\/SPAN><\/P> Georeferenced and modified from NMC Map number 21732 by Map, Data and GIS Library, Brock University. <\/SPAN><\/P> <\/P><\/DIV><\/DIV><\/DIV>",
"extent": {
"xmin": 668464.3032346952,
"ymin": 4750054.99725761,
"xmax": 671679.7894846952,
"ymax": 4754135.40270761,
"spatialReference": {
"wkid": 26917,
"latestWkid": 26917
}
},
"initialExtent": {
"xmin": 668464.3032346952,
"ymin": 4750054.99725761,
"xmax": 671679.7894846952,
"ymax": 4754135.40270761,
"spatialReference": {
"wkid": 26917,
"latestWkid": 26917
}
},
"fullExtent": {
"xmin": 668464.3032346952,
"ymin": 4750054.99725761,
"xmax": 671679.7894846952,
"ymax": 4754135.40270761,
"spatialReference": {
"wkid": 26917,
"latestWkid": 26917
}
},
"hasMultidimensions": false,
"pixelSizeX": 0.6213499999999919,
"pixelSizeY": 0.6213500000000651,
"datasetFormat": "TIFF",
"uncompressedSize": 67968450,
"blockWidth": 128,
"blockHeight": 128,
"compressionType": "None",
"bandNames": [
"Band_1"
],
"allowCopy": true,
"allowAnalysis": true,
"bandCount": 1,
"noDataValue": 256,
"noDataValues": [
256
],
"pixelType": "U16",
"minPixelSize": 0,
"maxPixelSize": 0,
"copyrightText": "by Thos. Roy.\n\nMap, Data & GIS Library, Brock University.",
"serviceDataType": "esriImageServiceDataTypeGeneric",
"serviceSourceType": "esriImageServiceSourceTypeDataset",
"minValues": [
7
],
"maxValues": [
255
],
"meanValues": [
168.3290401371
],
"stdvValues": [
26.829563041028
],
"objectIdField": "",
"fields": [],
"capabilities": "Image,Metadata,Mensuration",
"defaultMosaicMethod": "Center",
"allowedMosaicMethods": "",
"sortField": "",
"sortValue": null,
"sortAscending": true,
"mosaicOperator": "First",
"defaultCompressionQuality": 75,
"defaultResamplingMethod": "Bilinear",
"maxImageHeight": 4100,
"maxImageWidth": 15000,
"allowRasterFunction": true,
"rasterFunctionInfos": [
{
"name": "None",
"description": "",
"help": ""
}
],
"rasterTypeInfos": [
{
"name": "Raster Dataset",
"description": "Supports all ArcGIS Raster Datasets",
"help": ""
}
],
"mensurationCapabilities": "Basic",
"hasHistograms": true,
"hasColormap": false,
"hasRasterAttributeTable": false,
"minScale": 0,
"maxScale": 0,
"exportTilesAllowed": false,
"supportsStatistics": false,
"supportsAdvancedQueries": false,
"editFieldsInfo": null,
"ownershipBasedAccessControlForRasters": null,
"allowComputeTiePoints": false,
"useStandardizedQueries": true,
"advancedQueryCapabilities": {
"useStandardizedQueries": true,
"supportsStatistics": false,
"supportsOrderBy": false,
"supportsDistinct": false,
"supportsPagination": false
},
"spatialReference": {
"wkid": 26917,
"latestWkid": 26917
}
}