{ "currentVersion": 10.91, "serviceDescription": "
Historical map showing lots and concessions for part of Bertie Township and the Military Reserve. Niagara River, Squaw Island, and the shoreline of Buffalo are drawn. The location of Waterloo (Fort Erie) and Black Rock (Buffalo), forts, mill, and the Erie Canal are indicated.<\/span><\/p> Digital reproduction of map (30 x 39 cm.) in the Public Archives of Canada. National Map Collection. Library and Archives Canada.<\/span><\/p> Georeferenced and modified from NMC Map number 3811 by Map, Data and GIS Library, Brock University. <\/span><\/p> <\/p><\/div><\/div><\/div>",
"name": "EarlyNiagara/FortErie1850NMC3811",
"description": " Historical map showing lots and concessions for part of Bertie Township and the Military Reserve. Niagara River, Squaw Island, and the shoreline of Buffalo are drawn. The location of Waterloo (Fort Erie) and Black Rock (Buffalo), forts, mill, and the Erie Canal are indicated.<\/span><\/p> Digital reproduction of map (30 x 39 cm.) in the Public Archives of Canada. National Map Collection. Library and Archives Canada.<\/span><\/p> Georeferenced and modified from NMC Map number 3811 by Map, Data and GIS Library, Brock University. <\/span><\/p> <\/p><\/div><\/div><\/div>",
"extent": {
"xmin": 662321.7642427061,
"ymin": 4745231.807060049,
"xmax": 678543.9572077062,
"ymax": 4757761.937900049,
"spatialReference": {
"wkid": 26917,
"latestWkid": 26917
}
},
"initialExtent": {
"xmin": 662321.7642427061,
"ymin": 4745231.807060049,
"xmax": 678543.9572077062,
"ymax": 4757761.937900049,
"spatialReference": {
"wkid": 26917,
"latestWkid": 26917
}
},
"fullExtent": {
"xmin": 662321.7642427061,
"ymin": 4745231.807060049,
"xmax": 678543.9572077062,
"ymax": 4757761.937900049,
"spatialReference": {
"wkid": 26917,
"latestWkid": 26917
}
},
"hasMultidimensions": false,
"pixelSizeX": 2.0800350000000067,
"pixelSizeY": 2.080034999999961,
"datasetFormat": "TIFF",
"uncompressedSize": 93962352,
"blockWidth": 128,
"blockHeight": 128,
"compressionType": "None",
"bandNames": [
"Band_1"
],
"allowCopy": true,
"allowAnalysis": true,
"bandCount": 1,
"noDataValue": 256,
"noDataValues": [
256
],
"pixelType": "U16",
"minPixelSize": 0,
"maxPixelSize": 0,
"copyrightText": "[\"Signed\"]",
"serviceDataType": "esriImageServiceDataTypeGeneric",
"serviceSourceType": "esriImageServiceSourceTypeDataset",
"minValues": [
16
],
"maxValues": [
255
],
"meanValues": [
193.55317278267
],
"stdvValues": [
21.8206192054
],
"objectIdField": "",
"fields": [],
"capabilities": "Mensuration,Image,Metadata",
"defaultMosaicMethod": "Center",
"allowedMosaicMethods": "",
"sortField": "",
"sortValue": null,
"sortAscending": true,
"mosaicOperator": "First",
"defaultCompressionQuality": 75,
"defaultResamplingMethod": "Bilinear",
"maxImageHeight": 4100,
"maxImageWidth": 15000,
"allowRasterFunction": true,
"rasterFunctionInfos": [
{
"name": "None",
"description": "",
"help": ""
}
],
"rasterTypeInfos": [
{
"name": "Raster Dataset",
"description": "Supports all ArcGIS Raster Datasets",
"help": ""
}
],
"mensurationCapabilities": "Basic",
"hasHistograms": true,
"hasColormap": false,
"hasRasterAttributeTable": false,
"minScale": 0,
"maxScale": 0,
"exportTilesAllowed": false,
"supportsStatistics": false,
"supportsAdvancedQueries": false,
"editFieldsInfo": null,
"ownershipBasedAccessControlForRasters": null,
"allowComputeTiePoints": false,
"useStandardizedQueries": true,
"advancedQueryCapabilities": {
"useStandardizedQueries": true,
"supportsStatistics": false,
"supportsOrderBy": false,
"supportsDistinct": false,
"supportsPagination": false
},
"spatialReference": {
"wkid": 26917,
"latestWkid": 26917
}
}