{ "currentVersion": 10.91, "serviceDescription": "
Historical map of Fort Erie showing buildings, lots, ruins of Fort Erie, proposed ship canal, planned railway depot and mill site.<\/span><\/p> \"to accompany Captain Renwick's report dated 7th February, 1852.\"<\/span><\/p> \"Land applied for by the Brantford & Buffalo Railroad Company coloured yellow and green 2368 feet in length. Line of proposed railroad marked in yellow across the reserve. Part coloured green applied for by Mr. Thomson for the purposes of extending his mill race & other improvements.\"<\/span><\/p> Digital reproduction of map (35 x 22 in.) in the Public Archives of Canada. National Map Collection. Library and Archives Canada.<\/span><\/p> Georeferenced and modified from NMC Map number 22344 by Map, Data and GIS Library, Brock University. <\/span><\/p> <\/p><\/div><\/div><\/div>",
"name": "EarlyNiagara/FortErie1852NMC22344",
"description": " Historical map of Fort Erie showing buildings, lots, ruins of Fort Erie, proposed ship canal, planned railway depot and mill site.<\/span><\/p> \"to accompany Captain Renwick's report dated 7th February, 1852.\"<\/span><\/p> \"Land applied for by the Brantford & Buffalo Railroad Company coloured yellow and green 2368 feet in length. Line of proposed railroad marked in yellow across the reserve. Part coloured green applied for by Mr. Thomson for the purposes of extending his mill race & other improvements.\"<\/span><\/p> Digital reproduction of map (35 x 22 in.) in the Public Archives of Canada. National Map Collection. Library and Archives Canada.<\/span><\/p> Georeferenced and modified from NMC Map number 22344 by Map, Data and GIS Library, Brock University. <\/span><\/p> <\/p><\/div><\/div><\/div>",
"extent": {
"xmin": -8787776.431144714,
"ymin": 5294162.099769555,
"xmax": -8783906.920516714,
"ymax": 5299890.400501555,
"spatialReference": {
"wkid": 102100,
"latestWkid": 3857
}
},
"initialExtent": {
"xmin": -8787776.431144714,
"ymin": 5294162.099769555,
"xmax": -8783906.920516714,
"ymax": 5299890.400501555,
"spatialReference": {
"wkid": 102100,
"latestWkid": 3857
}
},
"fullExtent": {
"xmin": -8787776.431144714,
"ymin": 5294162.099769555,
"xmax": -8783906.920516714,
"ymax": 5299890.400501555,
"spatialReference": {
"wkid": 102100,
"latestWkid": 3857
}
},
"hasMultidimensions": false,
"pixelSizeX": 1.0477959999999733,
"pixelSizeY": 1.0477959999999633,
"datasetFormat": "TIFF",
"uncompressedSize": 40379262,
"blockWidth": 128,
"blockHeight": 128,
"compressionType": "None",
"bandNames": [
"Band_1"
],
"allowCopy": true,
"allowAnalysis": true,
"bandCount": 1,
"noDataValue": 256,
"noDataValues": [
256
],
"pixelType": "U16",
"minPixelSize": 0,
"maxPixelSize": 0,
"copyrightText": "Map, Data & GIS Library, Brock University.",
"serviceDataType": "esriImageServiceDataTypeGeneric",
"serviceSourceType": "esriImageServiceSourceTypeDataset",
"minValues": [
26
],
"maxValues": [
254
],
"meanValues": [
161.68866115284
],
"stdvValues": [
29.910152308121
],
"objectIdField": "",
"fields": [],
"capabilities": "Mensuration,Image,Metadata",
"defaultMosaicMethod": "Center",
"allowedMosaicMethods": "",
"sortField": "",
"sortValue": null,
"sortAscending": true,
"mosaicOperator": "First",
"defaultCompressionQuality": 75,
"defaultResamplingMethod": "Bilinear",
"maxImageHeight": 4100,
"maxImageWidth": 15000,
"allowRasterFunction": true,
"rasterFunctionInfos": [
{
"name": "None",
"description": "",
"help": ""
}
],
"rasterTypeInfos": [
{
"name": "Raster Dataset",
"description": "Supports all ArcGIS Raster Datasets",
"help": ""
}
],
"mensurationCapabilities": "Basic",
"hasHistograms": true,
"hasColormap": false,
"hasRasterAttributeTable": false,
"minScale": 0,
"maxScale": 0,
"exportTilesAllowed": false,
"supportsStatistics": false,
"supportsAdvancedQueries": false,
"editFieldsInfo": null,
"ownershipBasedAccessControlForRasters": null,
"allowComputeTiePoints": false,
"useStandardizedQueries": true,
"advancedQueryCapabilities": {
"useStandardizedQueries": true,
"supportsStatistics": false,
"supportsOrderBy": false,
"supportsDistinct": false,
"supportsPagination": false
},
"spatialReference": {
"wkid": 102100,
"latestWkid": 3857
}
}