{ "currentVersion": 10.91, "serviceDescription": "
Historical map showing ruins of old fort, ordnance and military reserve boundaries, Brantford and Buffalo railway line, lots 1 to 3, roads, wharf, buildings by the Niagara River.<\/span><\/p> Relief shown by hachures.<\/span><\/p> Digital reproduction of map (14 1/4 x 22 1/2 in.) in the Public Archives of Canada. National Map Collection. Library and Archives Canada.<\/span><\/p> Georeferenced and modified from NMC Map number 3812 by Map, Data & GIS Library, Brock University.<\/span><\/p> <\/p><\/div><\/div><\/div>",
"name": "EarlyNiagara/FortErie1853NMC3812",
"description": " Historical map showing ruins of old fort, ordnance and military reserve boundaries, Brantford and Buffalo railway line, lots 1 to 3, roads, wharf, buildings by the Niagara River.<\/span><\/p> Relief shown by hachures.<\/span><\/p> Digital reproduction of map (14 1/4 x 22 1/2 in.) in the Public Archives of Canada. National Map Collection. Library and Archives Canada.<\/span><\/p> Georeferenced and modified from NMC Map number 3812 by Map, Data & GIS Library, Brock University.<\/span><\/p> <\/p><\/div><\/div><\/div>",
"extent": {
"xmin": -8788179.349686604,
"ymin": 5293044.196815167,
"xmax": -8783373.051046604,
"ymax": 5300585.881199166,
"spatialReference": {
"wkid": 102100,
"latestWkid": 3857
}
},
"initialExtent": {
"xmin": -8788179.349686604,
"ymin": 5293044.196815167,
"xmax": -8783373.051046604,
"ymax": 5300585.881199166,
"spatialReference": {
"wkid": 102100,
"latestWkid": 3857
}
},
"fullExtent": {
"xmin": -8788179.349686604,
"ymin": 5293044.196815167,
"xmax": -8783373.051046604,
"ymax": 5300585.881199166,
"spatialReference": {
"wkid": 102100,
"latestWkid": 3857
}
},
"hasMultidimensions": false,
"pixelSizeX": 1.648815999999898,
"pixelSizeY": 1.648815999999903,
"datasetFormat": "TIFF",
"uncompressedSize": 26666420,
"blockWidth": 128,
"blockHeight": 128,
"compressionType": "None",
"bandNames": [
"Band_1"
],
"allowCopy": true,
"allowAnalysis": true,
"bandCount": 1,
"noDataValue": 256,
"noDataValues": [
256
],
"pixelType": "U16",
"minPixelSize": 0,
"maxPixelSize": 0,
"copyrightText": "Map, Data & GIS Library, Brock University.",
"serviceDataType": "esriImageServiceDataTypeGeneric",
"serviceSourceType": "esriImageServiceSourceTypeDataset",
"minValues": [
22
],
"maxValues": [
254
],
"meanValues": [
145.42166519607
],
"stdvValues": [
20.334577522089
],
"objectIdField": "",
"fields": [],
"capabilities": "Mensuration,Image,Metadata",
"defaultMosaicMethod": "Center",
"allowedMosaicMethods": "",
"sortField": "",
"sortValue": null,
"sortAscending": true,
"mosaicOperator": "First",
"defaultCompressionQuality": 75,
"defaultResamplingMethod": "Bilinear",
"maxImageHeight": 4100,
"maxImageWidth": 15000,
"allowRasterFunction": true,
"rasterFunctionInfos": [
{
"name": "None",
"description": "",
"help": ""
}
],
"rasterTypeInfos": [
{
"name": "Raster Dataset",
"description": "Supports all ArcGIS Raster Datasets",
"help": ""
}
],
"mensurationCapabilities": "Basic",
"hasHistograms": true,
"hasColormap": false,
"hasRasterAttributeTable": false,
"minScale": 0,
"maxScale": 0,
"exportTilesAllowed": false,
"supportsStatistics": false,
"supportsAdvancedQueries": false,
"editFieldsInfo": null,
"ownershipBasedAccessControlForRasters": null,
"allowComputeTiePoints": false,
"useStandardizedQueries": true,
"advancedQueryCapabilities": {
"useStandardizedQueries": true,
"supportsStatistics": false,
"supportsOrderBy": false,
"supportsDistinct": false,
"supportsPagination": false
},
"spatialReference": {
"wkid": 102100,
"latestWkid": 3857
}
}