{ "currentVersion": 10.91, "serviceDescription": "
Historical map showing roads, harbours, bridges, canals (existing and proposed).<\/span><\/p> Digital reproduction of map (30 x 46 cm.) in the Public Archives of Canada. National Map Collection. Library and Archives Canada.<\/span><\/p> Depths shown by soundings.<\/span><\/p> Georeferenced and modified from NMC Map number 3171 by Map, Data and GIS Library, Brock University. <\/span><\/p> <\/p><\/div><\/div><\/div>",
"name": "EarlyNiagara/FortErie1858NMC3171",
"description": " Historical map showing roads, harbours, bridges, canals (existing and proposed).<\/span><\/p> Digital reproduction of map (30 x 46 cm.) in the Public Archives of Canada. National Map Collection. Library and Archives Canada.<\/span><\/p> Depths shown by soundings.<\/span><\/p> Georeferenced and modified from NMC Map number 3171 by Map, Data and GIS Library, Brock University. <\/span><\/p> <\/p><\/div><\/div><\/div>",
"extent": {
"xmin": 668174.4291238869,
"ymin": 4748818.105218782,
"xmax": 673011.8530738868,
"ymax": 4755858.190618782,
"spatialReference": {
"wkid": 26917,
"latestWkid": 26917
}
},
"initialExtent": {
"xmin": 668174.4291238869,
"ymin": 4748818.105218782,
"xmax": 673011.8530738868,
"ymax": 4755858.190618782,
"spatialReference": {
"wkid": 26917,
"latestWkid": 26917
}
},
"fullExtent": {
"xmin": 668174.4291238869,
"ymin": 4748818.105218782,
"xmax": 673011.8530738868,
"ymax": 4755858.190618782,
"spatialReference": {
"wkid": 26917,
"latestWkid": 26917
}
},
"hasMultidimensions": false,
"pixelSizeX": 1.053904999999993,
"pixelSizeY": 1.053905000000032,
"datasetFormat": "TIFF",
"uncompressedSize": 61322400,
"blockWidth": 128,
"blockHeight": 128,
"compressionType": "None",
"bandNames": [
"Band_1"
],
"allowCopy": true,
"allowAnalysis": true,
"bandCount": 1,
"noDataValue": 256,
"noDataValues": [
256
],
"pixelType": "U16",
"minPixelSize": 0,
"maxPixelSize": 0,
"copyrightText": "[\"Published by\"]",
"serviceDataType": "esriImageServiceDataTypeGeneric",
"serviceSourceType": "esriImageServiceSourceTypeDataset",
"minValues": [
19
],
"maxValues": [
238
],
"meanValues": [
191.65196655416
],
"stdvValues": [
37.259686617258
],
"objectIdField": "",
"fields": [],
"capabilities": "Mensuration,Image,Metadata",
"defaultMosaicMethod": "Center",
"allowedMosaicMethods": "",
"sortField": "",
"sortValue": null,
"sortAscending": true,
"mosaicOperator": "First",
"defaultCompressionQuality": 75,
"defaultResamplingMethod": "Bilinear",
"maxImageHeight": 4100,
"maxImageWidth": 15000,
"allowRasterFunction": true,
"rasterFunctionInfos": [
{
"name": "None",
"description": "",
"help": ""
}
],
"rasterTypeInfos": [
{
"name": "Raster Dataset",
"description": "Supports all ArcGIS Raster Datasets",
"help": ""
}
],
"mensurationCapabilities": "Basic",
"hasHistograms": true,
"hasColormap": false,
"hasRasterAttributeTable": false,
"minScale": 0,
"maxScale": 0,
"exportTilesAllowed": false,
"supportsStatistics": false,
"supportsAdvancedQueries": false,
"editFieldsInfo": null,
"ownershipBasedAccessControlForRasters": null,
"allowComputeTiePoints": false,
"useStandardizedQueries": true,
"advancedQueryCapabilities": {
"useStandardizedQueries": true,
"supportsStatistics": false,
"supportsOrderBy": false,
"supportsDistinct": false,
"supportsPagination": false
},
"spatialReference": {
"wkid": 26917,
"latestWkid": 26917
}
}