{ "currentVersion": 10.91, "serviceDescription": "
Map showing location of historical events, hand drawn on base map showing streets and railroads.<\/span><\/p><\/div><\/div>",
"name": "EarlyNiagara/FortErie1967",
"description": " Map showing location of historical events, hand drawn on base map showing streets and railroads.<\/span><\/p><\/div><\/div>",
"extent": {
"xmin": 651625.675943004,
"ymin": 4744143.096378613,
"xmax": 673110.9545644338,
"ymax": 4760377.008082286,
"spatialReference": {
"wkid": 26917,
"latestWkid": 26917
}
},
"initialExtent": {
"xmin": 651625.675943004,
"ymin": 4744143.096378613,
"xmax": 673110.9545644338,
"ymax": 4760377.008082286,
"spatialReference": {
"wkid": 26917,
"latestWkid": 26917
}
},
"fullExtent": {
"xmin": 651625.675943004,
"ymin": 4744143.096378613,
"xmax": 673110.9545644338,
"ymax": 4760377.008082286,
"spatialReference": {
"wkid": 26917,
"latestWkid": 26917
}
},
"hasMultidimensions": false,
"pixelSizeX": 2.590772774801617,
"pixelSizeY": 2.6171065135697553,
"datasetFormat": "TIFF",
"uncompressedSize": 154324437,
"blockWidth": 8293,
"blockHeight": 10,
"compressionType": "LZW",
"bandNames": [
"Band_1",
"Band_2",
"Band_3"
],
"allowCopy": true,
"allowAnalysis": true,
"bandCount": 3,
"pixelType": "U8",
"minPixelSize": 0,
"maxPixelSize": 0,
"copyrightText": "Brock University Map, Data & GIS Library",
"serviceDataType": "esriImageServiceDataTypeRGB",
"serviceSourceType": "esriImageServiceSourceTypeDataset",
"minValues": [
0,
0,
0
],
"maxValues": [
255,
255,
255
],
"meanValues": [
234.82206351421,
205.71084818538,
143.83850219396
],
"stdvValues": [
37.910325855328,
32.379751424671,
15.748458472249
],
"objectIdField": "",
"fields": [],
"capabilities": "Mensuration,Image,Metadata",
"defaultMosaicMethod": "Center",
"allowedMosaicMethods": "",
"sortField": "",
"sortValue": null,
"sortAscending": true,
"mosaicOperator": "First",
"defaultCompressionQuality": 75,
"defaultResamplingMethod": "Bilinear",
"maxImageHeight": 4100,
"maxImageWidth": 15000,
"allowRasterFunction": true,
"rasterFunctionInfos": [
{
"name": "None",
"description": "",
"help": ""
}
],
"rasterTypeInfos": [
{
"name": "Raster Dataset",
"description": "Supports all ArcGIS Raster Datasets",
"help": ""
}
],
"mensurationCapabilities": "Basic",
"hasHistograms": true,
"hasColormap": false,
"hasRasterAttributeTable": false,
"minScale": 0,
"maxScale": 0,
"exportTilesAllowed": false,
"supportsStatistics": false,
"supportsAdvancedQueries": false,
"editFieldsInfo": null,
"ownershipBasedAccessControlForRasters": null,
"allowComputeTiePoints": false,
"useStandardizedQueries": true,
"advancedQueryCapabilities": {
"useStandardizedQueries": true,
"supportsStatistics": false,
"supportsOrderBy": false,
"supportsDistinct": false,
"supportsPagination": false
},
"spatialReference": {
"wkid": 26917,
"latestWkid": 26917
}
}