{ "currentVersion": 10.91, "serviceDescription": "
Historical map showing the area near the Fort Erie reserve and the Niagara River; new and old ferry route from Black Rock on United States side. Includes buildings and land owners names. Eddy and current speeds on the Niagara River.<\/SPAN><\/P> Alternate title: Bridgewater Mills 1807<\/SPAN><\/P> Digital reproduction of map (26 x 42 cm.) in the Public Archives of Canada. National Map Collection. Library and Archives Canada.<\/SPAN><\/P> Georeferenced and modified from NMC Map number 3177 by Map, Data and GIS Library, Brock University. <\/SPAN><\/P> <\/P><\/DIV><\/DIV><\/DIV>",
"name": "EarlyNiagara/FortErieBridgewaterMills1807NMC3177",
"description": " Historical map showing the area near the Fort Erie reserve and the Niagara River; new and old ferry route from Black Rock on United States side. Includes buildings and land owners names. Eddy and current speeds on the Niagara River.<\/SPAN><\/P> Alternate title: Bridgewater Mills 1807<\/SPAN><\/P> Digital reproduction of map (26 x 42 cm.) in the Public Archives of Canada. National Map Collection. Library and Archives Canada.<\/SPAN><\/P> Georeferenced and modified from NMC Map number 3177 by Map, Data and GIS Library, Brock University. <\/SPAN><\/P> <\/P><\/DIV><\/DIV><\/DIV>",
"extent": {
"xmin": 669849.4428813412,
"ymin": 4751906.473407149,
"xmax": 671656.0093313413,
"ymax": 4754383.99258115,
"spatialReference": {
"wkid": 26917,
"latestWkid": 26917
}
},
"initialExtent": {
"xmin": 669849.4428813412,
"ymin": 4751906.473407149,
"xmax": 671656.0093313413,
"ymax": 4754383.99258115,
"spatialReference": {
"wkid": 26917,
"latestWkid": 26917
}
},
"fullExtent": {
"xmin": 669849.4428813412,
"ymin": 4751906.473407149,
"xmax": 671656.0093313413,
"ymax": 4754383.99258115,
"spatialReference": {
"wkid": 26917,
"latestWkid": 26917
}
},
"hasMultidimensions": false,
"pixelSizeX": 0.4037020000000094,
"pixelSizeY": 0.4037020000000405,
"datasetFormat": "TIFF",
"uncompressedSize": 54926150,
"blockWidth": 128,
"blockHeight": 128,
"compressionType": "None",
"bandNames": [
"Band_1"
],
"allowCopy": true,
"allowAnalysis": true,
"bandCount": 1,
"noDataValue": 256,
"noDataValues": [
256
],
"pixelType": "U16",
"minPixelSize": 0,
"maxPixelSize": 0,
"copyrightText": "Map, Data & GIS Library, Brock University.",
"serviceDataType": "esriImageServiceDataTypeGeneric",
"serviceSourceType": "esriImageServiceSourceTypeDataset",
"minValues": [
15
],
"maxValues": [
245
],
"meanValues": [
194.49547723556
],
"stdvValues": [
27.330275027617
],
"objectIdField": "",
"fields": [],
"capabilities": "Image,Metadata,Mensuration",
"defaultMosaicMethod": "Center",
"allowedMosaicMethods": "",
"sortField": "",
"sortValue": null,
"sortAscending": true,
"mosaicOperator": "First",
"defaultCompressionQuality": 75,
"defaultResamplingMethod": "Bilinear",
"maxImageHeight": 4100,
"maxImageWidth": 15000,
"allowRasterFunction": true,
"rasterFunctionInfos": [
{
"name": "None",
"description": "",
"help": ""
}
],
"rasterTypeInfos": [
{
"name": "Raster Dataset",
"description": "Supports all ArcGIS Raster Datasets",
"help": ""
}
],
"mensurationCapabilities": "Basic",
"hasHistograms": true,
"hasColormap": false,
"hasRasterAttributeTable": false,
"minScale": 0,
"maxScale": 0,
"exportTilesAllowed": false,
"supportsStatistics": false,
"supportsAdvancedQueries": false,
"editFieldsInfo": null,
"ownershipBasedAccessControlForRasters": null,
"allowComputeTiePoints": false,
"useStandardizedQueries": true,
"advancedQueryCapabilities": {
"useStandardizedQueries": true,
"supportsStatistics": false,
"supportsOrderBy": false,
"supportsDistinct": false,
"supportsPagination": false
},
"spatialReference": {
"wkid": 26917,
"latestWkid": 26917
}
}