{ "currentVersion": 10.91, "serviceDescription": "
Historical map showing boundaries, roads, lot and concession numbers, transportation and geological features, legend.<\/SPAN><\/P> \"To accompany memoir, by M.Y. Williams.\"<\/SPAN><\/P> Publication no.1714.<\/SPAN><\/P> Scale: [ca. 1:253,000]<\/SPAN><\/P> Map date: 1918.<\/SPAN><\/P> Digital reproduction of map (57 x 68 cm.) in the Brock University Map, Data & GIS Library collection. <\/SPAN><\/P> Georeferenced and modified from Brock call# G 3462 N53 C5 1918 G46 by Map, Data and GIS Library, Brock University. <\/SPAN><\/P> <\/P><\/DIV><\/DIV><\/DIV>",
"name": "EarlyNiagara/GeologyNiagaraPeninsula1918",
"description": " Historical map showing boundaries, roads, lot and concession numbers, transportation and geological features, legend.<\/SPAN><\/P> \"To accompany memoir, by M.Y. Williams.\"<\/SPAN><\/P> Publication no.1714.<\/SPAN><\/P> Scale: [ca. 1:253,000]<\/SPAN><\/P> Map date: 1918.<\/SPAN><\/P> Digital reproduction of map (57 x 68 cm.) in the Brock University Map, Data & GIS Library collection. <\/SPAN><\/P> Georeferenced and modified from Brock call# G 3462 N53 C5 1918 G46 by Map, Data and GIS Library, Brock University. <\/SPAN><\/P> <\/P><\/DIV><\/DIV><\/DIV>",
"extent": {
"xmin": -8980324.339201305,
"ymin": 5246923.089078557,
"xmax": -8744831.907941304,
"ymax": 5451356.450530557,
"spatialReference": {
"wkid": 102100,
"latestWkid": 3857
}
},
"initialExtent": {
"xmin": -8980324.339201305,
"ymin": 5246923.089078557,
"xmax": -8744831.907941304,
"ymax": 5451356.450530557,
"spatialReference": {
"wkid": 102100,
"latestWkid": 3857
}
},
"fullExtent": {
"xmin": -8980324.339201305,
"ymin": 5246923.089078557,
"xmax": -8744831.907941304,
"ymax": 5451356.450530557,
"spatialReference": {
"wkid": 102100,
"latestWkid": 3857
}
},
"hasMultidimensions": false,
"pixelSizeX": 14.568044000000057,
"pixelSizeY": 14.568044000000015,
"datasetFormat": "TIFF",
"uncompressedSize": 1361060670,
"blockWidth": 128,
"blockHeight": 128,
"compressionType": "None",
"bandNames": [
"Band_1",
"Band_2",
"Band_3"
],
"allowCopy": true,
"allowAnalysis": true,
"bandCount": 3,
"noDataValue": 256,
"noDataValues": [
256,
256,
256
],
"pixelType": "U16",
"minPixelSize": 0,
"maxPixelSize": 0,
"copyrightText": "Published: Canada, Dept. of Mines, Geological Survey\nGeographer and chief draughtsman: G.O. Senecal\nMap, Data & GIS Library, Brock University.",
"serviceDataType": "esriImageServiceDataTypeGeneric",
"serviceSourceType": "esriImageServiceSourceTypeDataset",
"minValues": [],
"maxValues": [],
"meanValues": [],
"stdvValues": [],
"objectIdField": "",
"fields": [],
"capabilities": "Image,Metadata,Mensuration",
"defaultMosaicMethod": "Center",
"allowedMosaicMethods": "",
"sortField": "",
"sortValue": null,
"sortAscending": true,
"mosaicOperator": "First",
"defaultCompressionQuality": 75,
"defaultResamplingMethod": "Bilinear",
"maxImageHeight": 4100,
"maxImageWidth": 15000,
"allowRasterFunction": true,
"rasterFunctionInfos": [
{
"name": "None",
"description": "",
"help": ""
}
],
"rasterTypeInfos": [
{
"name": "Raster Dataset",
"description": "Supports all ArcGIS Raster Datasets",
"help": ""
}
],
"mensurationCapabilities": "Basic",
"hasHistograms": false,
"hasColormap": false,
"hasRasterAttributeTable": false,
"minScale": 0,
"maxScale": 0,
"exportTilesAllowed": false,
"supportsStatistics": false,
"supportsAdvancedQueries": false,
"editFieldsInfo": null,
"ownershipBasedAccessControlForRasters": null,
"allowComputeTiePoints": false,
"useStandardizedQueries": true,
"advancedQueryCapabilities": {
"useStandardizedQueries": true,
"supportsStatistics": false,
"supportsOrderBy": false,
"supportsDistinct": false,
"supportsPagination": false
},
"spatialReference": {
"wkid": 102100,
"latestWkid": 3857
}
}