{ "currentVersion": 10.91, "serviceDescription": "
Historical map showing street names and lots (numbers, boundaries and dimensions) of the Glenridge section of St. Catharines.<\/SPAN><\/P> Relief shown by contours<\/SPAN><\/P> Scale: [ca. 1:1,920]<\/SPAN><\/P> Map date: 1913?<\/SPAN><\/P> Digital reproduction of map (46 x 74 cm.) in the Public Archives of Canada. National Map Collection. Library and Archives Canada.<\/SPAN><\/P> Georeferenced and modified from <\/SPAN>from Brock call# G 3464 S35 1913 G54 by Map, Data and GIS Library, Brock University<\/SPAN><\/P><\/DIV><\/DIV><\/DIV>",
"name": "EarlyNiagara/Glenridge1913",
"description": " Historical map showing street names and lots (numbers, boundaries and dimensions) of the Glenridge section of St. Catharines.<\/SPAN><\/P> Relief shown by contours<\/SPAN><\/P> Scale: [ca. 1:1,920]<\/SPAN><\/P> Map date: 1913?<\/SPAN><\/P> Digital reproduction of map (46 x 74 cm.) in the Public Archives of Canada. National Map Collection. Library and Archives Canada.<\/SPAN><\/P> Georeferenced and modified from <\/SPAN>from Brock call# G 3464 S35 1913 G54 by Map, Data and GIS Library, Brock University<\/SPAN><\/P><\/DIV><\/DIV><\/DIV>",
"extent": {
"xmin": 642710.2458644414,
"ymin": 4778288.336453732,
"xmax": 643695.5126004413,
"ymax": 4779865.915839732,
"spatialReference": {
"wkid": 26917,
"latestWkid": 26917
}
},
"initialExtent": {
"xmin": 642710.2458644414,
"ymin": 4778288.336453732,
"xmax": 643695.5126004413,
"ymax": 4779865.915839732,
"spatialReference": {
"wkid": 26917,
"latestWkid": 26917
}
},
"fullExtent": {
"xmin": 642710.2458644414,
"ymin": 4778288.336453732,
"xmax": 643695.5126004413,
"ymax": 4779865.915839732,
"spatialReference": {
"wkid": 26917,
"latestWkid": 26917
}
},
"hasMultidimensions": false,
"pixelSizeX": 0.21344599999999164,
"pixelSizeY": 0.21344599999994454,
"datasetFormat": "TIFF",
"uncompressedSize": 204701136,
"blockWidth": 128,
"blockHeight": 128,
"compressionType": "None",
"bandNames": [
"Band_1",
"Band_2",
"Band_3"
],
"allowCopy": true,
"allowAnalysis": true,
"bandCount": 3,
"noDataValue": 256,
"noDataValues": [
256,
256,
256
],
"pixelType": "U16",
"minPixelSize": 0,
"maxPixelSize": 0,
"copyrightText": "By St. Catharines Improvement Company Ltd.\nPublisher: Rolph and Clark, Toronto\nMap, Data & GIS Library, Brock University.",
"serviceDataType": "esriImageServiceDataTypeGeneric",
"serviceSourceType": "esriImageServiceSourceTypeDataset",
"minValues": [],
"maxValues": [],
"meanValues": [],
"stdvValues": [],
"objectIdField": "",
"fields": [],
"capabilities": "Image,Metadata,Mensuration",
"defaultMosaicMethod": "Center",
"allowedMosaicMethods": "",
"sortField": "",
"sortValue": null,
"sortAscending": true,
"mosaicOperator": "First",
"defaultCompressionQuality": 75,
"defaultResamplingMethod": "Bilinear",
"maxImageHeight": 4100,
"maxImageWidth": 15000,
"allowRasterFunction": true,
"rasterFunctionInfos": [
{
"name": "None",
"description": "",
"help": ""
}
],
"rasterTypeInfos": [
{
"name": "Raster Dataset",
"description": "Supports all ArcGIS Raster Datasets",
"help": ""
}
],
"mensurationCapabilities": "Basic",
"hasHistograms": false,
"hasColormap": false,
"hasRasterAttributeTable": false,
"minScale": 0,
"maxScale": 0,
"exportTilesAllowed": false,
"supportsStatistics": false,
"supportsAdvancedQueries": false,
"editFieldsInfo": null,
"ownershipBasedAccessControlForRasters": null,
"allowComputeTiePoints": false,
"useStandardizedQueries": true,
"advancedQueryCapabilities": {
"useStandardizedQueries": true,
"supportsStatistics": false,
"supportsOrderBy": false,
"supportsDistinct": false,
"supportsPagination": false
},
"spatialReference": {
"wkid": 26917,
"latestWkid": 26917
}
}