{ "currentVersion": 10.91, "serviceDescription": "
Historical map showing bondary and hydrological features, roads, lot and concession numbers, survey grids for all townships.<\/SPAN><\/P> Note describes Welland Canal, some roads in Niagara District, villages not shown and notes on survey in Brantford area; description of electoral districts<\/SPAN><\/P> Scale [1:158,400] or 200 chains to an inch<\/SPAN><\/P> Map date 1845<\/SPAN><\/P> Digital reproduction of map (81 x 106 cm.) in the Public Archives of Canada. National Map Collection. Library and Archives Canada.<\/SPAN><\/P> Georeferenced and modified from NMC Map number 11225 by Map, Data and GIS Library, Brock University. <\/SPAN><\/P><\/DIV><\/DIV><\/DIV>",
"name": "EarlyNiagara/GoldenHorseshoe1845NMC11225",
"description": " Historical map showing bondary and hydrological features, roads, lot and concession numbers, survey grids for all townships.<\/SPAN><\/P> Note describes Welland Canal, some roads in Niagara District, villages not shown and notes on survey in Brantford area; description of electoral districts<\/SPAN><\/P> Scale [1:158,400] or 200 chains to an inch<\/SPAN><\/P> Map date 1845<\/SPAN><\/P> Digital reproduction of map (81 x 106 cm.) in the Public Archives of Canada. National Map Collection. Library and Archives Canada.<\/SPAN><\/P> Georeferenced and modified from NMC Map number 11225 by Map, Data and GIS Library, Brock University. <\/SPAN><\/P><\/DIV><\/DIV><\/DIV>",
"extent": {
"xmin": 506826.47985619796,
"ymin": 4731682.598508742,
"xmax": 680950.060008198,
"ymax": 4866931.088988742,
"spatialReference": {
"wkid": 26917,
"latestWkid": 26917
}
},
"initialExtent": {
"xmin": 506826.47985619796,
"ymin": 4731682.598508742,
"xmax": 680950.060008198,
"ymax": 4866931.088988742,
"spatialReference": {
"wkid": 26917,
"latestWkid": 26917
}
},
"fullExtent": {
"xmin": 506826.47985619796,
"ymin": 4731682.598508742,
"xmax": 680950.060008198,
"ymax": 4866931.088988742,
"spatialReference": {
"wkid": 26917,
"latestWkid": 26917
}
},
"hasMultidimensions": false,
"pixelSizeX": 23.603576000000007,
"pixelSizeY": 23.603576000000025,
"datasetFormat": "TIFF",
"uncompressedSize": 84540420,
"blockWidth": 128,
"blockHeight": 128,
"compressionType": "None",
"bandNames": [
"Band_1"
],
"allowCopy": true,
"allowAnalysis": true,
"bandCount": 1,
"noDataValue": 256,
"noDataValues": [
256
],
"pixelType": "U16",
"minPixelSize": 0,
"maxPixelSize": 0,
"copyrightText": "by C. Rankin\nPublisher: Hall & Mooney\nMap, Data & GIS Library, Brock University.",
"serviceDataType": "esriImageServiceDataTypeGeneric",
"serviceSourceType": "esriImageServiceSourceTypeDataset",
"minValues": [
21
],
"maxValues": [
241
],
"meanValues": [
153.44055502304
],
"stdvValues": [
39.880865990431
],
"objectIdField": "",
"fields": [],
"capabilities": "Image,Metadata,Mensuration",
"defaultMosaicMethod": "Center",
"allowedMosaicMethods": "",
"sortField": "",
"sortValue": null,
"sortAscending": true,
"mosaicOperator": "First",
"defaultCompressionQuality": 75,
"defaultResamplingMethod": "Bilinear",
"maxImageHeight": 4100,
"maxImageWidth": 15000,
"allowRasterFunction": true,
"rasterFunctionInfos": [
{
"name": "None",
"description": "",
"help": ""
}
],
"rasterTypeInfos": [
{
"name": "Raster Dataset",
"description": "Supports all ArcGIS Raster Datasets",
"help": ""
}
],
"mensurationCapabilities": "Basic",
"hasHistograms": true,
"hasColormap": false,
"hasRasterAttributeTable": false,
"minScale": 0,
"maxScale": 0,
"exportTilesAllowed": false,
"supportsStatistics": false,
"supportsAdvancedQueries": false,
"editFieldsInfo": null,
"ownershipBasedAccessControlForRasters": null,
"allowComputeTiePoints": false,
"useStandardizedQueries": true,
"advancedQueryCapabilities": {
"useStandardizedQueries": true,
"supportsStatistics": false,
"supportsOrderBy": false,
"supportsDistinct": false,
"supportsPagination": false
},
"spatialReference": {
"wkid": 26917,
"latestWkid": 26917
}
}