{
 "currentVersion": 10.91,
 "serviceDescription": "Map date: 1815? Scale [ca. 1:180,000] Oriented with north to the bottom. Watermark: 'J Bates 1812 'Relief shown by hachures.' Map of Grand River & c. Map of River Niagara & c. & c.'' - title used in 'Mapping Upper Canada 1780-1867' / Joan Winearls Digital reproduction of map (33 x 80 cm) in the Brock University Map, Data & GIS Library collection. Georeferenced and modified from Brock call# G 3462 N53 1815 M37 by Map, Data and GIS Library, Brock University. ",
 "name": "EarlyNiagara/GrandRiverNiagaraPart1",
 "description": "Map date: 1815? Scale [ca. 1:180,000] Oriented with north to the bottom. Watermark: 'J Bates 1812 'Relief shown by hachures.' Map of Grand River & c. Map of River Niagara & c. & c.'' - title used in 'Mapping Upper Canada 1780-1867' / Joan Winearls Digital reproduction of map (33 x 80 cm) in the Brock University Map, Data & GIS Library collection. Georeferenced and modified from Brock call# G 3462 N53 1815 M37 by Map, Data and GIS Library, Brock University. ",
 "extent": {
  "xmin": -8887457.85937036,
  "ymin": 5284168.788238139,
  "xmax": -8776022.35959436,
  "ymax": 5372006.721244139,
  "spatialReference": {
   "wkid": 102100,
   "latestWkid": 3857
  }
 },
 "initialExtent": {
  "xmin": -8887457.85937036,
  "ymin": 5284168.788238139,
  "xmax": -8776022.35959436,
  "ymax": 5372006.721244139,
  "spatialReference": {
   "wkid": 102100,
   "latestWkid": 3857
  }
 },
 "fullExtent": {
  "xmin": -8887457.85937036,
  "ymin": 5284168.788238139,
  "xmax": -8776022.35959436,
  "ymax": 5372006.721244139,
  "spatialReference": {
   "wkid": 102100,
   "latestWkid": 3857
  }
 },
 "hasMultidimensions": false,
 "pixelSizeX": 22.910259000000032,
 "pixelSizeY": 22.91025899999994,
 "datasetFormat": "TIFF",
 "uncompressedSize": 37297152,
 "blockWidth": 128,
 "blockHeight": 128,
 "compressionType": "LZW",
 "bandNames": [
  "Band_1"
 ],
 "allowCopy": true,
 "allowAnalysis": true,
 "bandCount": 1,
 "noDataValue": 256,
 "noDataValues": [
  256
 ],
 "pixelType": "U16",
 "minPixelSize": 0,
 "maxPixelSize": 0,
 "copyrightText": "Map, Data & GIS Library, Brock University.",
 "serviceDataType": "esriImageServiceDataTypeGeneric",
 "serviceSourceType": "esriImageServiceSourceTypeDataset",
 "minValues": [
  39
 ],
 "maxValues": [
  254
 ],
 "meanValues": [
  228.53390403598
 ],
 "stdvValues": [
  27.213653196234
 ],
 "objectIdField": "",
 "fields": [],
 "capabilities": "Image,Metadata,Mensuration",
 "defaultMosaicMethod": "Center",
 "allowedMosaicMethods": "",
 "sortField": "",
 "sortValue": null,
 "sortAscending": true,
 "mosaicOperator": "First",
 "defaultCompressionQuality": 75,
 "defaultResamplingMethod": "Bilinear",
 "maxImageHeight": 4100,
 "maxImageWidth": 15000,
 "allowRasterFunction": true,
 "rasterFunctionInfos": [
  {
   "name": "None",
   "description": "",
   "help": ""
  }
 ],
 "rasterTypeInfos": [
  {
   "name": "Raster Dataset",
   "description": "Supports all ArcGIS Raster Datasets",
   "help": ""
  }
 ],
 "mensurationCapabilities": "Basic",
 "hasHistograms": true,
 "hasColormap": false,
 "hasRasterAttributeTable": false,
 "minScale": 0,
 "maxScale": 0,
 "exportTilesAllowed": false,
 "supportsStatistics": false,
 "supportsAdvancedQueries": false,
 "editFieldsInfo": null,
 "ownershipBasedAccessControlForRasters": null,
 "allowComputeTiePoints": false,
 "useStandardizedQueries": true,
 "advancedQueryCapabilities": {
  "useStandardizedQueries": true,
  "supportsStatistics": false,
  "supportsOrderBy": false,
  "supportsDistinct": false,
  "supportsPagination": false
 },
 "spatialReference": {
  "wkid": 102100,
  "latestWkid": 3857
 }
}
