{
 "currentVersion": 10.91,
 "serviceDescription": "Map date: 1815? Scale [ca. 1:180,000] Oriented with north to the bottom. Watermark: 'J Bates 1812 'Relief shown by hacures.'Map of Grand River &c. Map of River Niagara &c. &c.' - title used in 'Mapping Upper Canada 1780-1867' / Joan Winearls Digital reproduction of map (33 x 80 cm.) in the Brock University Map, Data & GIS Library collection. Georeferenced and modified from Brock call# G 3462 N53 1815 M37 by Map, Data and GIS Library, Brock University. ",
 "name": "EarlyNiagara/GrandRiverNiagaraPart2",
 "description": "Map date: 1815? Scale [ca. 1:180,000] Oriented with north to the bottom. Watermark: 'J Bates 1812 'Relief shown by hacures.'Map of Grand River &c. Map of River Niagara &c. &c.' - title used in 'Mapping Upper Canada 1780-1867' / Joan Winearls Digital reproduction of map (33 x 80 cm.) in the Brock University Map, Data & GIS Library collection. Georeferenced and modified from Brock call# G 3462 N53 1815 M37 by Map, Data and GIS Library, Brock University. ",
 "extent": {
  "xmin": -8972640.057947068,
  "ymin": 5277548.6492129555,
  "xmax": -8871575.693303067,
  "ymax": 5366829.133184955,
  "spatialReference": {
   "wkid": 102100,
   "latestWkid": 3857
  }
 },
 "initialExtent": {
  "xmin": -8972640.057947068,
  "ymin": 5277548.6492129555,
  "xmax": -8871575.693303067,
  "ymax": 5366829.133184955,
  "spatialReference": {
   "wkid": 102100,
   "latestWkid": 3857
  }
 },
 "fullExtent": {
  "xmin": -8972640.057947068,
  "ymin": 5277548.6492129555,
  "xmax": -8871575.693303067,
  "ymax": 5366829.133184955,
  "spatialReference": {
   "wkid": 102100,
   "latestWkid": 3857
  }
 },
 "hasMultidimensions": false,
 "pixelSizeX": 21.984852000000068,
 "pixelSizeY": 21.98485199999999,
 "datasetFormat": "TIFF",
 "uncompressedSize": 37336834,
 "blockWidth": 128,
 "blockHeight": 128,
 "compressionType": "LZW",
 "bandNames": [
  "Band_1"
 ],
 "allowCopy": true,
 "allowAnalysis": true,
 "bandCount": 1,
 "noDataValue": 256,
 "noDataValues": [
  256
 ],
 "pixelType": "U16",
 "minPixelSize": 0,
 "maxPixelSize": 0,
 "copyrightText": "Map, Data & GIS Library, Brock University.",
 "serviceDataType": "esriImageServiceDataTypeGeneric",
 "serviceSourceType": "esriImageServiceSourceTypeDataset",
 "minValues": [
  39
 ],
 "maxValues": [
  254
 ],
 "meanValues": [
  228.76772163482
 ],
 "stdvValues": [
  20.685103524959
 ],
 "objectIdField": "",
 "fields": [],
 "capabilities": "Image,Metadata,Mensuration",
 "defaultMosaicMethod": "Center",
 "allowedMosaicMethods": "",
 "sortField": "",
 "sortValue": null,
 "sortAscending": true,
 "mosaicOperator": "First",
 "defaultCompressionQuality": 75,
 "defaultResamplingMethod": "Bilinear",
 "maxImageHeight": 4100,
 "maxImageWidth": 15000,
 "allowRasterFunction": true,
 "rasterFunctionInfos": [
  {
   "name": "None",
   "description": "",
   "help": ""
  }
 ],
 "rasterTypeInfos": [
  {
   "name": "Raster Dataset",
   "description": "Supports all ArcGIS Raster Datasets",
   "help": ""
  }
 ],
 "mensurationCapabilities": "Basic",
 "hasHistograms": true,
 "hasColormap": false,
 "hasRasterAttributeTable": false,
 "minScale": 0,
 "maxScale": 0,
 "exportTilesAllowed": false,
 "supportsStatistics": false,
 "supportsAdvancedQueries": false,
 "editFieldsInfo": null,
 "ownershipBasedAccessControlForRasters": null,
 "allowComputeTiePoints": false,
 "useStandardizedQueries": true,
 "advancedQueryCapabilities": {
  "useStandardizedQueries": true,
  "supportsStatistics": false,
  "supportsOrderBy": false,
  "supportsDistinct": false,
  "supportsPagination": false
 },
 "spatialReference": {
  "wkid": 102100,
  "latestWkid": 3857
 }
}
