{ "currentVersion": 10.91, "serviceDescription": "
Historical map showing the names of land owners, concession and lot numbers, notes.<\/SPAN><\/P> Copied from an original by Charles Chambers and Samuel Holland ; Signed Augustus Jones, 25th October 1791.<\/SPAN><\/P> \"Map #9\" in margin.<\/SPAN><\/P> Digital reproduction of map (33 x 49 cm.) in the Archives of Ontario.<\/SPAN><\/P> Georeferenced and modified from Brock call# G 3464 G73 G46 1791 G73, by Map, Data and GIS Library, Brock University. <\/SPAN><\/P> <\/P><\/DIV><\/DIV><\/DIV>",
"name": "EarlyNiagara/Grantham1791",
"description": " Historical map showing the names of land owners, concession and lot numbers, notes.<\/SPAN><\/P> Copied from an original by Charles Chambers and Samuel Holland ; Signed Augustus Jones, 25th October 1791.<\/SPAN><\/P> \"Map #9\" in margin.<\/SPAN><\/P> Digital reproduction of map (33 x 49 cm.) in the Archives of Ontario.<\/SPAN><\/P> Georeferenced and modified from Brock call# G 3464 G73 G46 1791 G73, by Map, Data and GIS Library, Brock University. <\/SPAN><\/P> <\/P><\/DIV><\/DIV><\/DIV>",
"extent": {
"xmin": 639064.2011564854,
"ymin": 4773695.462632164,
"xmax": 650498.5329884854,
"ymax": 4791403.037308164,
"spatialReference": {
"wkid": 26917,
"latestWkid": 26917
}
},
"initialExtent": {
"xmin": 639064.2011564854,
"ymin": 4773695.462632164,
"xmax": 650498.5329884854,
"ymax": 4791403.037308164,
"spatialReference": {
"wkid": 26917,
"latestWkid": 26917
}
},
"fullExtent": {
"xmin": 639064.2011564854,
"ymin": 4773695.462632164,
"xmax": 650498.5329884854,
"ymax": 4791403.037308164,
"spatialReference": {
"wkid": 26917,
"latestWkid": 26917
}
},
"hasMultidimensions": false,
"pixelSizeX": 2.896234000000014,
"pixelSizeY": 2.896233999999932,
"datasetFormat": "TIFF",
"uncompressedSize": 144791748,
"blockWidth": 128,
"blockHeight": 128,
"compressionType": "LZW",
"bandNames": [
"Band_1",
"Band_2",
"Band_3"
],
"allowCopy": true,
"allowAnalysis": true,
"bandCount": 3,
"noDataValue": 256,
"noDataValues": [
256,
256,
256
],
"pixelType": "U16",
"minPixelSize": 0,
"maxPixelSize": 0,
"copyrightText": "Map, Data & GIS Library, Brock University.",
"serviceDataType": "esriImageServiceDataTypeGeneric",
"serviceSourceType": "esriImageServiceSourceTypeDataset",
"minValues": [
5,
0,
1
],
"maxValues": [
245,
227,
189
],
"meanValues": [
183.68117472645,
157.53325197644,
116.28079942848
],
"stdvValues": [
24.145853505998,
25.251290149021,
22.272407109218
],
"objectIdField": "",
"fields": [],
"capabilities": "Image,Metadata,Mensuration",
"defaultMosaicMethod": "Center",
"allowedMosaicMethods": "",
"sortField": "",
"sortValue": null,
"sortAscending": true,
"mosaicOperator": "First",
"defaultCompressionQuality": 75,
"defaultResamplingMethod": "Bilinear",
"maxImageHeight": 4100,
"maxImageWidth": 15000,
"allowRasterFunction": true,
"rasterFunctionInfos": [
{
"name": "None",
"description": "",
"help": ""
}
],
"rasterTypeInfos": [
{
"name": "Raster Dataset",
"description": "Supports all ArcGIS Raster Datasets",
"help": ""
}
],
"mensurationCapabilities": "Basic",
"hasHistograms": true,
"hasColormap": false,
"hasRasterAttributeTable": false,
"minScale": 0,
"maxScale": 0,
"exportTilesAllowed": false,
"supportsStatistics": false,
"supportsAdvancedQueries": false,
"editFieldsInfo": null,
"ownershipBasedAccessControlForRasters": null,
"allowComputeTiePoints": false,
"useStandardizedQueries": true,
"advancedQueryCapabilities": {
"useStandardizedQueries": true,
"supportsStatistics": false,
"supportsOrderBy": false,
"supportsDistinct": false,
"supportsPagination": false
},
"spatialReference": {
"wkid": 26917,
"latestWkid": 26917
}
}