{ "currentVersion": 10.91, "serviceDescription": "
Map date: 1811<\/span><\/p> Scale [ca. 1:31,680]<\/span><\/p> \"A.12\"<\/span><\/p> Digital reproduction of map (31 x 51 cm.) in the Brock University Map, Data & GIS Library.<\/span><\/p> Georeferenced and modified from negative version map, from Brock call # G 3464 G73 G46 1811 G73, by Map, Data and GIS Library, Brock University. <\/span><\/p> <\/p><\/div><\/div><\/div>",
"name": "EarlyNiagara/Grantham_1811geo",
"description": " Map date: 1811<\/span><\/p> Scale [ca. 1:31,680]<\/span><\/p> \"A.12\"<\/span><\/p> Digital reproduction of map (31 x 51 cm.) in the Brock University Map, Data & GIS Library.<\/span><\/p> Georeferenced and modified from negative version map, from Brock call # G 3464 G73 G46 1811 G73, by Map, Data and GIS Library, Brock University. <\/span><\/p> <\/p><\/div><\/div><\/div>",
"extent": {
"xmin": -8828418.813435992,
"ymin": 5324700.8620590875,
"xmax": -8808963.532051992,
"ymax": 5354562.3587240875,
"spatialReference": {
"wkid": 102100,
"latestWkid": 3857
}
},
"initialExtent": {
"xmin": -8828418.813435992,
"ymin": 5324700.8620590875,
"xmax": -8808963.532051992,
"ymax": 5354562.3587240875,
"spatialReference": {
"wkid": 102100,
"latestWkid": 3857
}
},
"fullExtent": {
"xmin": -8828418.813435992,
"ymin": 5324700.8620590875,
"xmax": -8808963.532051992,
"ymax": 5354562.3587240875,
"spatialReference": {
"wkid": 102100,
"latestWkid": 3857
}
},
"hasMultidimensions": false,
"pixelSizeX": 4.21474900000012,
"pixelSizeY": 4.214748999999998,
"datasetFormat": "TIFF",
"uncompressedSize": 196226160,
"blockWidth": 128,
"blockHeight": 128,
"compressionType": "LZW",
"bandNames": [
"Band_1",
"Band_2",
"Band_3"
],
"allowCopy": true,
"allowAnalysis": true,
"bandCount": 3,
"noDataValue": 256,
"noDataValues": [
256,
256,
256
],
"pixelType": "U16",
"minPixelSize": 0,
"maxPixelSize": 0,
"copyrightText": "[\"signed\"]",
"serviceDataType": "esriImageServiceDataTypeGeneric",
"serviceSourceType": "esriImageServiceSourceTypeDataset",
"minValues": [
41,
41,
41
],
"maxValues": [
218,
218,
218
],
"meanValues": [
190.47136413169,
191.3006342718,
192.3258639471
],
"stdvValues": [
52.15122684359,
50.694328758764,
48.707608915608
],
"objectIdField": "",
"fields": [],
"capabilities": "Mensuration,Image,Metadata",
"defaultMosaicMethod": "Center",
"allowedMosaicMethods": "",
"sortField": "",
"sortValue": null,
"sortAscending": true,
"mosaicOperator": "First",
"defaultCompressionQuality": 75,
"defaultResamplingMethod": "Bilinear",
"maxImageHeight": 4100,
"maxImageWidth": 15000,
"allowRasterFunction": true,
"rasterFunctionInfos": [
{
"name": "None",
"description": "",
"help": ""
}
],
"rasterTypeInfos": [
{
"name": "Raster Dataset",
"description": "Supports all ArcGIS Raster Datasets",
"help": ""
}
],
"mensurationCapabilities": "Basic",
"hasHistograms": true,
"hasColormap": false,
"hasRasterAttributeTable": false,
"minScale": 0,
"maxScale": 0,
"exportTilesAllowed": false,
"supportsStatistics": false,
"supportsAdvancedQueries": false,
"editFieldsInfo": null,
"ownershipBasedAccessControlForRasters": null,
"allowComputeTiePoints": false,
"useStandardizedQueries": true,
"advancedQueryCapabilities": {
"useStandardizedQueries": true,
"supportsStatistics": false,
"supportsOrderBy": false,
"supportsDistinct": false,
"supportsPagination": false
},
"spatialReference": {
"wkid": 102100,
"latestWkid": 3857
}
}