{ "currentVersion": 10.91, "serviceDescription": "
Historical map showing lot and concession numbers with surveyors' names.<\/SPAN><\/P> \"Show conflicting survey lines in cons VII, VIII, and IX, and gore between cons VII and VIII ; locations of Hambly's, McDonnel's and Rykert's lines\"--Mapping Upper Canada 1780-1876 / by Joan Winerals.<\/SPAN><\/P> Digital reproduction of map (12 1/4 x 22 in.) in the Public Archives of Canada. National Map Collection. Library and Archives Canada.<\/SPAN><\/P> Georeferenced and modified from NMC Map number 3622 by Map, Data and GIS Library, Brock University. <\/SPAN><\/P> <\/P><\/DIV><\/DIV><\/DIV>",
"name": "EarlyNiagara/Grimsby1858NMC3622",
"description": " Historical map showing lot and concession numbers with surveyors' names.<\/SPAN><\/P> \"Show conflicting survey lines in cons VII, VIII, and IX, and gore between cons VII and VIII ; locations of Hambly's, McDonnel's and Rykert's lines\"--Mapping Upper Canada 1780-1876 / by Joan Winerals.<\/SPAN><\/P> Digital reproduction of map (12 1/4 x 22 in.) in the Public Archives of Canada. National Map Collection. Library and Archives Canada.<\/SPAN><\/P> Georeferenced and modified from NMC Map number 3622 by Map, Data and GIS Library, Brock University. <\/SPAN><\/P> <\/P><\/DIV><\/DIV><\/DIV>",
"extent": {
"xmin": 604267.0361168442,
"ymin": 4768787.7232855605,
"xmax": 625549.2288668442,
"ymax": 4784237.19200056,
"spatialReference": {
"wkid": 26917,
"latestWkid": 26917
}
},
"initialExtent": {
"xmin": 604267.0361168442,
"ymin": 4768787.7232855605,
"xmax": 625549.2288668442,
"ymax": 4784237.19200056,
"spatialReference": {
"wkid": 26917,
"latestWkid": 26917
}
},
"fullExtent": {
"xmin": 604267.0361168442,
"ymin": 4768787.7232855605,
"xmax": 625549.2288668442,
"ymax": 4784237.19200056,
"spatialReference": {
"wkid": 26917,
"latestWkid": 26917
}
},
"hasMultidimensions": false,
"pixelSizeX": 4.67740500000001,
"pixelSizeY": 4.67740499999999,
"datasetFormat": "TIFF",
"uncompressedSize": 30057300,
"blockWidth": 128,
"blockHeight": 128,
"compressionType": "None",
"bandNames": [
"Band_1"
],
"allowCopy": true,
"allowAnalysis": true,
"bandCount": 1,
"noDataValue": 256,
"noDataValues": [
256
],
"pixelType": "U16",
"minPixelSize": 0,
"maxPixelSize": 0,
"copyrightText": "Map, Data & GIS Library, Brock University.",
"serviceDataType": "esriImageServiceDataTypeGeneric",
"serviceSourceType": "esriImageServiceSourceTypeDataset",
"minValues": [
20
],
"maxValues": [
255
],
"meanValues": [
211.35198523066
],
"stdvValues": [
31.375825964344
],
"objectIdField": "",
"fields": [],
"capabilities": "Image,Metadata,Mensuration",
"defaultMosaicMethod": "Center",
"allowedMosaicMethods": "",
"sortField": "",
"sortValue": null,
"sortAscending": true,
"mosaicOperator": "First",
"defaultCompressionQuality": 75,
"defaultResamplingMethod": "Bilinear",
"maxImageHeight": 4100,
"maxImageWidth": 15000,
"allowRasterFunction": true,
"rasterFunctionInfos": [
{
"name": "None",
"description": "",
"help": ""
}
],
"rasterTypeInfos": [
{
"name": "Raster Dataset",
"description": "Supports all ArcGIS Raster Datasets",
"help": ""
}
],
"mensurationCapabilities": "Basic",
"hasHistograms": true,
"hasColormap": false,
"hasRasterAttributeTable": false,
"minScale": 0,
"maxScale": 0,
"exportTilesAllowed": false,
"supportsStatistics": false,
"supportsAdvancedQueries": false,
"editFieldsInfo": null,
"ownershipBasedAccessControlForRasters": null,
"allowComputeTiePoints": false,
"useStandardizedQueries": true,
"advancedQueryCapabilities": {
"useStandardizedQueries": true,
"supportsStatistics": false,
"supportsOrderBy": false,
"supportsDistinct": false,
"supportsPagination": false
},
"spatialReference": {
"wkid": 26917,
"latestWkid": 26917
}
}