{ "currentVersion": 10.91, "serviceDescription": "
Historical map showing lot and concession numbers, place names, railroads, ward boundaries and county boundaries.<\/SPAN><\/P> Scale 2 1/2 miles per inch.<\/SPAN><\/P> Map date: 1879<\/SPAN><\/P> Map is page 21 of the Atlas of the province of Ontario by counties / published by Miles and Company, Toronto<\/SPAN><\/P> Digital reproduction of map (25 x 40 cm.) in the Brock University Map, Data & GIS Library collection. <\/SPAN><\/P> Georeferenced and modified from Brock call # G 3464 S35 1879 M55 by Map, Data and GIS Library, Brock University. (verso map)<\/SPAN><\/P> <\/P><\/DIV><\/DIV><\/DIV>",
"name": "EarlyNiagara/Haldimand1879",
"description": " Historical map showing lot and concession numbers, place names, railroads, ward boundaries and county boundaries.<\/SPAN><\/P> Scale 2 1/2 miles per inch.<\/SPAN><\/P> Map date: 1879<\/SPAN><\/P> Map is page 21 of the Atlas of the province of Ontario by counties / published by Miles and Company, Toronto<\/SPAN><\/P> Digital reproduction of map (25 x 40 cm.) in the Brock University Map, Data & GIS Library collection. <\/SPAN><\/P> Georeferenced and modified from Brock call # G 3464 S35 1879 M55 by Map, Data and GIS Library, Brock University. (verso map)<\/SPAN><\/P> <\/P><\/DIV><\/DIV><\/DIV>",
"extent": {
"xmin": 538569.4540049651,
"ymin": 4718738.032671914,
"xmax": 630860.7545009651,
"ymax": 4791117.3443199145,
"spatialReference": {
"wkid": 26917,
"latestWkid": 26917
}
},
"initialExtent": {
"xmin": 538569.4540049651,
"ymin": 4718738.032671914,
"xmax": 630860.7545009651,
"ymax": 4791117.3443199145,
"spatialReference": {
"wkid": 26917,
"latestWkid": 26917
}
},
"fullExtent": {
"xmin": 538569.4540049651,
"ymin": 4718738.032671914,
"xmax": 630860.7545009651,
"ymax": 4791117.3443199145,
"spatialReference": {
"wkid": 26917,
"latestWkid": 26917
}
},
"hasMultidimensions": false,
"pixelSizeX": 25.593815999999993,
"pixelSizeY": 25.59381600000001,
"datasetFormat": "TIFF",
"uncompressedSize": 61186608,
"blockWidth": 128,
"blockHeight": 128,
"compressionType": "None",
"bandNames": [
"Band_1",
"Band_2",
"Band_3"
],
"allowCopy": true,
"allowAnalysis": true,
"bandCount": 3,
"noDataValue": 256,
"noDataValues": [
256,
256,
256
],
"pixelType": "U16",
"minPixelSize": 0,
"maxPixelSize": 0,
"copyrightText": "Publisher: Miles and Company, Toronto.\nMap, Data & GIS Library, Brock University.",
"serviceDataType": "esriImageServiceDataTypeGeneric",
"serviceSourceType": "esriImageServiceSourceTypeDataset",
"minValues": [
0,
0,
0
],
"maxValues": [
255,
255,
255
],
"meanValues": [
200.85196254141,
178.55530632607,
152.53537890486
],
"stdvValues": [
46.279295798354,
48.210235794956,
50.340081742377
],
"objectIdField": "",
"fields": [],
"capabilities": "Image,Metadata,Mensuration",
"defaultMosaicMethod": "Center",
"allowedMosaicMethods": "",
"sortField": "",
"sortValue": null,
"sortAscending": true,
"mosaicOperator": "First",
"defaultCompressionQuality": 75,
"defaultResamplingMethod": "Bilinear",
"maxImageHeight": 4100,
"maxImageWidth": 15000,
"allowRasterFunction": true,
"rasterFunctionInfos": [
{
"name": "None",
"description": "",
"help": ""
}
],
"rasterTypeInfos": [
{
"name": "Raster Dataset",
"description": "Supports all ArcGIS Raster Datasets",
"help": ""
}
],
"mensurationCapabilities": "Basic",
"hasHistograms": true,
"hasColormap": false,
"hasRasterAttributeTable": false,
"minScale": 0,
"maxScale": 0,
"exportTilesAllowed": false,
"supportsStatistics": false,
"supportsAdvancedQueries": false,
"editFieldsInfo": null,
"ownershipBasedAccessControlForRasters": null,
"allowComputeTiePoints": false,
"useStandardizedQueries": true,
"advancedQueryCapabilities": {
"useStandardizedQueries": true,
"supportsStatistics": false,
"supportsOrderBy": false,
"supportsDistinct": false,
"supportsPagination": false
},
"spatialReference": {
"wkid": 26917,
"latestWkid": 26917
}
}