{ "currentVersion": 10.91, "serviceDescription": "
Historical map showing boundary features, major roads and railroads.<\/span><\/p> Digital reproduction of map (18 x 23 1/2 in.) in the National Map Collection. Library and Archives Canada<\/span><\/p> Georeferenced and modified from NMC Map number 21910 by Map, Data & GIS Library, Brock University.<\/span><\/p> <\/p><\/div><\/div><\/div>",
"name": "EarlyNiagara/HaldimandWellandc1858NMC21910",
"description": " Historical map showing boundary features, major roads and railroads.<\/span><\/p> Digital reproduction of map (18 x 23 1/2 in.) in the National Map Collection. Library and Archives Canada<\/span><\/p> Georeferenced and modified from NMC Map number 21910 by Map, Data & GIS Library, Brock University.<\/span><\/p> <\/p><\/div><\/div><\/div>",
"extent": {
"xmin": 482857.9148353815,
"ymin": 4699887.121796874,
"xmax": 728596.6160233815,
"ymax": 4883149.882004875,
"spatialReference": {
"wkid": 26717,
"latestWkid": 26717
}
},
"initialExtent": {
"xmin": 482857.9148353815,
"ymin": 4699887.121796874,
"xmax": 728596.6160233815,
"ymax": 4883149.882004875,
"spatialReference": {
"wkid": 26717,
"latestWkid": 26717
}
},
"fullExtent": {
"xmin": 482857.9148353815,
"ymin": 4699887.121796874,
"xmax": 728596.6160233815,
"ymax": 4883149.882004875,
"spatialReference": {
"wkid": 26717,
"latestWkid": 26717
}
},
"hasMultidimensions": false,
"pixelSizeX": 54.803456999999995,
"pixelSizeY": 54.80345700000013,
"datasetFormat": "TIFF",
"uncompressedSize": 29988992,
"blockWidth": 128,
"blockHeight": 128,
"compressionType": "None",
"bandNames": [
"Band_1"
],
"allowCopy": true,
"allowAnalysis": true,
"bandCount": 1,
"noDataValue": 256,
"noDataValues": [
256
],
"pixelType": "U16",
"minPixelSize": 0,
"maxPixelSize": 0,
"copyrightText": "Map, Data & GIS Library, Brock University.",
"serviceDataType": "esriImageServiceDataTypeGeneric",
"serviceSourceType": "esriImageServiceSourceTypeDataset",
"minValues": [
0
],
"maxValues": [
255
],
"meanValues": [
209.10885565578
],
"stdvValues": [
46.998903506272
],
"objectIdField": "",
"fields": [],
"capabilities": "Mensuration,Image,Metadata",
"defaultMosaicMethod": "Center",
"allowedMosaicMethods": "",
"sortField": "",
"sortValue": null,
"sortAscending": true,
"mosaicOperator": "First",
"defaultCompressionQuality": 75,
"defaultResamplingMethod": "Bilinear",
"maxImageHeight": 4100,
"maxImageWidth": 15000,
"allowRasterFunction": true,
"rasterFunctionInfos": [
{
"name": "None",
"description": "",
"help": ""
}
],
"rasterTypeInfos": [
{
"name": "Raster Dataset",
"description": "Supports all ArcGIS Raster Datasets",
"help": ""
}
],
"mensurationCapabilities": "Basic",
"hasHistograms": true,
"hasColormap": false,
"hasRasterAttributeTable": false,
"minScale": 0,
"maxScale": 0,
"exportTilesAllowed": false,
"supportsStatistics": false,
"supportsAdvancedQueries": false,
"editFieldsInfo": null,
"ownershipBasedAccessControlForRasters": null,
"allowComputeTiePoints": false,
"useStandardizedQueries": true,
"advancedQueryCapabilities": {
"useStandardizedQueries": true,
"supportsStatistics": false,
"supportsOrderBy": false,
"supportsDistinct": false,
"supportsPagination": false
},
"spatialReference": {
"wkid": 26717,
"latestWkid": 26717
}
}