{ "currentVersion": 10.91, "serviceDescription": "
Historical map showing cleared land, woods, marshes, churches & meeting houses, stone or brick houses, wooded houses, forges, Great Western Railway, Hamilton & Port Dover Railway. unfinished, roads, buildings, legend.<\/SPAN><\/P> Relief shown by shading.<\/SPAN><\/P> Scale [ca. 1:63,360].<\/SPAN><\/P> Map date: 1863<\/SPAN><\/P> Digital reproduction of map in the Public Archives of Canada. National Map Collection. Library and Archives Canada.<\/SPAN><\/P> Georeferenced and modified from NMC Map number 21066 by Map, Data and GIS Library, Brock University. <\/SPAN><\/P><\/DIV><\/DIV><\/DIV>",
"name": "EarlyNiagara/HamiltonPortDalhousie1863NMC21066",
"description": " Historical map showing cleared land, woods, marshes, churches & meeting houses, stone or brick houses, wooded houses, forges, Great Western Railway, Hamilton & Port Dover Railway. unfinished, roads, buildings, legend.<\/SPAN><\/P> Relief shown by shading.<\/SPAN><\/P> Scale [ca. 1:63,360].<\/SPAN><\/P> Map date: 1863<\/SPAN><\/P> Digital reproduction of map in the Public Archives of Canada. National Map Collection. Library and Archives Canada.<\/SPAN><\/P> Georeferenced and modified from NMC Map number 21066 by Map, Data and GIS Library, Brock University. <\/SPAN><\/P><\/DIV><\/DIV><\/DIV>",
"extent": {
"xmin": -8902564.153658545,
"ymin": 5310158.735095919,
"xmax": -8816177.537201544,
"ymax": 5356935.767587919,
"spatialReference": {
"wkid": 102100,
"latestWkid": 3857
}
},
"initialExtent": {
"xmin": -8902564.153658545,
"ymin": 5310158.735095919,
"xmax": -8816177.537201544,
"ymax": 5356935.767587919,
"spatialReference": {
"wkid": 102100,
"latestWkid": 3857
}
},
"fullExtent": {
"xmin": -8902564.153658545,
"ymin": 5310158.735095919,
"xmax": -8816177.537201544,
"ymax": 5356935.767587919,
"spatialReference": {
"wkid": 102100,
"latestWkid": 3857
}
},
"hasMultidimensions": false,
"pixelSizeX": 12.168843000000052,
"pixelSizeY": 12.168842999999915,
"datasetFormat": "TIFF",
"uncompressedSize": 54577112,
"blockWidth": 128,
"blockHeight": 128,
"compressionType": "None",
"bandNames": [
"Band_1"
],
"allowCopy": true,
"allowAnalysis": true,
"bandCount": 1,
"noDataValue": 256,
"noDataValues": [
256
],
"pixelType": "U16",
"minPixelSize": 0,
"maxPixelSize": 0,
"copyrightText": "Signed: Henry Malet\nMap, Data & GIS Library, Brock University.",
"serviceDataType": "esriImageServiceDataTypeGeneric",
"serviceSourceType": "esriImageServiceSourceTypeDataset",
"minValues": [],
"maxValues": [],
"meanValues": [],
"stdvValues": [],
"objectIdField": "",
"fields": [],
"capabilities": "Image,Metadata,Mensuration",
"defaultMosaicMethod": "Center",
"allowedMosaicMethods": "",
"sortField": "",
"sortValue": null,
"sortAscending": true,
"mosaicOperator": "First",
"defaultCompressionQuality": 75,
"defaultResamplingMethod": "Bilinear",
"maxImageHeight": 4100,
"maxImageWidth": 15000,
"allowRasterFunction": true,
"rasterFunctionInfos": [
{
"name": "None",
"description": "",
"help": ""
}
],
"rasterTypeInfos": [
{
"name": "Raster Dataset",
"description": "Supports all ArcGIS Raster Datasets",
"help": ""
}
],
"mensurationCapabilities": "Basic",
"hasHistograms": false,
"hasColormap": false,
"hasRasterAttributeTable": false,
"minScale": 0,
"maxScale": 0,
"exportTilesAllowed": false,
"supportsStatistics": false,
"supportsAdvancedQueries": false,
"editFieldsInfo": null,
"ownershipBasedAccessControlForRasters": null,
"allowComputeTiePoints": false,
"useStandardizedQueries": true,
"advancedQueryCapabilities": {
"useStandardizedQueries": true,
"supportsStatistics": false,
"supportsOrderBy": false,
"supportsDistinct": false,
"supportsPagination": false
},
"spatialReference": {
"wkid": 102100,
"latestWkid": 3857
}
}