{ "currentVersion": 10.91, "serviceDescription": "
Historical map showing hydrological features of Lake Ontario. Includes lighthouses.<\/SPAN><\/P> Includes insets: Port Ontario -- Pickering, or Liverpool -- Cobourg -- Port Hope -- Port of Oshawa -- Burlington Bay Canal -- Mouth of Niagara River --Toronto Harbour -- Port of Oakville -- Port Dalhousie -- Port Darlington -- Whitby Harbour -- Presqu'Isle Harbour -- Sackett's Harbour, -- Oswego Harbour -- Port of Genesee -- Big Sodus Bay -- Little Sodus Bay -- Kingston Harbour.<\/SPAN><\/P> Scale [ca. 1:364,566] or 1 inch to 5 nautical miles.<\/SPAN><\/P> Map date: 1863<\/SPAN><\/P> Digital reproduction of map (60 x 86 cm.) in the Public Archives of Canada. National Map Collection. Library and Archives Canada.<\/SPAN><\/P> Georeferenced and modified from NMC Map number 18910 by Map, Data and GIS Library, Brock University. <\/SPAN><\/P> <\/P><\/DIV><\/DIV><\/DIV>",
"name": "EarlyNiagara/LakeOntario1863NMC18910",
"description": " Historical map showing hydrological features of Lake Ontario. Includes lighthouses.<\/SPAN><\/P> Includes insets: Port Ontario -- Pickering, or Liverpool -- Cobourg -- Port Hope -- Port of Oshawa -- Burlington Bay Canal -- Mouth of Niagara River --Toronto Harbour -- Port of Oakville -- Port Dalhousie -- Port Darlington -- Whitby Harbour -- Presqu'Isle Harbour -- Sackett's Harbour, -- Oswego Harbour -- Port of Genesee -- Big Sodus Bay -- Little Sodus Bay -- Kingston Harbour.<\/SPAN><\/P> Scale [ca. 1:364,566] or 1 inch to 5 nautical miles.<\/SPAN><\/P> Map date: 1863<\/SPAN><\/P> Digital reproduction of map (60 x 86 cm.) in the Public Archives of Canada. National Map Collection. Library and Archives Canada.<\/SPAN><\/P> Georeferenced and modified from NMC Map number 18910 by Map, Data and GIS Library, Brock University. <\/SPAN><\/P> <\/P><\/DIV><\/DIV><\/DIV>",
"extent": {
"xmin": 564237.0822798713,
"ymin": 4749358.557979554,
"xmax": 928237.5071118714,
"ymax": 5000705.811499554,
"spatialReference": {
"wkid": 26917,
"latestWkid": 26917
}
},
"initialExtent": {
"xmin": 564237.0822798713,
"ymin": 4749358.557979554,
"xmax": 928237.5071118714,
"ymax": 5000705.811499554,
"spatialReference": {
"wkid": 26917,
"latestWkid": 26917
}
},
"fullExtent": {
"xmin": 564237.0822798713,
"ymin": 4749358.557979554,
"xmax": 928237.5071118714,
"ymax": 5000705.811499554,
"spatialReference": {
"wkid": 26917,
"latestWkid": 26917
}
},
"hasMultidimensions": false,
"pixelSizeX": 47.693976000000006,
"pixelSizeY": 47.693975999999964,
"datasetFormat": "TIFF",
"uncompressedSize": 80441280,
"blockWidth": 128,
"blockHeight": 128,
"compressionType": "None",
"bandNames": [
"Band_1"
],
"allowCopy": true,
"allowAnalysis": true,
"bandCount": 1,
"noDataValue": 256,
"noDataValues": [
256
],
"pixelType": "U16",
"minPixelSize": 0,
"maxPixelSize": 0,
"copyrightText": "Compiled from surveys made by Capt. Owen & Lieut. Herbert, R.N. and Capt. A. Ford\nSurveyed by Edward M. Hodder\nPublisher: W. C. Chewett & Co.\nMap, Data & GIS Library, Brock University.",
"serviceDataType": "esriImageServiceDataTypeGeneric",
"serviceSourceType": "esriImageServiceSourceTypeDataset",
"minValues": [
17
],
"maxValues": [
255
],
"meanValues": [
176.38996663565
],
"stdvValues": [
43.319714002498
],
"objectIdField": "",
"fields": [],
"capabilities": "Image,Metadata,Mensuration",
"defaultMosaicMethod": "Center",
"allowedMosaicMethods": "",
"sortField": "",
"sortValue": null,
"sortAscending": true,
"mosaicOperator": "First",
"defaultCompressionQuality": 75,
"defaultResamplingMethod": "Bilinear",
"maxImageHeight": 4100,
"maxImageWidth": 15000,
"allowRasterFunction": true,
"rasterFunctionInfos": [
{
"name": "None",
"description": "",
"help": ""
}
],
"rasterTypeInfos": [
{
"name": "Raster Dataset",
"description": "Supports all ArcGIS Raster Datasets",
"help": ""
}
],
"mensurationCapabilities": "Basic",
"hasHistograms": true,
"hasColormap": false,
"hasRasterAttributeTable": false,
"minScale": 0,
"maxScale": 0,
"exportTilesAllowed": false,
"supportsStatistics": false,
"supportsAdvancedQueries": false,
"editFieldsInfo": null,
"ownershipBasedAccessControlForRasters": null,
"allowComputeTiePoints": false,
"useStandardizedQueries": true,
"advancedQueryCapabilities": {
"useStandardizedQueries": true,
"supportsStatistics": false,
"supportsOrderBy": false,
"supportsDistinct": false,
"supportsPagination": false
},
"spatialReference": {
"wkid": 26917,
"latestWkid": 26917
}
}