{ "currentVersion": 10.91, "serviceDescription": "
Map showing waters of Lake Iroquois (shoreline, depths) and retreating ice sheet (Late Wisconsin), morainic hills, gravel bar ; all mapped on a topographic base maps of Ontario and New York, legend. Depths shown by isolines. At head of title: Map no. 45f.<\/span><\/p><\/div><\/div>",
"name": "EarlyNiagara/Lake_Iroquois_1936_geo_tif",
"description": " Map showing waters of Lake Iroquois (shoreline, depths) and retreating ice sheet (Late Wisconsin), morainic hills, gravel bar ; all mapped on a topographic base maps of Ontario and New York, legend. Depths shown by isolines. At head of title: Map no. 45f.<\/span><\/p><\/div><\/div>",
"extent": {
"xmin": 568991.2640875321,
"ymin": 4747644.710457759,
"xmax": 957793.3110471673,
"ymax": 4985363.444266702,
"spatialReference": {
"wkid": 26917,
"latestWkid": 26917
}
},
"initialExtent": {
"xmin": 568991.2640875321,
"ymin": 4747644.710457759,
"xmax": 957793.3110471673,
"ymax": 4985363.444266702,
"spatialReference": {
"wkid": 26917,
"latestWkid": 26917
}
},
"fullExtent": {
"xmin": 568991.2640875321,
"ymin": 4747644.710457759,
"xmax": 957793.3110471673,
"ymax": 4985363.444266702,
"spatialReference": {
"wkid": 26917,
"latestWkid": 26917
}
},
"hasMultidimensions": false,
"pixelSizeX": 27.78546751658938,
"pixelSizeY": 29.733425116815894,
"datasetFormat": "TIFF",
"uncompressedSize": 335622105,
"blockWidth": 13993,
"blockHeight": 6,
"compressionType": "LZW",
"bandNames": [
"Band_1",
"Band_2",
"Band_3"
],
"allowCopy": true,
"allowAnalysis": true,
"bandCount": 3,
"pixelType": "U8",
"minPixelSize": 0,
"maxPixelSize": 0,
"copyrightText": "Brock University Map, Data & GIS Library",
"serviceDataType": "esriImageServiceDataTypeRGB",
"serviceSourceType": "esriImageServiceSourceTypeDataset",
"minValues": [
0,
0,
0
],
"maxValues": [
255,
255,
255
],
"meanValues": [
183.15909349296,
198.86808297383,
192.52229052966
],
"stdvValues": [
56.531679031421,
56.151569926249,
59.249998764732
],
"objectIdField": "",
"fields": [],
"capabilities": "Mensuration,Image,Metadata",
"defaultMosaicMethod": "Center",
"allowedMosaicMethods": "",
"sortField": "",
"sortValue": null,
"sortAscending": true,
"mosaicOperator": "First",
"defaultCompressionQuality": 75,
"defaultResamplingMethod": "Bilinear",
"maxImageHeight": 4100,
"maxImageWidth": 15000,
"allowRasterFunction": true,
"rasterFunctionInfos": [
{
"name": "None",
"description": "",
"help": ""
}
],
"rasterTypeInfos": [
{
"name": "Raster Dataset",
"description": "Supports all ArcGIS Raster Datasets",
"help": ""
}
],
"mensurationCapabilities": "Basic",
"hasHistograms": true,
"hasColormap": false,
"hasRasterAttributeTable": false,
"minScale": 0,
"maxScale": 0,
"exportTilesAllowed": false,
"supportsStatistics": false,
"supportsAdvancedQueries": false,
"editFieldsInfo": null,
"ownershipBasedAccessControlForRasters": null,
"allowComputeTiePoints": false,
"useStandardizedQueries": true,
"advancedQueryCapabilities": {
"useStandardizedQueries": true,
"supportsStatistics": false,
"supportsOrderBy": false,
"supportsDistinct": false,
"supportsPagination": false
},
"spatialReference": {
"wkid": 26917,
"latestWkid": 26917
}
}