{ "currentVersion": 10.91, "serviceDescription": "
Historical map showing county roads, King's highways, town boundaries, railroads, line of second and third Welland Canal, lot and concession numbers, legend. \"Drawn by K.G. Gould, Sept. 4th, 1956.\"--in bottom right corner. Blue print.<\/span><\/p><\/div><\/div><\/div>",
"name": "EarlyNiagara/Lincoln1968",
"description": " Historical map showing county roads, King's highways, town boundaries, railroads, line of second and third Welland Canal, lot and concession numbers, legend. \"Drawn by K.G. Gould, Sept. 4th, 1956.\"--in bottom right corner. Blue print.<\/span><\/p><\/div><\/div><\/div>",
"extent": {
"xmin": -8884169.157332245,
"ymin": 5297306.172065296,
"xmax": -8791573.590476245,
"ymax": 5356108.848834296,
"spatialReference": {
"wkid": 102100,
"latestWkid": 3857
}
},
"initialExtent": {
"xmin": -8884169.157332245,
"ymin": 5297306.172065296,
"xmax": -8791573.590476245,
"ymax": 5356108.848834296,
"spatialReference": {
"wkid": 102100,
"latestWkid": 3857
}
},
"fullExtent": {
"xmin": -8884169.157332245,
"ymin": 5297306.172065296,
"xmax": -8791573.590476245,
"ymax": 5356108.848834296,
"spatialReference": {
"wkid": 102100,
"latestWkid": 3857
}
},
"hasMultidimensions": false,
"pixelSizeX": 8.02109900000005,
"pixelSizeY": 8.021098999999937,
"datasetFormat": "TIFF",
"uncompressedSize": 507774384,
"blockWidth": 128,
"blockHeight": 128,
"compressionType": "LZW",
"bandNames": [
"Band_1",
"Band_2",
"Band_3"
],
"allowCopy": true,
"allowAnalysis": true,
"bandCount": 3,
"noDataValue": 256,
"noDataValues": [
256,
256,
256
],
"pixelType": "U16",
"minPixelSize": 0,
"maxPixelSize": 0,
"copyrightText": "Brock University Map, Data & GIS Library",
"serviceDataType": "esriImageServiceDataTypeGeneric",
"serviceSourceType": "esriImageServiceSourceTypeDataset",
"minValues": [
0,
0,
0
],
"maxValues": [
255,
255,
255
],
"meanValues": [
221.64590149109,
221.28266314682,
211.86264061079
],
"stdvValues": [
52.717476442553,
50.928324359377,
49.316888049447
],
"objectIdField": "",
"fields": [],
"capabilities": "Mensuration,Image,Metadata",
"defaultMosaicMethod": "Center",
"allowedMosaicMethods": "",
"sortField": "",
"sortValue": null,
"sortAscending": true,
"mosaicOperator": "First",
"defaultCompressionQuality": 75,
"defaultResamplingMethod": "Bilinear",
"maxImageHeight": 4100,
"maxImageWidth": 15000,
"allowRasterFunction": true,
"rasterFunctionInfos": [
{
"name": "None",
"description": "",
"help": ""
}
],
"rasterTypeInfos": [
{
"name": "Raster Dataset",
"description": "Supports all ArcGIS Raster Datasets",
"help": ""
}
],
"mensurationCapabilities": "Basic",
"hasHistograms": true,
"hasColormap": false,
"hasRasterAttributeTable": false,
"minScale": 0,
"maxScale": 0,
"exportTilesAllowed": false,
"supportsStatistics": false,
"supportsAdvancedQueries": false,
"editFieldsInfo": null,
"ownershipBasedAccessControlForRasters": null,
"allowComputeTiePoints": false,
"useStandardizedQueries": true,
"advancedQueryCapabilities": {
"useStandardizedQueries": true,
"supportsStatistics": false,
"supportsOrderBy": false,
"supportsDistinct": false,
"supportsPagination": false
},
"spatialReference": {
"wkid": 102100,
"latestWkid": 3857
}
}