{ "currentVersion": 10.91, "serviceDescription": "
Historical map showing county roads, King's highways, towns, line of second and third Welland Canal, lot and concession numbers, legend. Photocopy.<\/span><\/p><\/div><\/div><\/div>",
"name": "EarlyNiagara/LincolnCounty1918",
"description": " Historical map showing county roads, King's highways, towns, line of second and third Welland Canal, lot and concession numbers, legend. Photocopy.<\/span><\/p><\/div><\/div><\/div>",
"extent": {
"xmin": 600134.7596044097,
"ymin": 4758936.002078951,
"xmax": 661146.2893008792,
"ymax": 4794924.611292123,
"spatialReference": {
"wkid": 26917,
"latestWkid": 26917
}
},
"initialExtent": {
"xmin": 600134.7596044097,
"ymin": 4758936.002078951,
"xmax": 661146.2893008792,
"ymax": 4794924.611292123,
"spatialReference": {
"wkid": 26917,
"latestWkid": 26917
}
},
"fullExtent": {
"xmin": 600134.7596044097,
"ymin": 4758936.002078951,
"xmax": 661146.2893008792,
"ymax": 4794924.611292123,
"spatialReference": {
"wkid": 26917,
"latestWkid": 26917
}
},
"hasMultidimensions": false,
"pixelSizeX": 6.093840361213498,
"pixelSizeY": 6.319334365789557,
"datasetFormat": "TIFF",
"uncompressedSize": 57018340,
"blockWidth": 10012,
"blockHeight": 26,
"compressionType": "LZW",
"bandNames": [
"Band_1"
],
"allowCopy": true,
"allowAnalysis": true,
"bandCount": 1,
"pixelType": "U8",
"minPixelSize": 0,
"maxPixelSize": 0,
"copyrightText": "Brock University Map, Data & GIS Library",
"serviceDataType": "esriImageServiceDataTypeGeneric",
"serviceSourceType": "esriImageServiceSourceTypeDataset",
"minValues": [
0
],
"maxValues": [
255
],
"meanValues": [
221.51511050654
],
"stdvValues": [
47.228658458462
],
"objectIdField": "",
"fields": [],
"capabilities": "Mensuration,Image,Metadata",
"defaultMosaicMethod": "Center",
"allowedMosaicMethods": "",
"sortField": "",
"sortValue": null,
"sortAscending": true,
"mosaicOperator": "First",
"defaultCompressionQuality": 75,
"defaultResamplingMethod": "Bilinear",
"maxImageHeight": 4100,
"maxImageWidth": 15000,
"allowRasterFunction": true,
"rasterFunctionInfos": [
{
"name": "None",
"description": "",
"help": ""
}
],
"rasterTypeInfos": [
{
"name": "Raster Dataset",
"description": "Supports all ArcGIS Raster Datasets",
"help": ""
}
],
"mensurationCapabilities": "Basic",
"hasHistograms": true,
"hasColormap": false,
"hasRasterAttributeTable": false,
"minScale": 0,
"maxScale": 0,
"exportTilesAllowed": false,
"supportsStatistics": false,
"supportsAdvancedQueries": false,
"editFieldsInfo": null,
"ownershipBasedAccessControlForRasters": null,
"allowComputeTiePoints": false,
"useStandardizedQueries": true,
"advancedQueryCapabilities": {
"useStandardizedQueries": true,
"supportsStatistics": false,
"supportsOrderBy": false,
"supportsDistinct": false,
"supportsPagination": false
},
"spatialReference": {
"wkid": 26917,
"latestWkid": 26917
}
}