{
 "currentVersion": 10.91,
 "serviceDescription": "<div style='text-align:Left;'><div><p><span>Historical map showing county roads, King's highways, town boundaries, railroads, line of second and third Welland Canal, lot and concession numbers, legend. \"Drawn by K.G. Gould, Sept. 4th, 1956.\"--in bottom right corner. Blue print.<\/span><\/p><\/div><\/div>",
 "name": "EarlyNiagara/LincolnCounty1956",
 "description": "<div style='text-align:Left;'><div><p><span>Historical map showing county roads, King's highways, town boundaries, railroads, line of second and third Welland Canal, lot and concession numbers, legend. \"Drawn by K.G. Gould, Sept. 4th, 1956.\"--in bottom right corner. Blue print.<\/span><\/p><\/div><\/div>",
 "extent": {
  "xmin": 594642.0882704819,
  "ymin": 4753364.70250814,
  "xmax": 666636.530614173,
  "ymax": 4797833.572103999,
  "spatialReference": {
   "wkid": 26917,
   "latestWkid": 26917
  }
 },
 "initialExtent": {
  "xmin": 594642.0882704819,
  "ymin": 4753364.70250814,
  "xmax": 666636.530614173,
  "ymax": 4797833.572103999,
  "spatialReference": {
   "wkid": 26917,
   "latestWkid": 26917
  }
 },
 "fullExtent": {
  "xmin": 594642.0882704819,
  "ymin": 4753364.70250814,
  "xmax": 666636.530614173,
  "ymax": 4797833.572103999,
  "spatialReference": {
   "wkid": 26917,
   "latestWkid": 26917
  }
 },
 "hasMultidimensions": false,
 "pixelSizeX": 4.146906419197692,
 "pixelSizeY": 4.2721557878622605,
 "datasetFormat": "TIFF",
 "uncompressedSize": 180710649,
 "blockWidth": 17361,
 "blockHeight": 60,
 "compressionType": "JPEG",
 "bandNames": [
  "Band_1"
 ],
 "allowCopy": true,
 "allowAnalysis": true,
 "bandCount": 1,
 "pixelType": "U8",
 "minPixelSize": 0,
 "maxPixelSize": 0,
 "copyrightText": "Brock University Map, Data & GIS Library",
 "serviceDataType": "esriImageServiceDataTypeGeneric",
 "serviceSourceType": "esriImageServiceSourceTypeDataset",
 "minValues": [
  0
 ],
 "maxValues": [
  255
 ],
 "meanValues": [
  231.23020927788
 ],
 "stdvValues": [
  54.976911260176
 ],
 "objectIdField": "",
 "fields": [],
 "capabilities": "Mensuration,Image,Metadata",
 "defaultMosaicMethod": "Center",
 "allowedMosaicMethods": "",
 "sortField": "",
 "sortValue": null,
 "sortAscending": true,
 "mosaicOperator": "First",
 "defaultCompressionQuality": 75,
 "defaultResamplingMethod": "Bilinear",
 "maxImageHeight": 4100,
 "maxImageWidth": 15000,
 "allowRasterFunction": true,
 "rasterFunctionInfos": [
  {
   "name": "None",
   "description": "",
   "help": ""
  }
 ],
 "rasterTypeInfos": [
  {
   "name": "Raster Dataset",
   "description": "Supports all ArcGIS Raster Datasets",
   "help": ""
  }
 ],
 "mensurationCapabilities": "Basic",
 "hasHistograms": true,
 "hasColormap": false,
 "hasRasterAttributeTable": false,
 "minScale": 0,
 "maxScale": 0,
 "exportTilesAllowed": false,
 "supportsStatistics": false,
 "supportsAdvancedQueries": false,
 "editFieldsInfo": null,
 "ownershipBasedAccessControlForRasters": null,
 "allowComputeTiePoints": false,
 "useStandardizedQueries": true,
 "advancedQueryCapabilities": {
  "useStandardizedQueries": true,
  "supportsStatistics": false,
  "supportsOrderBy": false,
  "supportsDistinct": false,
  "supportsPagination": false
 },
 "spatialReference": {
  "wkid": 26917,
  "latestWkid": 26917
 }
}
