{ "currentVersion": 10.91, "serviceDescription": "
Map showing boundary, road and transportation features, townships, lots and concessions, populated areas, leagend.<\/span><\/p><\/div><\/div>",
"name": "EarlyNiagara/LincolnCounty1967",
"description": " Map showing boundary, road and transportation features, townships, lots and concessions, populated areas, leagend.<\/span><\/p><\/div><\/div>",
"extent": {
"xmin": 597358.5912553251,
"ymin": 4742990.74088895,
"xmax": 672057.0172444353,
"ymax": 4792554.891683547,
"spatialReference": {
"wkid": 26917,
"latestWkid": 26917
}
},
"initialExtent": {
"xmin": 597358.5912553251,
"ymin": 4742990.74088895,
"xmax": 672057.0172444353,
"ymax": 4792554.891683547,
"spatialReference": {
"wkid": 26917,
"latestWkid": 26917
}
},
"fullExtent": {
"xmin": 597358.5912553251,
"ymin": 4742990.74088895,
"xmax": 672057.0172444353,
"ymax": 4792554.891683547,
"spatialReference": {
"wkid": 26917,
"latestWkid": 26917
}
},
"hasMultidimensions": false,
"pixelSizeX": 3.951461383258048,
"pixelSizeY": 4.054658932804026,
"datasetFormat": "TIFF",
"uncompressedSize": 231082496,
"blockWidth": 18904,
"blockHeight": 55,
"compressionType": "JPEG",
"bandNames": [
"Band_1"
],
"allowCopy": true,
"allowAnalysis": true,
"bandCount": 1,
"pixelType": "U8",
"minPixelSize": 0,
"maxPixelSize": 0,
"copyrightText": "Brock University Map, Data & GIS Library",
"serviceDataType": "esriImageServiceDataTypeGeneric",
"serviceSourceType": "esriImageServiceSourceTypeDataset",
"minValues": [
0
],
"maxValues": [
255
],
"meanValues": [
230.56697875109
],
"stdvValues": [
47.579194867779
],
"objectIdField": "",
"fields": [],
"capabilities": "Mensuration,Image,Metadata",
"defaultMosaicMethod": "Center",
"allowedMosaicMethods": "",
"sortField": "",
"sortValue": null,
"sortAscending": true,
"mosaicOperator": "First",
"defaultCompressionQuality": 75,
"defaultResamplingMethod": "Bilinear",
"maxImageHeight": 4100,
"maxImageWidth": 15000,
"allowRasterFunction": true,
"rasterFunctionInfos": [
{
"name": "None",
"description": "",
"help": ""
}
],
"rasterTypeInfos": [
{
"name": "Raster Dataset",
"description": "Supports all ArcGIS Raster Datasets",
"help": ""
}
],
"mensurationCapabilities": "Basic",
"hasHistograms": true,
"hasColormap": false,
"hasRasterAttributeTable": false,
"minScale": 0,
"maxScale": 0,
"exportTilesAllowed": false,
"supportsStatistics": false,
"supportsAdvancedQueries": false,
"editFieldsInfo": null,
"ownershipBasedAccessControlForRasters": null,
"allowComputeTiePoints": false,
"useStandardizedQueries": true,
"advancedQueryCapabilities": {
"useStandardizedQueries": true,
"supportsStatistics": false,
"supportsOrderBy": false,
"supportsDistinct": false,
"supportsPagination": false
},
"spatialReference": {
"wkid": 26917,
"latestWkid": 26917
}
}